BEGIN:VCALENDAR
VERSION:2.0
PRODID:-//The Children&#039;s School - ECPv6.15.15//NONSGML v1.0//EN
CALSCALE:GREGORIAN
METHOD:PUBLISH
X-WR-CALNAME:The Children&#039;s School
X-ORIGINAL-URL:https://www.tcsatl.org
X-WR-CALDESC:Events for The Children&#039;s School
REFRESH-INTERVAL;VALUE=DURATION:PT1H
X-Robots-Tag:noindex
X-PUBLISHED-TTL:PT1H
BEGIN:VTIMEZONE
TZID:America/New_York
BEGIN:DAYLIGHT
TZOFFSETFROM:-0500
TZOFFSETTO:-0400
TZNAME:EDT
DTSTART:20210314T070000
END:DAYLIGHT
BEGIN:STANDARD
TZOFFSETFROM:-0400
TZOFFSETTO:-0500
TZNAME:EST
DTSTART:20211107T060000
END:STANDARD
BEGIN:DAYLIGHT
TZOFFSETFROM:-0500
TZOFFSETTO:-0400
TZNAME:EDT
DTSTART:20220313T070000
END:DAYLIGHT
BEGIN:STANDARD
TZOFFSETFROM:-0400
TZOFFSETTO:-0500
TZNAME:EST
DTSTART:20221106T060000
END:STANDARD
BEGIN:DAYLIGHT
TZOFFSETFROM:-0500
TZOFFSETTO:-0400
TZNAME:EDT
DTSTART:20230312T070000
END:DAYLIGHT
BEGIN:STANDARD
TZOFFSETFROM:-0400
TZOFFSETTO:-0500
TZNAME:EST
DTSTART:20231105T060000
END:STANDARD
BEGIN:DAYLIGHT
TZOFFSETFROM:-0500
TZOFFSETTO:-0400
TZNAME:EDT
DTSTART:20240310T070000
END:DAYLIGHT
BEGIN:STANDARD
TZOFFSETFROM:-0400
TZOFFSETTO:-0500
TZNAME:EST
DTSTART:20241103T060000
END:STANDARD
END:VTIMEZONE
BEGIN:VEVENT
DTSTART;TZID=America/New_York:20230911T160000
DTEND;TZID=America/New_York:20230911T180000
DTSTAMP:20260422T073058
CREATED:20230830T214500Z
LAST-MODIFIED:20230905T214529Z
UID:10010542-1694448000-1694455200@www.tcsatl.org
SUMMARY:AWAY GAME - MAAC Girls Volleyball vs Heritage Prep
DESCRIPTION:
URL:https://www.tcsatl.org/event/away-game-maac-girls-volleyball-vs-heritage-prep/
LOCATION:Heritage Preparatory School\, 1700 Piedmont Ave NE\, Atlanta\, GA 30324\, USA\, 500 Piedmont Ave NE\, Atlanta\, GA\, United States
GEO:33.799884;-84.370708
X-APPLE-STRUCTURED-LOCATION;VALUE=URI;X-ADDRESS=Heritage Preparatory School 1700 Piedmont Ave NE Atlanta GA 30324 USA 500 Piedmont Ave NE Atlanta GA United States;X-APPLE-RADIUS=500;X-TITLE=500 Piedmont Ave NE:geo:-84.370708,33.799884
END:VEVENT
BEGIN:VEVENT
DTSTART;TZID=America/New_York:20221115T154500
DTEND;TZID=America/New_York:20221115T180000
DTSTAMP:20260422T073058
CREATED:20221107T191253Z
LAST-MODIFIED:20221115T191956Z
UID:10009666-1668527100-1668535200@www.tcsatl.org
SUMMARY:MAAC Girls Basketball Game vs Heritage Prep - Heritage Prep - 1 BUS
DESCRIPTION:
URL:https://www.tcsatl.org/event/maac-girls-basketball-game-vs-heritage-prep-heritage-prep-1-bus/
LOCATION:Heritage Preparatory School\, 1700 Piedmont Ave NE\, Atlanta\, GA 30324\, USA\, 500 Piedmont Ave NE\, Atlanta\, GA\, United States
GEO:33.799884;-84.370708
X-APPLE-STRUCTURED-LOCATION;VALUE=URI;X-ADDRESS=Heritage Preparatory School 1700 Piedmont Ave NE Atlanta GA 30324 USA 500 Piedmont Ave NE Atlanta GA United States;X-APPLE-RADIUS=500;X-TITLE=500 Piedmont Ave NE:geo:-84.370708,33.799884
END:VEVENT
BEGIN:VEVENT
DTSTART;TZID=America/New_York:20221115T154500
DTEND;TZID=America/New_York:20221115T180000
DTSTAMP:20260422T073058
CREATED:20221107T191253Z
LAST-MODIFIED:20221107T191253Z
UID:10009667-1668527100-1668535200@www.tcsatl.org
SUMMARY:MAAC Girls Basketball Game vs Heritage Prep - Heritage Prep - 1 BUS
DESCRIPTION:
URL:https://www.tcsatl.org/event/maac-girls-basketball-game-vs-heritage-prep-heritage-prep-1-bus-2/
LOCATION:Heritage Preparatory School\, 1700 Piedmont Ave NE\, Atlanta\, GA 30324\, USA\, 500 Piedmont Ave NE\, Atlanta\, GA\, United States
GEO:33.799884;-84.370708
X-APPLE-STRUCTURED-LOCATION;VALUE=URI;X-ADDRESS=Heritage Preparatory School 1700 Piedmont Ave NE Atlanta GA 30324 USA 500 Piedmont Ave NE Atlanta GA United States;X-APPLE-RADIUS=500;X-TITLE=500 Piedmont Ave NE:geo:-84.370708,33.799884
END:VEVENT
END:VCALENDAR