BEGIN:VCALENDAR
VERSION:2.0
PRODID:-//The Children&#039;s School - ECPv6.15.15//NONSGML v1.0//EN
CALSCALE:GREGORIAN
METHOD:PUBLISH
X-ORIGINAL-URL:https://www.tcsatl.org
X-WR-CALDESC:Events for The Children&#039;s School
REFRESH-INTERVAL;VALUE=DURATION:PT1H
X-Robots-Tag:noindex
X-PUBLISHED-TTL:PT1H
BEGIN:VTIMEZONE
TZID:America/New_York
BEGIN:DAYLIGHT
TZOFFSETFROM:-0500
TZOFFSETTO:-0400
TZNAME:EDT
DTSTART:20230312T070000
END:DAYLIGHT
BEGIN:STANDARD
TZOFFSETFROM:-0400
TZOFFSETTO:-0500
TZNAME:EST
DTSTART:20231105T060000
END:STANDARD
BEGIN:DAYLIGHT
TZOFFSETFROM:-0500
TZOFFSETTO:-0400
TZNAME:EDT
DTSTART:20240310T070000
END:DAYLIGHT
BEGIN:STANDARD
TZOFFSETFROM:-0400
TZOFFSETTO:-0500
TZNAME:EST
DTSTART:20241103T060000
END:STANDARD
BEGIN:DAYLIGHT
TZOFFSETFROM:-0500
TZOFFSETTO:-0400
TZNAME:EDT
DTSTART:20250309T070000
END:DAYLIGHT
BEGIN:STANDARD
TZOFFSETFROM:-0400
TZOFFSETTO:-0500
TZNAME:EST
DTSTART:20251102T060000
END:STANDARD
END:VTIMEZONE
BEGIN:VEVENT
DTSTART;TZID=America/New_York:20240920T120000
DTEND;TZID=America/New_York:20240920T130000
DTSTAMP:20260421T214531
CREATED:20240904T175939Z
LAST-MODIFIED:20240920T135222Z
UID:10011340-1726833600-1726837200@www.tcsatl.org
SUMMARY:Cultural Cuisine Explorers Club Lunch
DESCRIPTION:Join the PA for the first Cultural Cuisine Explorers Club Lunch on Fri.\, Sept. 20\, 12:00 p.m. – 1:00 p.m. for a sensory exploration to learn more about the different cultures and cuisines in our city. \nThe club’s first stop is Desta Ethiopian Kitchen (3086 Briarcliff Road Northeast\, Atlanta\, GA 30329) \nHope to see you there!
URL:https://www.tcsatl.org/event/cultural-cuisine-explorers-club-lunch/
LOCATION:Desta Ethiopian Kitchen\, 3086 Briarcliff Rd NE\, Atlanta\, GA\, United States
GEO:33.837576;-84.311702
X-APPLE-STRUCTURED-LOCATION;VALUE=URI;X-ADDRESS=Desta Ethiopian Kitchen 3086 Briarcliff Rd NE Atlanta GA United States;X-APPLE-RADIUS=500;X-TITLE=3086 Briarcliff Rd NE:geo:-84.311702,33.837576
END:VEVENT
END:VCALENDAR