BEGIN:VCALENDAR
VERSION:2.0
PRODID:-//The Children&#039;s School - ECPv6.15.15//NONSGML v1.0//EN
CALSCALE:GREGORIAN
METHOD:PUBLISH
X-ORIGINAL-URL:https://www.tcsatl.org
X-WR-CALDESC:Events for The Children&#039;s School
REFRESH-INTERVAL;VALUE=DURATION:PT1H
X-Robots-Tag:noindex
X-PUBLISHED-TTL:PT1H
BEGIN:VTIMEZONE
TZID:America/New_York
BEGIN:DAYLIGHT
TZOFFSETFROM:-0500
TZOFFSETTO:-0400
TZNAME:EDT
DTSTART:20180311T070000
END:DAYLIGHT
BEGIN:STANDARD
TZOFFSETFROM:-0400
TZOFFSETTO:-0500
TZNAME:EST
DTSTART:20181104T060000
END:STANDARD
BEGIN:DAYLIGHT
TZOFFSETFROM:-0500
TZOFFSETTO:-0400
TZNAME:EDT
DTSTART:20190310T070000
END:DAYLIGHT
BEGIN:STANDARD
TZOFFSETFROM:-0400
TZOFFSETTO:-0500
TZNAME:EST
DTSTART:20191103T060000
END:STANDARD
BEGIN:DAYLIGHT
TZOFFSETFROM:-0500
TZOFFSETTO:-0400
TZNAME:EDT
DTSTART:20200308T070000
END:DAYLIGHT
BEGIN:STANDARD
TZOFFSETFROM:-0400
TZOFFSETTO:-0500
TZNAME:EST
DTSTART:20201101T060000
END:STANDARD
BEGIN:DAYLIGHT
TZOFFSETFROM:-0500
TZOFFSETTO:-0400
TZNAME:EDT
DTSTART:20210314T070000
END:DAYLIGHT
BEGIN:STANDARD
TZOFFSETFROM:-0400
TZOFFSETTO:-0500
TZNAME:EST
DTSTART:20211107T060000
END:STANDARD
END:VTIMEZONE
BEGIN:VEVENT
DTSTART;TZID=America/New_York:20200513T083000
DTEND;TZID=America/New_York:20200513T100000
DTSTAMP:20260422T193304
CREATED:20190801T181527Z
LAST-MODIFIED:20200512T061924Z
UID:10006849-1589358600-1589364000@www.tcsatl.org
SUMMARY:Parent Association Appreciation Breakfast
DESCRIPTION:
URL:https://www.tcsatl.org/event/parent-association-appreciation-breakfast/
LOCATION:Building K-3-Classroom 301 (40)
END:VEVENT
BEGIN:VEVENT
DTSTART;TZID=America/New_York:20200327T083000
DTEND;TZID=America/New_York:20200327T093000
DTSTAMP:20260422T193304
CREATED:20190801T181527Z
LAST-MODIFIED:20200327T041927Z
UID:10006847-1585297800-1585301400@www.tcsatl.org
SUMMARY:CANCELED - Parent Association Meeting- Room K301
DESCRIPTION:
URL:https://www.tcsatl.org/event/parent-association-meeting-room-k301-6/
LOCATION:Building K-3-Classroom 301 (40)
END:VEVENT
BEGIN:VEVENT
DTSTART;TZID=America/New_York:20200228T083000
DTEND;TZID=America/New_York:20200228T093000
DTSTAMP:20260422T193304
CREATED:20190801T181527Z
LAST-MODIFIED:20200228T022120Z
UID:10006845-1582878600-1582882200@www.tcsatl.org
SUMMARY:Parent Associate Meeting - Room K301
DESCRIPTION:
URL:https://www.tcsatl.org/event/parent-associate-meeting-room-k301/
LOCATION:Building K-3-Classroom 301 (40)
END:VEVENT
BEGIN:VEVENT
DTSTART;TZID=America/New_York:20200131T083000
DTEND;TZID=America/New_York:20200131T093000
DTSTAMP:20260422T193304
CREATED:20190801T181526Z
LAST-MODIFIED:20200130T003503Z
UID:10006843-1580459400-1580463000@www.tcsatl.org
SUMMARY:Parent Association Meeting- Room K301
DESCRIPTION:
URL:https://www.tcsatl.org/event/parent-association-meeting-room-k301-5/
LOCATION:Building K-3-Classroom 301 (40)
END:VEVENT
BEGIN:VEVENT
DTSTART;TZID=America/New_York:20191212T160000
DTEND;TZID=America/New_York:20191212T180000
DTSTAMP:20260422T193304
CREATED:20191205T154515Z
LAST-MODIFIED:20191212T163019Z
UID:10007756-1576166400-1576173600@www.tcsatl.org
SUMMARY:HOLD  Top Of K - Room K301
DESCRIPTION:
URL:https://www.tcsatl.org/event/hold-top-of-k-room-k301/
LOCATION:Building K-3-Classroom 301 (40)
END:VEVENT
BEGIN:VEVENT
DTSTART;TZID=America/New_York:20191122T083000
DTEND;TZID=America/New_York:20191122T093000
DTSTAMP:20260422T193304
CREATED:20190801T181526Z
LAST-MODIFIED:20191122T153041Z
UID:10006839-1574411400-1574415000@www.tcsatl.org
SUMMARY:Parent Association Meeting - Room K301
DESCRIPTION:This event has a video call.\nJoin: https://meet.google.com/ezt-java-zfw\n+1 786-475-6313 PIN: 191366066#
URL:https://www.tcsatl.org/event/parent-association-meeting-room-k301-4/
LOCATION:Building K-3-Classroom 301 (40)
END:VEVENT
BEGIN:VEVENT
DTSTART;TZID=America/New_York:20191114T183000
DTEND;TZID=America/New_York:20191114T193000
DTSTAMP:20260422T193304
CREATED:20191109T010031Z
LAST-MODIFIED:20191115T145023Z
UID:10007746-1573756200-1573759800@www.tcsatl.org
SUMMARY:Parent Session #1 for Candidate #2 -  Room K301
DESCRIPTION:
URL:https://www.tcsatl.org/event/parent-session-1-for-candidate-2-room-k301/
LOCATION:Building K-3-Classroom 301 (40)
END:VEVENT
BEGIN:VEVENT
DTSTART;TZID=America/New_York:20191111T183000
DTEND;TZID=America/New_York:20191111T193000
DTSTAMP:20260422T193304
CREATED:20191109T010031Z
LAST-MODIFIED:20191112T010101Z
UID:10007744-1573497000-1573500600@www.tcsatl.org
SUMMARY:Parent Session #1 with Candidate #1 - Room K301
DESCRIPTION:
URL:https://www.tcsatl.org/event/parent-session-1-with-candidate-1-room-k301/
LOCATION:Building K-3-Classroom 301 (40)
END:VEVENT
BEGIN:VEVENT
DTSTART;TZID=America/New_York:20191025T083000
DTEND;TZID=America/New_York:20191025T093000
DTSTAMP:20260422T193304
CREATED:20190801T181526Z
LAST-MODIFIED:20191025T230338Z
UID:10006838-1571992200-1571995800@www.tcsatl.org
SUMMARY:Parent Association Meeting - Room K301
DESCRIPTION:
URL:https://www.tcsatl.org/event/parent-association-meeting-room-k301-3/
LOCATION:Building K-3-Classroom 301 (40)
END:VEVENT
END:VCALENDAR