BEGIN:VCALENDAR
VERSION:2.0
PRODID:-//The Children&#039;s School - ECPv6.15.15//NONSGML v1.0//EN
CALSCALE:GREGORIAN
METHOD:PUBLISH
X-ORIGINAL-URL:https://www.tcsatl.org
X-WR-CALDESC:Events for The Children&#039;s School
REFRESH-INTERVAL;VALUE=DURATION:PT1H
X-Robots-Tag:noindex
X-PUBLISHED-TTL:PT1H
BEGIN:VTIMEZONE
TZID:America/New_York
BEGIN:DAYLIGHT
TZOFFSETFROM:-0500
TZOFFSETTO:-0400
TZNAME:EDT
DTSTART:20210314T070000
END:DAYLIGHT
BEGIN:STANDARD
TZOFFSETFROM:-0400
TZOFFSETTO:-0500
TZNAME:EST
DTSTART:20211107T060000
END:STANDARD
BEGIN:DAYLIGHT
TZOFFSETFROM:-0500
TZOFFSETTO:-0400
TZNAME:EDT
DTSTART:20220313T070000
END:DAYLIGHT
BEGIN:STANDARD
TZOFFSETFROM:-0400
TZOFFSETTO:-0500
TZNAME:EST
DTSTART:20221106T060000
END:STANDARD
BEGIN:DAYLIGHT
TZOFFSETFROM:-0500
TZOFFSETTO:-0400
TZNAME:EDT
DTSTART:20230312T070000
END:DAYLIGHT
BEGIN:STANDARD
TZOFFSETFROM:-0400
TZOFFSETTO:-0500
TZNAME:EST
DTSTART:20231105T060000
END:STANDARD
END:VTIMEZONE
BEGIN:VEVENT
DTSTART;TZID=America/New_York:20220912T160000
DTEND;TZID=America/New_York:20220912T180000
DTSTAMP:20260423T070249
CREATED:20220809T171144Z
LAST-MODIFIED:20220912T181533Z
UID:10008561-1662998400-1663005600@www.tcsatl.org
SUMMARY:MAAC Girls & Boys Cross Country Meet - Chastain Park- 1 BUS
DESCRIPTION:
URL:https://www.tcsatl.org/event/maac-girls-boys-cross-country-meet-chastain-park-1-bus/
LOCATION:140 Chastain Park Ave. NW Atlanta\, GA 30342
END:VEVENT
BEGIN:VEVENT
DTSTART;TZID=America/New_York:20220912T160000
DTEND;TZID=America/New_York:20220912T180000
DTSTAMP:20260423T070249
CREATED:20220809T171144Z
LAST-MODIFIED:20220809T171144Z
UID:10008562-1662998400-1663005600@www.tcsatl.org
SUMMARY:MAAC Girls & Boys Cross Country Meet - Chastain Park- 1 BUS
DESCRIPTION:
URL:https://www.tcsatl.org/event/maac-girls-boys-cross-country-meet-chastain-park-1-bus-2/
LOCATION:140 Chastain Park Ave. NW Atlanta\, GA 30342
END:VEVENT
END:VCALENDAR