BEGIN:VCALENDAR
VERSION:2.0
PRODID:-//The Children&#039;s School - ECPv6.15.15//NONSGML v1.0//EN
CALSCALE:GREGORIAN
METHOD:PUBLISH
X-ORIGINAL-URL:https://www.tcsatl.org
X-WR-CALDESC:Events for The Children&#039;s School
REFRESH-INTERVAL;VALUE=DURATION:PT1H
X-Robots-Tag:noindex
X-PUBLISHED-TTL:PT1H
BEGIN:VTIMEZONE
TZID:America/New_York
BEGIN:DAYLIGHT
TZOFFSETFROM:-0500
TZOFFSETTO:-0400
TZNAME:EDT
DTSTART:20240310T070000
END:DAYLIGHT
BEGIN:STANDARD
TZOFFSETFROM:-0400
TZOFFSETTO:-0500
TZNAME:EST
DTSTART:20241103T060000
END:STANDARD
BEGIN:DAYLIGHT
TZOFFSETFROM:-0500
TZOFFSETTO:-0400
TZNAME:EDT
DTSTART:20250309T070000
END:DAYLIGHT
BEGIN:STANDARD
TZOFFSETFROM:-0400
TZOFFSETTO:-0500
TZNAME:EST
DTSTART:20251102T060000
END:STANDARD
BEGIN:DAYLIGHT
TZOFFSETFROM:-0500
TZOFFSETTO:-0400
TZNAME:EDT
DTSTART:20260308T070000
END:DAYLIGHT
BEGIN:STANDARD
TZOFFSETFROM:-0400
TZOFFSETTO:-0500
TZNAME:EST
DTSTART:20261101T060000
END:STANDARD
END:VTIMEZONE
BEGIN:VEVENT
DTSTART;VALUE=DATE:20250812
DTEND;VALUE=DATE:20250813
DTSTAMP:20260420T155258
CREATED:20250430T180117Z
LAST-MODIFIED:20250812T072541Z
UID:10011455-1754956800-1755043199@www.tcsatl.org
SUMMARY:Class Visit Day
DESCRIPTION:
URL:https://www.tcsatl.org/event/class-visit-day-2/
END:VEVENT
BEGIN:VEVENT
DTSTART;VALUE=DATE:20250813
DTEND;VALUE=DATE:20250814
DTSTAMP:20260420T155258
CREATED:20250430T180117Z
LAST-MODIFIED:20250813T073521Z
UID:10011456-1755043200-1755129599@www.tcsatl.org
SUMMARY:First Day of School
DESCRIPTION:
URL:https://www.tcsatl.org/event/first-day-of-school-10/
END:VEVENT
BEGIN:VEVENT
DTSTART;TZID=America/New_York:20250828T180000
DTEND;TZID=America/New_York:20250828T200000
DTSTAMP:20260420T155258
CREATED:20250430T180117Z
LAST-MODIFIED:20250828T112025Z
UID:10011457-1756404000-1756411200@www.tcsatl.org
SUMMARY:Back to School Night (Grades 3-8)
DESCRIPTION:
URL:https://www.tcsatl.org/event/back-to-school-night-grades-3-8/
END:VEVENT
END:VCALENDAR