BEGIN:VCALENDAR
VERSION:2.0
PRODID:-//The Children&#039;s School - ECPv6.15.15//NONSGML v1.0//EN
CALSCALE:GREGORIAN
METHOD:PUBLISH
X-ORIGINAL-URL:https://www.tcsatl.org
X-WR-CALDESC:Events for The Children&#039;s School
REFRESH-INTERVAL;VALUE=DURATION:PT1H
X-Robots-Tag:noindex
X-PUBLISHED-TTL:PT1H
BEGIN:VTIMEZONE
TZID:America/New_York
BEGIN:DAYLIGHT
TZOFFSETFROM:-0500
TZOFFSETTO:-0400
TZNAME:EDT
DTSTART:20240310T070000
END:DAYLIGHT
BEGIN:STANDARD
TZOFFSETFROM:-0400
TZOFFSETTO:-0500
TZNAME:EST
DTSTART:20241103T060000
END:STANDARD
BEGIN:DAYLIGHT
TZOFFSETFROM:-0500
TZOFFSETTO:-0400
TZNAME:EDT
DTSTART:20250309T070000
END:DAYLIGHT
BEGIN:STANDARD
TZOFFSETFROM:-0400
TZOFFSETTO:-0500
TZNAME:EST
DTSTART:20251102T060000
END:STANDARD
BEGIN:DAYLIGHT
TZOFFSETFROM:-0500
TZOFFSETTO:-0400
TZNAME:EDT
DTSTART:20260308T070000
END:DAYLIGHT
BEGIN:STANDARD
TZOFFSETFROM:-0400
TZOFFSETTO:-0500
TZNAME:EST
DTSTART:20261101T060000
END:STANDARD
END:VTIMEZONE
BEGIN:VEVENT
DTSTART;VALUE=DATE:20250401
DTEND;VALUE=DATE:20250402
DTSTAMP:20260420T221004
CREATED:20240829T171513Z
LAST-MODIFIED:20250401T112017Z
UID:10011302-1743465600-1743551999@www.tcsatl.org
SUMMARY:C Day
DESCRIPTION:
URL:https://www.tcsatl.org/event/c-day-51/
END:VEVENT
BEGIN:VEVENT
DTSTART;TZID=America/New_York:20250401T154500
DTEND;TZID=America/New_York:20250401T170000
DTSTAMP:20260420T221004
CREATED:20240812T184556Z
LAST-MODIFIED:20250112T161602Z
UID:10010948-1743522300-1743526800@www.tcsatl.org
SUMMARY:MAAC Girls and Boys Cross Country
DESCRIPTION:Carpool 5:00-5:15 PM
URL:https://www.tcsatl.org/event/maac-girls-and-boys-cross-country-94/
END:VEVENT
BEGIN:VEVENT
DTSTART;VALUE=DATE:20250402
DTEND;VALUE=DATE:20250403
DTSTAMP:20260420T221004
CREATED:20240829T171513Z
LAST-MODIFIED:20250402T113527Z
UID:10011301-1743552000-1743638399@www.tcsatl.org
SUMMARY:D Day
DESCRIPTION:
URL:https://www.tcsatl.org/event/d-day-48/
END:VEVENT
BEGIN:VEVENT
DTSTART;TZID=America/New_York:20250402T154500
DTEND;TZID=America/New_York:20250402T170000
DTSTAMP:20260420T221004
CREATED:20240812T184557Z
LAST-MODIFIED:20250112T161602Z
UID:10010949-1743608700-1743613200@www.tcsatl.org
SUMMARY:MAAC Girls and Boys Cross Country
DESCRIPTION:Carpool 5:00-5:15 PM
URL:https://www.tcsatl.org/event/maac-girls-and-boys-cross-country-95/
END:VEVENT
BEGIN:VEVENT
DTSTART;VALUE=DATE:20250403
DTEND;VALUE=DATE:20250404
DTSTAMP:20260420T221004
CREATED:20240829T171513Z
LAST-MODIFIED:20250403T115511Z
UID:10011305-1743638400-1743724799@www.tcsatl.org
SUMMARY:E Day
DESCRIPTION:
URL:https://www.tcsatl.org/event/e-day-50/
END:VEVENT
BEGIN:VEVENT
DTSTART;TZID=America/New_York:20250403T160000
DTEND;TZID=America/New_York:20250403T180000
DTSTAMP:20260420T221004
CREATED:20250225T230050Z
LAST-MODIFIED:20250402T223521Z
UID:10011451-1743696000-1743703200@www.tcsatl.org
SUMMARY:HOME GAME - MAAC Flag Football vs St. Benedict's & Swift
DESCRIPTION:CONFIRMED \n \nAge Level: MAAC \nSport: Flag Football  \nDate: 2 Game Day\, 4/3/25\, St Benedict's and Swift \n \nStart Time: 04:00 PM \nEnd Time: 06:00 PM \nHome or Away: Home \nBuses 1 \n \nSetup: no Facilities Assistance Needed
URL:https://www.tcsatl.org/event/home-game-maac-flag-football-vs-st-benedicts-swift/
END:VEVENT
BEGIN:VEVENT
DTSTART;VALUE=DATE:20250404
DTEND;VALUE=DATE:20250405
DTSTAMP:20260420T221004
CREATED:20240829T171513Z
LAST-MODIFIED:20250404T120534Z
UID:10011304-1743724800-1743811199@www.tcsatl.org
SUMMARY:F Day
DESCRIPTION:
URL:https://www.tcsatl.org/event/f-day-48/
END:VEVENT
BEGIN:VEVENT
DTSTART;TZID=America/New_York:20250404T154500
DTEND;TZID=America/New_York:20250404T170000
DTSTAMP:20260420T221004
CREATED:20240812T184557Z
LAST-MODIFIED:20250112T161602Z
UID:10010950-1743781500-1743786000@www.tcsatl.org
SUMMARY:MAAC Girls and Boys Cross Country
DESCRIPTION:Carpool 5:00-5:15 PM
URL:https://www.tcsatl.org/event/maac-girls-and-boys-cross-country-96/
END:VEVENT
BEGIN:VEVENT
DTSTART;VALUE=DATE:20250407
DTEND;VALUE=DATE:20250412
DTSTAMP:20260420T221004
CREATED:20240613T163304Z
LAST-MODIFIED:20250411T135022Z
UID:10010581-1743984000-1744415999@www.tcsatl.org
SUMMARY:Spring Break - TCS
DESCRIPTION:
URL:https://www.tcsatl.org/event/spring-break-tcs/
END:VEVENT
BEGIN:VEVENT
DTSTART;TZID=America/New_York:20250408T154500
DTEND;TZID=America/New_York:20250408T170000
DTSTAMP:20260420T221004
CREATED:20240812T184557Z
LAST-MODIFIED:20250112T161602Z
UID:10010951-1744127100-1744131600@www.tcsatl.org
SUMMARY:MAAC Girls and Boys Cross Country
DESCRIPTION:Carpool 5:00-5:15 PM
URL:https://www.tcsatl.org/event/maac-girls-and-boys-cross-country-97/
END:VEVENT
BEGIN:VEVENT
DTSTART;TZID=America/New_York:20250409T154500
DTEND;TZID=America/New_York:20250409T170000
DTSTAMP:20260420T221004
CREATED:20240812T184557Z
LAST-MODIFIED:20250112T161602Z
UID:10010952-1744213500-1744218000@www.tcsatl.org
SUMMARY:MAAC Girls and Boys Cross Country
DESCRIPTION:Carpool 5:00-5:15 PM
URL:https://www.tcsatl.org/event/maac-girls-and-boys-cross-country-98/
END:VEVENT
BEGIN:VEVENT
DTSTART;TZID=America/New_York:20250411T154500
DTEND;TZID=America/New_York:20250411T170000
DTSTAMP:20260420T221004
CREATED:20240812T184557Z
LAST-MODIFIED:20250112T161603Z
UID:10010953-1744386300-1744390800@www.tcsatl.org
SUMMARY:MAAC Girls and Boys Cross Country
DESCRIPTION:Carpool 5:00-5:15 PM
URL:https://www.tcsatl.org/event/maac-girls-and-boys-cross-country-99/
END:VEVENT
BEGIN:VEVENT
DTSTART;VALUE=DATE:20250414
DTEND;VALUE=DATE:20250415
DTSTAMP:20260420T221004
CREATED:20240613T163305Z
LAST-MODIFIED:20250414T144528Z
UID:10010582-1744588800-1744675199@www.tcsatl.org
SUMMARY:School Closed for Students - Report Writing Day - TCS
DESCRIPTION:
URL:https://www.tcsatl.org/event/school-closed-for-students-report-writing-day-tcs-2/
END:VEVENT
BEGIN:VEVENT
DTSTART;VALUE=DATE:20250415
DTEND;VALUE=DATE:20250416
DTSTAMP:20260420T221004
CREATED:20240613T163305Z
LAST-MODIFIED:20250415T145022Z
UID:10010583-1744675200-1744761599@www.tcsatl.org
SUMMARY:Students Return from Spring Break
DESCRIPTION:
URL:https://www.tcsatl.org/event/students-return-from-spring-break-6/
END:VEVENT
BEGIN:VEVENT
DTSTART;VALUE=DATE:20250415
DTEND;VALUE=DATE:20250416
DTSTAMP:20260420T221004
CREATED:20240829T171514Z
LAST-MODIFIED:20250415T145022Z
UID:10011306-1744675200-1744761599@www.tcsatl.org
SUMMARY:A Day
DESCRIPTION:
URL:https://www.tcsatl.org/event/a-day-49/
END:VEVENT
BEGIN:VEVENT
DTSTART;TZID=America/New_York:20250415T154500
DTEND;TZID=America/New_York:20250415T170000
DTSTAMP:20260420T221004
CREATED:20240812T184558Z
LAST-MODIFIED:20250112T161603Z
UID:10010954-1744731900-1744736400@www.tcsatl.org
SUMMARY:MAAC Girls and Boys Cross Country
DESCRIPTION:Carpool 5:00-5:15 PM
URL:https://www.tcsatl.org/event/maac-girls-and-boys-cross-country-100/
END:VEVENT
BEGIN:VEVENT
DTSTART;VALUE=DATE:20250416
DTEND;VALUE=DATE:20250417
DTSTAMP:20260420T221004
CREATED:20240829T171514Z
LAST-MODIFIED:20250416T150526Z
UID:10011307-1744761600-1744847999@www.tcsatl.org
SUMMARY:B Day
DESCRIPTION:
URL:https://www.tcsatl.org/event/b-day-51/
END:VEVENT
BEGIN:VEVENT
DTSTART;TZID=America/New_York:20250416T154500
DTEND;TZID=America/New_York:20250416T170000
DTSTAMP:20260420T221004
CREATED:20240812T184558Z
LAST-MODIFIED:20250112T161603Z
UID:10010955-1744818300-1744822800@www.tcsatl.org
SUMMARY:MAAC Girls and Boys Cross Country
DESCRIPTION:Carpool 5:00-5:15 PM
URL:https://www.tcsatl.org/event/maac-girls-and-boys-cross-country-101/
END:VEVENT
BEGIN:VEVENT
DTSTART;VALUE=DATE:20250417
DTEND;VALUE=DATE:20250418
DTSTAMP:20260420T221004
CREATED:20240829T171515Z
LAST-MODIFIED:20250417T150532Z
UID:10011308-1744848000-1744934399@www.tcsatl.org
SUMMARY:C Day
DESCRIPTION:
URL:https://www.tcsatl.org/event/c-day-52/
END:VEVENT
BEGIN:VEVENT
DTSTART;VALUE=DATE:20250418
DTEND;VALUE=DATE:20250419
DTSTAMP:20260420T221004
CREATED:20240829T171515Z
LAST-MODIFIED:20250418T152017Z
UID:10011309-1744934400-1745020799@www.tcsatl.org
SUMMARY:D Day
DESCRIPTION:
URL:https://www.tcsatl.org/event/d-day-49/
END:VEVENT
BEGIN:VEVENT
DTSTART;TZID=America/New_York:20250418T154500
DTEND;TZID=America/New_York:20250418T170000
DTSTAMP:20260420T221004
CREATED:20240812T184558Z
LAST-MODIFIED:20250112T161603Z
UID:10010956-1744991100-1744995600@www.tcsatl.org
SUMMARY:MAAC Girls and Boys Cross Country
DESCRIPTION:Carpool 5:00-5:15 PM
URL:https://www.tcsatl.org/event/maac-girls-and-boys-cross-country-102/
END:VEVENT
BEGIN:VEVENT
DTSTART;VALUE=DATE:20250421
DTEND;VALUE=DATE:20250422
DTSTAMP:20260420T221004
CREATED:20240829T171515Z
LAST-MODIFIED:20250421T155529Z
UID:10011311-1745193600-1745279999@www.tcsatl.org
SUMMARY:E Day
DESCRIPTION:
URL:https://www.tcsatl.org/event/e-day-51/
END:VEVENT
BEGIN:VEVENT
DTSTART;VALUE=DATE:20250422
DTEND;VALUE=DATE:20250423
DTSTAMP:20260420T221004
CREATED:20240829T171515Z
LAST-MODIFIED:20250422T161027Z
UID:10011310-1745280000-1745366399@www.tcsatl.org
SUMMARY:F Day
DESCRIPTION:
URL:https://www.tcsatl.org/event/f-day-49/
END:VEVENT
BEGIN:VEVENT
DTSTART;TZID=America/New_York:20250422T154500
DTEND;TZID=America/New_York:20250422T170000
DTSTAMP:20260420T221004
CREATED:20240812T184558Z
LAST-MODIFIED:20250112T161616Z
UID:10010957-1745336700-1745341200@www.tcsatl.org
SUMMARY:MAAC Girls and Boys Cross Country
DESCRIPTION:Carpool 5:00-5:15 PM
URL:https://www.tcsatl.org/event/maac-girls-and-boys-cross-country-103/
END:VEVENT
BEGIN:VEVENT
DTSTART;VALUE=DATE:20250423
DTEND;VALUE=DATE:20250424
DTSTAMP:20260420T221004
CREATED:20240829T171516Z
LAST-MODIFIED:20250423T162517Z
UID:10011312-1745366400-1745452799@www.tcsatl.org
SUMMARY:A Day
DESCRIPTION:
URL:https://www.tcsatl.org/event/a-day-50/
END:VEVENT
BEGIN:VEVENT
DTSTART;TZID=America/New_York:20250423T154500
DTEND;TZID=America/New_York:20250423T170000
DTSTAMP:20260420T221004
CREATED:20240812T184559Z
LAST-MODIFIED:20250112T161617Z
UID:10010958-1745423100-1745427600@www.tcsatl.org
SUMMARY:MAAC Girls and Boys Cross Country
DESCRIPTION:Carpool 5:00-5:15 PM
URL:https://www.tcsatl.org/event/maac-girls-and-boys-cross-country-104/
END:VEVENT
BEGIN:VEVENT
DTSTART;VALUE=DATE:20250424
DTEND;VALUE=DATE:20250425
DTSTAMP:20260420T221004
CREATED:20240829T171516Z
LAST-MODIFIED:20250424T164023Z
UID:10011314-1745452800-1745539199@www.tcsatl.org
SUMMARY:B Day
DESCRIPTION:
URL:https://www.tcsatl.org/event/b-day-52/
END:VEVENT
BEGIN:VEVENT
DTSTART;VALUE=DATE:20250425
DTEND;VALUE=DATE:20250426
DTSTAMP:20260420T221004
CREATED:20240829T171516Z
LAST-MODIFIED:20250425T165521Z
UID:10011313-1745539200-1745625599@www.tcsatl.org
SUMMARY:C Day
DESCRIPTION:
URL:https://www.tcsatl.org/event/c-day-53/
END:VEVENT
BEGIN:VEVENT
DTSTART;TZID=America/New_York:20250425T154500
DTEND;TZID=America/New_York:20250425T170000
DTSTAMP:20260420T221004
CREATED:20240812T184559Z
LAST-MODIFIED:20250112T161617Z
UID:10010959-1745595900-1745600400@www.tcsatl.org
SUMMARY:MAAC Girls and Boys Cross Country
DESCRIPTION:Carpool 5:00-5:15 PM
URL:https://www.tcsatl.org/event/maac-girls-and-boys-cross-country-105/
END:VEVENT
BEGIN:VEVENT
DTSTART;VALUE=DATE:20250428
DTEND;VALUE=DATE:20250429
DTSTAMP:20260420T221004
CREATED:20240829T171516Z
LAST-MODIFIED:20250428T173514Z
UID:10011315-1745798400-1745884799@www.tcsatl.org
SUMMARY:D Day
DESCRIPTION:
URL:https://www.tcsatl.org/event/d-day-50/
END:VEVENT
END:VCALENDAR