BEGIN:VCALENDAR
VERSION:2.0
PRODID:-//The Children&#039;s School - ECPv6.15.15//NONSGML v1.0//EN
CALSCALE:GREGORIAN
METHOD:PUBLISH
X-WR-CALNAME:The Children&#039;s School
X-ORIGINAL-URL:https://www.tcsatl.org
X-WR-CALDESC:Events for The Children&#039;s School
REFRESH-INTERVAL;VALUE=DURATION:PT1H
X-Robots-Tag:noindex
X-PUBLISHED-TTL:PT1H
BEGIN:VTIMEZONE
TZID:America/New_York
BEGIN:DAYLIGHT
TZOFFSETFROM:-0500
TZOFFSETTO:-0400
TZNAME:EDT
DTSTART:20240310T070000
END:DAYLIGHT
BEGIN:STANDARD
TZOFFSETFROM:-0400
TZOFFSETTO:-0500
TZNAME:EST
DTSTART:20241103T060000
END:STANDARD
BEGIN:DAYLIGHT
TZOFFSETFROM:-0500
TZOFFSETTO:-0400
TZNAME:EDT
DTSTART:20250309T070000
END:DAYLIGHT
BEGIN:STANDARD
TZOFFSETFROM:-0400
TZOFFSETTO:-0500
TZNAME:EST
DTSTART:20251102T060000
END:STANDARD
BEGIN:DAYLIGHT
TZOFFSETFROM:-0500
TZOFFSETTO:-0400
TZNAME:EDT
DTSTART:20260308T070000
END:DAYLIGHT
BEGIN:STANDARD
TZOFFSETFROM:-0400
TZOFFSETTO:-0500
TZNAME:EST
DTSTART:20261101T060000
END:STANDARD
END:VTIMEZONE
BEGIN:VEVENT
DTSTART;VALUE=DATE:20250203
DTEND;VALUE=DATE:20250204
DTSTAMP:20260421T010950
CREATED:20240829T171502Z
LAST-MODIFIED:20250203T012940Z
UID:10011266-1738540800-1738627199@www.tcsatl.org
SUMMARY:C Day
DESCRIPTION:
URL:https://www.tcsatl.org/event/c-day-45/
END:VEVENT
BEGIN:VEVENT
DTSTART;VALUE=DATE:20250204
DTEND;VALUE=DATE:20250205
DTSTAMP:20260421T010950
CREATED:20240829T171502Z
LAST-MODIFIED:20250204T012947Z
UID:10011267-1738627200-1738713599@www.tcsatl.org
SUMMARY:D Day
DESCRIPTION:
URL:https://www.tcsatl.org/event/d-day-42/
END:VEVENT
BEGIN:VEVENT
DTSTART;TZID=America/New_York:20250204T154500
DTEND;TZID=America/New_York:20250204T170000
DTSTAMP:20260421T010950
CREATED:20240812T184549Z
LAST-MODIFIED:20250112T161523Z
UID:10010924-1738683900-1738688400@www.tcsatl.org
SUMMARY:MAAC Girls and Boys Cross Country
DESCRIPTION:Carpool 5:00-5:15 PM
URL:https://www.tcsatl.org/event/maac-girls-and-boys-cross-country-70/
END:VEVENT
BEGIN:VEVENT
DTSTART;VALUE=DATE:20250205
DTEND;VALUE=DATE:20250206
DTSTAMP:20260421T010950
CREATED:20240829T171504Z
LAST-MODIFIED:20250205T014445Z
UID:10011269-1738713600-1738799999@www.tcsatl.org
SUMMARY:E Day
DESCRIPTION:
URL:https://www.tcsatl.org/event/e-day-44/
END:VEVENT
BEGIN:VEVENT
DTSTART;TZID=America/New_York:20250205T154500
DTEND;TZID=America/New_York:20250205T170000
DTSTAMP:20260421T010950
CREATED:20240812T184550Z
LAST-MODIFIED:20250112T161523Z
UID:10010925-1738770300-1738774800@www.tcsatl.org
SUMMARY:MAAC Girls and Boys Cross Country
DESCRIPTION:Carpool 5:00-5:15 PM
URL:https://www.tcsatl.org/event/maac-girls-and-boys-cross-country-71/
END:VEVENT
BEGIN:VEVENT
DTSTART;VALUE=DATE:20250206
DTEND;VALUE=DATE:20250207
DTSTAMP:20260421T010950
CREATED:20240829T171503Z
LAST-MODIFIED:20250206T014444Z
UID:10011268-1738800000-1738886399@www.tcsatl.org
SUMMARY:F Day
DESCRIPTION:
URL:https://www.tcsatl.org/event/f-day-42/
END:VEVENT
BEGIN:VEVENT
DTSTART;VALUE=DATE:20250207
DTEND;VALUE=DATE:20250208
DTSTAMP:20260421T010950
CREATED:20240829T171504Z
LAST-MODIFIED:20250207T015237Z
UID:10011270-1738886400-1738972799@www.tcsatl.org
SUMMARY:A Day
DESCRIPTION:
URL:https://www.tcsatl.org/event/a-day-43/
END:VEVENT
BEGIN:VEVENT
DTSTART;TZID=America/New_York:20250207T154500
DTEND;TZID=America/New_York:20250207T170000
DTSTAMP:20260421T010950
CREATED:20240812T184550Z
LAST-MODIFIED:20250112T161523Z
UID:10010926-1738943100-1738947600@www.tcsatl.org
SUMMARY:MAAC Girls and Boys Cross Country
DESCRIPTION:Carpool 5:00-5:15 PM
URL:https://www.tcsatl.org/event/maac-girls-and-boys-cross-country-72/
END:VEVENT
BEGIN:VEVENT
DTSTART;VALUE=DATE:20250210
DTEND;VALUE=DATE:20250211
DTSTAMP:20260421T010950
CREATED:20240829T171505Z
LAST-MODIFIED:20250210T015947Z
UID:10011272-1739145600-1739231999@www.tcsatl.org
SUMMARY:B Day
DESCRIPTION:
URL:https://www.tcsatl.org/event/b-day-45/
END:VEVENT
BEGIN:VEVENT
DTSTART;VALUE=DATE:20250211
DTEND;VALUE=DATE:20250212
DTSTAMP:20260421T010950
CREATED:20240829T171505Z
LAST-MODIFIED:20250211T015949Z
UID:10011271-1739232000-1739318399@www.tcsatl.org
SUMMARY:C Day
DESCRIPTION:
URL:https://www.tcsatl.org/event/c-day-46/
END:VEVENT
BEGIN:VEVENT
DTSTART;TZID=America/New_York:20250211T154500
DTEND;TZID=America/New_York:20250211T170000
DTSTAMP:20260421T010950
CREATED:20240812T184550Z
LAST-MODIFIED:20250112T161535Z
UID:10010927-1739288700-1739293200@www.tcsatl.org
SUMMARY:MAAC Girls and Boys Cross Country
DESCRIPTION:Carpool 5:00-5:15 PM
URL:https://www.tcsatl.org/event/maac-girls-and-boys-cross-country-73/
END:VEVENT
BEGIN:VEVENT
DTSTART;VALUE=DATE:20250212
DTEND;VALUE=DATE:20250213
DTSTAMP:20260421T010950
CREATED:20240829T171506Z
LAST-MODIFIED:20250212T015947Z
UID:10011273-1739318400-1739404799@www.tcsatl.org
SUMMARY:D Day
DESCRIPTION:
URL:https://www.tcsatl.org/event/d-day-43/
END:VEVENT
BEGIN:VEVENT
DTSTART;TZID=America/New_York:20250212T154500
DTEND;TZID=America/New_York:20250212T170000
DTSTAMP:20260421T010950
CREATED:20240812T184551Z
LAST-MODIFIED:20250112T161535Z
UID:10010928-1739375100-1739379600@www.tcsatl.org
SUMMARY:MAAC Girls and Boys Cross Country
DESCRIPTION:Carpool 5:00-5:15 PM
URL:https://www.tcsatl.org/event/maac-girls-and-boys-cross-country-74/
END:VEVENT
BEGIN:VEVENT
DTSTART;VALUE=DATE:20250213
DTEND;VALUE=DATE:20250214
DTSTAMP:20260421T010950
CREATED:20240829T171506Z
LAST-MODIFIED:20250213T015941Z
UID:10011275-1739404800-1739491199@www.tcsatl.org
SUMMARY:E Day
DESCRIPTION:
URL:https://www.tcsatl.org/event/e-day-45/
END:VEVENT
BEGIN:VEVENT
DTSTART;VALUE=DATE:20250214
DTEND;VALUE=DATE:20250215
DTSTAMP:20260421T010950
CREATED:20240829T171506Z
LAST-MODIFIED:20250214T015940Z
UID:10011274-1739491200-1739577599@www.tcsatl.org
SUMMARY:F Day
DESCRIPTION:
URL:https://www.tcsatl.org/event/f-day-43/
END:VEVENT
BEGIN:VEVENT
DTSTART;TZID=America/New_York:20250214T154500
DTEND;TZID=America/New_York:20250214T170000
DTSTAMP:20260421T010950
CREATED:20240812T184551Z
LAST-MODIFIED:20250112T161535Z
UID:10010929-1739547900-1739552400@www.tcsatl.org
SUMMARY:MAAC Girls and Boys Cross Country
DESCRIPTION:Carpool 5:00-5:15 PM
URL:https://www.tcsatl.org/event/maac-girls-and-boys-cross-country-75/
END:VEVENT
BEGIN:VEVENT
DTSTART;VALUE=DATE:20250217
DTEND;VALUE=DATE:20250219
DTSTAMP:20260421T010950
CREATED:20240613T163304Z
LAST-MODIFIED:20250218T015943Z
UID:10009520-1739750400-1739923199@www.tcsatl.org
SUMMARY:Mid Winter Break - School Closed for Students - TCS
DESCRIPTION:
URL:https://www.tcsatl.org/event/mid-winter-break-school-closed-for-students-tcs/
END:VEVENT
BEGIN:VEVENT
DTSTART;TZID=America/New_York:20250218T154500
DTEND;TZID=America/New_York:20250218T170000
DTSTAMP:20260421T010950
CREATED:20240812T184551Z
LAST-MODIFIED:20250112T161535Z
UID:10010930-1739893500-1739898000@www.tcsatl.org
SUMMARY:MAAC Girls and Boys Cross Country
DESCRIPTION:Carpool 5:00-5:15 PM
URL:https://www.tcsatl.org/event/maac-girls-and-boys-cross-country-76/
END:VEVENT
BEGIN:VEVENT
DTSTART;VALUE=DATE:20250219
DTEND;VALUE=DATE:20250220
DTSTAMP:20260421T010950
CREATED:20240613T163303Z
LAST-MODIFIED:20250219T015946Z
UID:10009519-1739923200-1740009599@www.tcsatl.org
SUMMARY:Students Return from Mid-Winter Break - TCS
DESCRIPTION:
URL:https://www.tcsatl.org/event/students-return-from-mid-winter-break-tcs/
END:VEVENT
BEGIN:VEVENT
DTSTART;VALUE=DATE:20250219
DTEND;VALUE=DATE:20250220
DTSTAMP:20260421T010950
CREATED:20240829T171507Z
LAST-MODIFIED:20250219T015947Z
UID:10011276-1739923200-1740009599@www.tcsatl.org
SUMMARY:A Day
DESCRIPTION:
URL:https://www.tcsatl.org/event/a-day-44/
END:VEVENT
BEGIN:VEVENT
DTSTART;TZID=America/New_York:20250219T154500
DTEND;TZID=America/New_York:20250219T170000
DTSTAMP:20260421T010950
CREATED:20240812T184552Z
LAST-MODIFIED:20250112T161535Z
UID:10010931-1739979900-1739984400@www.tcsatl.org
SUMMARY:MAAC Girls and Boys Cross Country
DESCRIPTION:Carpool 5:00-5:15 PM
URL:https://www.tcsatl.org/event/maac-girls-and-boys-cross-country-77/
END:VEVENT
BEGIN:VEVENT
DTSTART;VALUE=DATE:20250220
DTEND;VALUE=DATE:20250221
DTSTAMP:20260421T010950
CREATED:20240829T171507Z
LAST-MODIFIED:20250220T021447Z
UID:10011278-1740009600-1740095999@www.tcsatl.org
SUMMARY:B Day
DESCRIPTION:
URL:https://www.tcsatl.org/event/b-day-46/
END:VEVENT
BEGIN:VEVENT
DTSTART;VALUE=DATE:20250221
DTEND;VALUE=DATE:20250222
DTSTAMP:20260421T010950
CREATED:20240829T171507Z
LAST-MODIFIED:20250221T021446Z
UID:10011277-1740096000-1740182399@www.tcsatl.org
SUMMARY:C Day
DESCRIPTION:
URL:https://www.tcsatl.org/event/c-day-47/
END:VEVENT
BEGIN:VEVENT
DTSTART;TZID=America/New_York:20250221T154500
DTEND;TZID=America/New_York:20250221T170000
DTSTAMP:20260421T010950
CREATED:20240812T184552Z
LAST-MODIFIED:20250112T161536Z
UID:10010932-1740152700-1740157200@www.tcsatl.org
SUMMARY:MAAC Girls and Boys Cross Country
DESCRIPTION:Carpool 5:00-5:15 PM
URL:https://www.tcsatl.org/event/maac-girls-and-boys-cross-country-78/
END:VEVENT
BEGIN:VEVENT
DTSTART;VALUE=DATE:20250224
DTEND;VALUE=DATE:20250225
DTSTAMP:20260421T010950
CREATED:20240829T171508Z
LAST-MODIFIED:20250224T024447Z
UID:10011281-1740355200-1740441599@www.tcsatl.org
SUMMARY:D Day
DESCRIPTION:
URL:https://www.tcsatl.org/event/d-day-44/
END:VEVENT
BEGIN:VEVENT
DTSTART;VALUE=DATE:20250225
DTEND;VALUE=DATE:20250226
DTSTAMP:20260421T010950
CREATED:20240829T171508Z
LAST-MODIFIED:20250225T024446Z
UID:10011280-1740441600-1740527999@www.tcsatl.org
SUMMARY:E Day
DESCRIPTION:
URL:https://www.tcsatl.org/event/e-day-46/
END:VEVENT
BEGIN:VEVENT
DTSTART;TZID=America/New_York:20250225T154500
DTEND;TZID=America/New_York:20250225T170000
DTSTAMP:20260421T010950
CREATED:20240812T184553Z
LAST-MODIFIED:20250112T161536Z
UID:10010933-1740498300-1740502800@www.tcsatl.org
SUMMARY:MAAC Girls and Boys Cross Country
DESCRIPTION:Carpool 5:00-5:15 PM
URL:https://www.tcsatl.org/event/maac-girls-and-boys-cross-country-79/
END:VEVENT
BEGIN:VEVENT
DTSTART;VALUE=DATE:20250226
DTEND;VALUE=DATE:20250227
DTSTAMP:20260421T010950
CREATED:20240829T171507Z
LAST-MODIFIED:20250226T030036Z
UID:10011279-1740528000-1740614399@www.tcsatl.org
SUMMARY:F Day
DESCRIPTION:
URL:https://www.tcsatl.org/event/f-day-44/
END:VEVENT
BEGIN:VEVENT
DTSTART;TZID=America/New_York:20250226T154500
DTEND;TZID=America/New_York:20250226T170000
DTSTAMP:20260421T010950
CREATED:20240812T184553Z
LAST-MODIFIED:20250112T161536Z
UID:10010934-1740584700-1740589200@www.tcsatl.org
SUMMARY:MAAC Girls and Boys Cross Country
DESCRIPTION:Carpool 5:00-5:15 PM
URL:https://www.tcsatl.org/event/maac-girls-and-boys-cross-country-80/
END:VEVENT
BEGIN:VEVENT
DTSTART;VALUE=DATE:20250227
DTEND;VALUE=DATE:20250228
DTSTAMP:20260421T010950
CREATED:20240829T171508Z
LAST-MODIFIED:20250227T032012Z
UID:10011282-1740614400-1740700799@www.tcsatl.org
SUMMARY:A Day
DESCRIPTION:
URL:https://www.tcsatl.org/event/a-day-45/
END:VEVENT
END:VCALENDAR