BEGIN:VCALENDAR
VERSION:2.0
PRODID:-//The Children&#039;s School - ECPv6.15.15//NONSGML v1.0//EN
CALSCALE:GREGORIAN
METHOD:PUBLISH
X-WR-CALNAME:The Children&#039;s School
X-ORIGINAL-URL:https://www.tcsatl.org
X-WR-CALDESC:Events for The Children&#039;s School
REFRESH-INTERVAL;VALUE=DURATION:PT1H
X-Robots-Tag:noindex
X-PUBLISHED-TTL:PT1H
BEGIN:VTIMEZONE
TZID:America/New_York
BEGIN:DAYLIGHT
TZOFFSETFROM:-0500
TZOFFSETTO:-0400
TZNAME:EDT
DTSTART:20220313T070000
END:DAYLIGHT
BEGIN:STANDARD
TZOFFSETFROM:-0400
TZOFFSETTO:-0500
TZNAME:EST
DTSTART:20221106T060000
END:STANDARD
BEGIN:DAYLIGHT
TZOFFSETFROM:-0500
TZOFFSETTO:-0400
TZNAME:EDT
DTSTART:20230312T070000
END:DAYLIGHT
BEGIN:STANDARD
TZOFFSETFROM:-0400
TZOFFSETTO:-0500
TZNAME:EST
DTSTART:20231105T060000
END:STANDARD
BEGIN:DAYLIGHT
TZOFFSETFROM:-0500
TZOFFSETTO:-0400
TZNAME:EDT
DTSTART:20240310T070000
END:DAYLIGHT
BEGIN:STANDARD
TZOFFSETFROM:-0400
TZOFFSETTO:-0500
TZNAME:EST
DTSTART:20241103T060000
END:STANDARD
END:VTIMEZONE
BEGIN:VEVENT
DTSTART;VALUE=DATE:20230703
DTEND;VALUE=DATE:20230704
DTSTAMP:20260421T082342
CREATED:20230517T035958Z
LAST-MODIFIED:20230703T163003Z
UID:10010163-1688342400-1688428799@www.tcsatl.org
SUMMARY:Tuition Due for 1-Pay or 2-Pay Options
DESCRIPTION:
URL:https://www.tcsatl.org/event/tuition-due-for-1-pay-or-2-pay-options/
END:VEVENT
BEGIN:VEVENT
DTSTART;VALUE=DATE:20230704
DTEND;VALUE=DATE:20230705
DTSTAMP:20260421T082342
CREATED:20230607T044507Z
LAST-MODIFIED:20230704T164648Z
UID:10009101-1688428800-1688515199@www.tcsatl.org
SUMMARY:No Camp - Fourth of July
DESCRIPTION:
URL:https://www.tcsatl.org/event/no-camp-fourth-of-july/
END:VEVENT
BEGIN:VEVENT
DTSTART;TZID=America/New_York:20230710T120000
DTEND;TZID=America/New_York:20230710T130000
DTSTAMP:20260421T082342
CREATED:20230517T035958Z
LAST-MODIFIED:20230710T164506Z
UID:10009094-1688990400-1688994000@www.tcsatl.org
SUMMARY:Enrichment\, Day School Electives and Athletics Registration Open
DESCRIPTION:Register through your Veracross Parent Portal
URL:https://www.tcsatl.org/event/enrichment-day-school-electives-and-athletics-registration-open/
END:VEVENT
END:VCALENDAR