BEGIN:VCALENDAR
VERSION:2.0
PRODID:-//The Children&#039;s School - ECPv6.15.15//NONSGML v1.0//EN
CALSCALE:GREGORIAN
METHOD:PUBLISH
X-WR-CALNAME:The Children&#039;s School
X-ORIGINAL-URL:https://www.tcsatl.org
X-WR-CALDESC:Events for The Children&#039;s School
REFRESH-INTERVAL;VALUE=DURATION:PT1H
X-Robots-Tag:noindex
X-PUBLISHED-TTL:PT1H
BEGIN:VTIMEZONE
TZID:America/New_York
BEGIN:DAYLIGHT
TZOFFSETFROM:-0500
TZOFFSETTO:-0400
TZNAME:EDT
DTSTART:20200308T070000
END:DAYLIGHT
BEGIN:STANDARD
TZOFFSETFROM:-0400
TZOFFSETTO:-0500
TZNAME:EST
DTSTART:20201101T060000
END:STANDARD
BEGIN:DAYLIGHT
TZOFFSETFROM:-0500
TZOFFSETTO:-0400
TZNAME:EDT
DTSTART:20210314T070000
END:DAYLIGHT
BEGIN:STANDARD
TZOFFSETFROM:-0400
TZOFFSETTO:-0500
TZNAME:EST
DTSTART:20211107T060000
END:STANDARD
BEGIN:DAYLIGHT
TZOFFSETFROM:-0500
TZOFFSETTO:-0400
TZNAME:EDT
DTSTART:20220313T070000
END:DAYLIGHT
BEGIN:STANDARD
TZOFFSETFROM:-0400
TZOFFSETTO:-0500
TZNAME:EST
DTSTART:20221106T060000
END:STANDARD
END:VTIMEZONE
BEGIN:VEVENT
DTSTART;TZID=America/New_York:20211229T151500
DTEND;TZID=America/New_York:20211229T163000
DTSTAMP:20260423T191656
CREATED:20211110T193645Z
LAST-MODIFIED:20211229T001118Z
UID:10008479-1640790900-1640795400@www.tcsatl.org
SUMMARY:Intramural Tennis (Grades 3-5)
DESCRIPTION:
URL:https://www.tcsatl.org/event/intramural-tennis-grades-3-5-8/
END:VEVENT
BEGIN:VEVENT
DTSTART;TZID=America/New_York:20211228T151500
DTEND;TZID=America/New_York:20211228T163000
DTSTAMP:20260423T191656
CREATED:20211110T193645Z
LAST-MODIFIED:20211227T235822Z
UID:10008478-1640704500-1640709000@www.tcsatl.org
SUMMARY:Intramural Tennis (Grades 5-8)
DESCRIPTION:
URL:https://www.tcsatl.org/event/intramural-tennis-grades-5-8-7/
END:VEVENT
BEGIN:VEVENT
DTSTART;TZID=America/New_York:20211227T151500
DTEND;TZID=America/New_York:20211227T163000
DTSTAMP:20260423T191656
CREATED:20211110T193645Z
LAST-MODIFIED:20211226T234712Z
UID:10008474-1640618100-1640622600@www.tcsatl.org
SUMMARY:Intramural Volleyball (Grades 3-8)
DESCRIPTION:
URL:https://www.tcsatl.org/event/intramural-volleyball-grades-3-8-7/
END:VEVENT
BEGIN:VEVENT
DTSTART;TZID=America/New_York:20211227T151500
DTEND;TZID=America/New_York:20211227T163000
DTSTAMP:20260423T191656
CREATED:20211110T193645Z
LAST-MODIFIED:20211226T234712Z
UID:10008475-1640618100-1640622600@www.tcsatl.org
SUMMARY:Intramural Ultimate Frisbee (Grade 3-5)
DESCRIPTION:
URL:https://www.tcsatl.org/event/intramural-ultimate-frisbee-grade-3-5-14/
END:VEVENT
BEGIN:VEVENT
DTSTART;TZID=America/New_York:20211227T151500
DTEND;TZID=America/New_York:20211227T163000
DTSTAMP:20260423T191656
CREATED:20211110T193645Z
LAST-MODIFIED:20211226T234712Z
UID:10008476-1640618100-1640622600@www.tcsatl.org
SUMMARY:Intramural Cross Country/Track (Grades 3-8)
DESCRIPTION:
URL:https://www.tcsatl.org/event/intramural-cross-country-track-grades-3-8-14/
END:VEVENT
BEGIN:VEVENT
DTSTART;TZID=America/New_York:20211227T151500
DTEND;TZID=America/New_York:20211227T163000
DTSTAMP:20260423T191656
CREATED:20211110T193645Z
LAST-MODIFIED:20211226T234712Z
UID:10008477-1640618100-1640622600@www.tcsatl.org
SUMMARY:Intramural Ultimate Frisbee (Grades 6-8)
DESCRIPTION:
URL:https://www.tcsatl.org/event/intramural-ultimate-frisbee-grades-6-8-7/
END:VEVENT
BEGIN:VEVENT
DTSTART;VALUE=DATE:20211227
DTEND;VALUE=DATE:20220101
DTSTAMP:20260423T191656
CREATED:20211110T193412Z
LAST-MODIFIED:20211231T004300Z
UID:10008410-1640563200-1640995199@www.tcsatl.org
SUMMARY:Winter Break
DESCRIPTION:
URL:https://www.tcsatl.org/event/winter-break-3/
END:VEVENT
BEGIN:VEVENT
DTSTART;TZID=America/New_York:20211223T151500
DTEND;TZID=America/New_York:20211223T163000
DTSTAMP:20260423T191656
CREATED:20211110T193645Z
LAST-MODIFIED:20211222T231120Z
UID:10008472-1640272500-1640277000@www.tcsatl.org
SUMMARY:Intramural Ultimate Frisbee (Grade 3-5)
DESCRIPTION:
URL:https://www.tcsatl.org/event/intramural-ultimate-frisbee-grade-3-5-13/
END:VEVENT
BEGIN:VEVENT
DTSTART;TZID=America/New_York:20211223T151500
DTEND;TZID=America/New_York:20211223T163000
DTSTAMP:20260423T191656
CREATED:20211110T193645Z
LAST-MODIFIED:20211222T231120Z
UID:10008473-1640272500-1640277000@www.tcsatl.org
SUMMARY:Intramural Cross Country/Track (Grades 3-8)
DESCRIPTION:
URL:https://www.tcsatl.org/event/intramural-cross-country-track-grades-3-8-13/
END:VEVENT
BEGIN:VEVENT
DTSTART;TZID=America/New_York:20211222T151500
DTEND;TZID=America/New_York:20211222T163000
DTSTAMP:20260423T191656
CREATED:20211110T193644Z
LAST-MODIFIED:20211221T231322Z
UID:10008471-1640186100-1640190600@www.tcsatl.org
SUMMARY:Intramural Tennis (Grades 3-5)
DESCRIPTION:
URL:https://www.tcsatl.org/event/intramural-tennis-grades-3-5-7/
END:VEVENT
BEGIN:VEVENT
DTSTART;TZID=America/New_York:20211221T151500
DTEND;TZID=America/New_York:20211221T163000
DTSTAMP:20260423T191656
CREATED:20211110T193644Z
LAST-MODIFIED:20211220T231308Z
UID:10008470-1640099700-1640104200@www.tcsatl.org
SUMMARY:Intramural Tennis (Grades 5-8)
DESCRIPTION:
URL:https://www.tcsatl.org/event/intramural-tennis-grades-5-8-6/
END:VEVENT
BEGIN:VEVENT
DTSTART;TZID=America/New_York:20211220T151500
DTEND;TZID=America/New_York:20211220T163000
DTSTAMP:20260423T191656
CREATED:20211110T193644Z
LAST-MODIFIED:20211219T231115Z
UID:10008466-1640013300-1640017800@www.tcsatl.org
SUMMARY:Intramural Ultimate Frisbee (Grade 3-5)
DESCRIPTION:
URL:https://www.tcsatl.org/event/intramural-ultimate-frisbee-grade-3-5-12/
END:VEVENT
BEGIN:VEVENT
DTSTART;TZID=America/New_York:20211220T151500
DTEND;TZID=America/New_York:20211220T163000
DTSTAMP:20260423T191656
CREATED:20211110T193644Z
LAST-MODIFIED:20211219T231114Z
UID:10008467-1640013300-1640017800@www.tcsatl.org
SUMMARY:Intramural Cross Country/Track (Grades 3-8)
DESCRIPTION:
URL:https://www.tcsatl.org/event/intramural-cross-country-track-grades-3-8-12/
END:VEVENT
BEGIN:VEVENT
DTSTART;TZID=America/New_York:20211220T151500
DTEND;TZID=America/New_York:20211220T163000
DTSTAMP:20260423T191656
CREATED:20211110T193644Z
LAST-MODIFIED:20211219T231115Z
UID:10008468-1640013300-1640017800@www.tcsatl.org
SUMMARY:Intramural Volleyball (Grades 3-8)
DESCRIPTION:
URL:https://www.tcsatl.org/event/intramural-volleyball-grades-3-8-6/
END:VEVENT
BEGIN:VEVENT
DTSTART;TZID=America/New_York:20211220T151500
DTEND;TZID=America/New_York:20211220T163000
DTSTAMP:20260423T191656
CREATED:20211110T193644Z
LAST-MODIFIED:20211219T231115Z
UID:10008469-1640013300-1640017800@www.tcsatl.org
SUMMARY:Intramural Ultimate Frisbee (Grades 6-8)
DESCRIPTION:
URL:https://www.tcsatl.org/event/intramural-ultimate-frisbee-grades-6-8-6/
END:VEVENT
BEGIN:VEVENT
DTSTART;VALUE=DATE:20211220
DTEND;VALUE=DATE:20211225
DTSTAMP:20260423T191656
CREATED:20211110T193412Z
LAST-MODIFIED:20211224T235932Z
UID:10008409-1639958400-1640390399@www.tcsatl.org
SUMMARY:Winter Break
DESCRIPTION:
URL:https://www.tcsatl.org/event/winter-break-2/
END:VEVENT
BEGIN:VEVENT
DTSTART;TZID=America/New_York:20211217T120000
DTEND;TZID=America/New_York:20211217T170000
DTSTAMP:20260423T191656
CREATED:20211110T193412Z
LAST-MODIFIED:20211216T231144Z
UID:10008408-1639742400-1639760400@www.tcsatl.org
SUMMARY:Early Dismissal - Discovery & EPIC not in session
DESCRIPTION:
URL:https://www.tcsatl.org/event/early-dismissal-discovery-epic-not-in-session/
END:VEVENT
BEGIN:VEVENT
DTSTART;TZID=America/New_York:20211216T151500
DTEND;TZID=America/New_York:20211216T163000
DTSTAMP:20260423T191656
CREATED:20211110T193644Z
LAST-MODIFIED:20211215T222647Z
UID:10008464-1639667700-1639672200@www.tcsatl.org
SUMMARY:Intramural Ultimate Frisbee (Grade 3-5)
DESCRIPTION:
URL:https://www.tcsatl.org/event/intramural-ultimate-frisbee-grade-3-5-11/
END:VEVENT
BEGIN:VEVENT
DTSTART;TZID=America/New_York:20211216T151500
DTEND;TZID=America/New_York:20211216T163000
DTSTAMP:20260423T191656
CREATED:20211110T193644Z
LAST-MODIFIED:20211215T222647Z
UID:10008465-1639667700-1639672200@www.tcsatl.org
SUMMARY:Intramural Cross Country/Track (Grades 3-8)
DESCRIPTION:
URL:https://www.tcsatl.org/event/intramural-cross-country-track-grades-3-8-11/
END:VEVENT
BEGIN:VEVENT
DTSTART;TZID=America/New_York:20211215T151500
DTEND;TZID=America/New_York:20211215T163000
DTSTAMP:20260423T191656
CREATED:20211110T193643Z
LAST-MODIFIED:20211214T222642Z
UID:10008463-1639581300-1639585800@www.tcsatl.org
SUMMARY:Intramural Tennis (Grades 3-5)
DESCRIPTION:
URL:https://www.tcsatl.org/event/intramural-tennis-grades-3-5-6/
END:VEVENT
BEGIN:VEVENT
DTSTART;TZID=America/New_York:20211214T151500
DTEND;TZID=America/New_York:20211214T163000
DTSTAMP:20260423T191656
CREATED:20211110T193643Z
LAST-MODIFIED:20211213T222621Z
UID:10008462-1639494900-1639499400@www.tcsatl.org
SUMMARY:Intramural Tennis (Grades 5-8)
DESCRIPTION:
URL:https://www.tcsatl.org/event/intramural-tennis-grades-5-8-5/
END:VEVENT
BEGIN:VEVENT
DTSTART;TZID=America/New_York:20211213T151500
DTEND;TZID=America/New_York:20211213T163000
DTSTAMP:20260423T191656
CREATED:20211110T193643Z
LAST-MODIFIED:20211212T222625Z
UID:10008458-1639408500-1639413000@www.tcsatl.org
SUMMARY:Intramural Ultimate Frisbee (Grade 3-5)
DESCRIPTION:
URL:https://www.tcsatl.org/event/intramural-ultimate-frisbee-grade-3-5-10/
END:VEVENT
BEGIN:VEVENT
DTSTART;TZID=America/New_York:20211213T151500
DTEND;TZID=America/New_York:20211213T163000
DTSTAMP:20260423T191656
CREATED:20211110T193643Z
LAST-MODIFIED:20211212T222625Z
UID:10008459-1639408500-1639413000@www.tcsatl.org
SUMMARY:Intramural Cross Country/Track (Grades 3-8)
DESCRIPTION:
URL:https://www.tcsatl.org/event/intramural-cross-country-track-grades-3-8-10/
END:VEVENT
BEGIN:VEVENT
DTSTART;TZID=America/New_York:20211213T151500
DTEND;TZID=America/New_York:20211213T163000
DTSTAMP:20260423T191656
CREATED:20211110T193643Z
LAST-MODIFIED:20211212T222625Z
UID:10008460-1639408500-1639413000@www.tcsatl.org
SUMMARY:Intramural Ultimate Frisbee (Grades 6-8)
DESCRIPTION:
URL:https://www.tcsatl.org/event/intramural-ultimate-frisbee-grades-6-8-5/
END:VEVENT
BEGIN:VEVENT
DTSTART;TZID=America/New_York:20211213T151500
DTEND;TZID=America/New_York:20211213T163000
DTSTAMP:20260423T191656
CREATED:20211110T193643Z
LAST-MODIFIED:20211212T222625Z
UID:10008461-1639408500-1639413000@www.tcsatl.org
SUMMARY:Intramural Volleyball (Grades 3-8)
DESCRIPTION:
URL:https://www.tcsatl.org/event/intramural-volleyball-grades-3-8-5/
END:VEVENT
BEGIN:VEVENT
DTSTART;TZID=America/New_York:20211209T151500
DTEND;TZID=America/New_York:20211209T163000
DTSTAMP:20260423T191656
CREATED:20211110T193643Z
LAST-MODIFIED:20211208T221207Z
UID:10008456-1639062900-1639067400@www.tcsatl.org
SUMMARY:Intramural Cross Country/Track (Grades 3-8)
DESCRIPTION:
URL:https://www.tcsatl.org/event/intramural-cross-country-track-grades-3-8-9/
END:VEVENT
BEGIN:VEVENT
DTSTART;TZID=America/New_York:20211209T151500
DTEND;TZID=America/New_York:20211209T163000
DTSTAMP:20260423T191656
CREATED:20211110T193643Z
LAST-MODIFIED:20211208T221207Z
UID:10008457-1639062900-1639067400@www.tcsatl.org
SUMMARY:Intramural Ultimate Frisbee (Grade 3-5)
DESCRIPTION:
URL:https://www.tcsatl.org/event/intramural-ultimate-frisbee-grade-3-5-9/
END:VEVENT
BEGIN:VEVENT
DTSTART;TZID=America/New_York:20211208T151500
DTEND;TZID=America/New_York:20211208T163000
DTSTAMP:20260423T191656
CREATED:20211110T193642Z
LAST-MODIFIED:20211207T221216Z
UID:10008455-1638976500-1638981000@www.tcsatl.org
SUMMARY:Intramural Tennis (Grades 3-5)
DESCRIPTION:
URL:https://www.tcsatl.org/event/intramural-tennis-grades-3-5-5/
END:VEVENT
BEGIN:VEVENT
DTSTART;TZID=America/New_York:20211207T151500
DTEND;TZID=America/New_York:20211207T163000
DTSTAMP:20260423T191656
CREATED:20211110T193642Z
LAST-MODIFIED:20211206T215908Z
UID:10008454-1638890100-1638894600@www.tcsatl.org
SUMMARY:Intramural Tennis (Grades 5-8)
DESCRIPTION:
URL:https://www.tcsatl.org/event/intramural-tennis-grades-5-8-4/
END:VEVENT
BEGIN:VEVENT
DTSTART;TZID=America/New_York:20211206T151500
DTEND;TZID=America/New_York:20211206T163000
DTSTAMP:20260423T191656
CREATED:20211110T193642Z
LAST-MODIFIED:20211205T215710Z
UID:10008450-1638803700-1638808200@www.tcsatl.org
SUMMARY:Intramural Ultimate Frisbee (Grades 6-8)
DESCRIPTION:
URL:https://www.tcsatl.org/event/intramural-ultimate-frisbee-grades-6-8-4/
END:VEVENT
END:VCALENDAR