BEGIN:VCALENDAR
VERSION:2.0
PRODID:-//The Children&#039;s School - ECPv6.15.15//NONSGML v1.0//EN
CALSCALE:GREGORIAN
METHOD:PUBLISH
X-WR-CALNAME:The Children&#039;s School
X-ORIGINAL-URL:https://www.tcsatl.org
X-WR-CALDESC:Events for The Children&#039;s School
REFRESH-INTERVAL;VALUE=DURATION:PT1H
X-Robots-Tag:noindex
X-PUBLISHED-TTL:PT1H
BEGIN:VTIMEZONE
TZID:America/New_York
BEGIN:DAYLIGHT
TZOFFSETFROM:-0500
TZOFFSETTO:-0400
TZNAME:EDT
DTSTART:20230312T070000
END:DAYLIGHT
BEGIN:STANDARD
TZOFFSETFROM:-0400
TZOFFSETTO:-0500
TZNAME:EST
DTSTART:20231105T060000
END:STANDARD
BEGIN:DAYLIGHT
TZOFFSETFROM:-0500
TZOFFSETTO:-0400
TZNAME:EDT
DTSTART:20240310T070000
END:DAYLIGHT
BEGIN:STANDARD
TZOFFSETFROM:-0400
TZOFFSETTO:-0500
TZNAME:EST
DTSTART:20241103T060000
END:STANDARD
BEGIN:DAYLIGHT
TZOFFSETFROM:-0500
TZOFFSETTO:-0400
TZNAME:EDT
DTSTART:20250309T070000
END:DAYLIGHT
BEGIN:STANDARD
TZOFFSETFROM:-0400
TZOFFSETTO:-0500
TZNAME:EST
DTSTART:20251102T060000
END:STANDARD
END:VTIMEZONE
BEGIN:VEVENT
DTSTART;VALUE=DATE:20240911
DTEND;VALUE=DATE:20240912
DTSTAMP:20260421T114321
CREATED:20240829T171443Z
LAST-MODIFIED:20240911T184441Z
UID:10011185-1726012800-1726099199@www.tcsatl.org
SUMMARY:C Day
DESCRIPTION:
URL:https://www.tcsatl.org/event/c-day-31/
END:VEVENT
BEGIN:VEVENT
DTSTART;VALUE=DATE:20240911
DTEND;VALUE=DATE:20240912
DTSTAMP:20260421T114321
CREATED:20240829T171443Z
LAST-MODIFIED:20240829T171443Z
UID:10011178-1726012800-1726099199@www.tcsatl.org
SUMMARY:C Day
DESCRIPTION:
URL:https://www.tcsatl.org/event/c-day-32/
END:VEVENT
BEGIN:VEVENT
DTSTART;TZID=America/New_York:20240911T074500
DTEND;TZID=America/New_York:20240911T090000
DTSTAMP:20260421T114321
CREATED:20240812T184452Z
LAST-MODIFIED:20240910T221442Z
UID:10010658-1726040700-1726045200@www.tcsatl.org
SUMMARY:Intramural Co-Ed Volleyball
DESCRIPTION:
URL:https://www.tcsatl.org/event/intramural-co-ed-volleyball-29/
END:VEVENT
BEGIN:VEVENT
DTSTART;TZID=America/New_York:20240911T151500
DTEND;TZID=America/New_York:20240911T163000
DTSTAMP:20260421T114321
CREATED:20240812T184452Z
LAST-MODIFIED:20240910T221442Z
UID:10010659-1726067700-1726072200@www.tcsatl.org
SUMMARY:Intramural Co-Ed Tennis
DESCRIPTION:Carpool 4:40-4:55 PM
URL:https://www.tcsatl.org/event/intramural-co-ed-tennis-8/
END:VEVENT
BEGIN:VEVENT
DTSTART;TZID=America/New_York:20240911T154500
DTEND;TZID=America/New_York:20240911T170000
DTSTAMP:20260421T114321
CREATED:20240812T184452Z
LAST-MODIFIED:20240910T221442Z
UID:10010660-1726069500-1726074000@www.tcsatl.org
SUMMARY:MAAC Girls and Boys Cross Country
DESCRIPTION:Carpool 5:00-5:15 PM
URL:https://www.tcsatl.org/event/maac-girls-and-boys-cross-country-11/
END:VEVENT
BEGIN:VEVENT
DTSTART;VALUE=DATE:20240912
DTEND;VALUE=DATE:20240913
DTSTAMP:20260421T114321
CREATED:20240829T171444Z
LAST-MODIFIED:20240912T185939Z
UID:10011188-1726099200-1726185599@www.tcsatl.org
SUMMARY:D Day
DESCRIPTION:
URL:https://www.tcsatl.org/event/d-day-29/
END:VEVENT
BEGIN:VEVENT
DTSTART;TZID=America/New_York:20240912T154500
DTEND;TZID=America/New_York:20240912T164500
DTSTAMP:20260421T114321
CREATED:20240812T184453Z
LAST-MODIFIED:20240911T223022Z
UID:10010663-1726155900-1726159500@www.tcsatl.org
SUMMARY:Intramural Girls & Boys Cross Country
DESCRIPTION:Carpool 4:45-5:00 PM
URL:https://www.tcsatl.org/event/intramural-girls-boys-cross-country-30/
END:VEVENT
BEGIN:VEVENT
DTSTART;TZID=America/New_York:20240912T154500
DTEND;TZID=America/New_York:20240912T170000
DTSTAMP:20260421T114321
CREATED:20240812T184452Z
LAST-MODIFIED:20240911T223022Z
UID:10010661-1726155900-1726160400@www.tcsatl.org
SUMMARY:MAAC Girls Volleyball
DESCRIPTION:Carpool 5:00- 5:15 PM
URL:https://www.tcsatl.org/event/maac-girls-volleyball-128/
END:VEVENT
BEGIN:VEVENT
DTSTART;TZID=America/New_York:20240912T154500
DTEND;TZID=America/New_York:20240912T170000
DTSTAMP:20260421T114321
CREATED:20240812T184453Z
LAST-MODIFIED:20240911T223022Z
UID:10010662-1726155900-1726160400@www.tcsatl.org
SUMMARY:MAAC Co-Ed Ultimate Frisbee
DESCRIPTION:Carpool 5:00-5:15 PM
URL:https://www.tcsatl.org/event/maac-co-ed-ultimate-frisbee-11/
END:VEVENT
BEGIN:VEVENT
DTSTART;TZID=America/New_York:20240912T180000
DTEND;TZID=America/New_York:20240912T200000
DTSTAMP:20260421T114321
CREATED:20240806T181442Z
LAST-MODIFIED:20240912T224443Z
UID:10010595-1726164000-1726171200@www.tcsatl.org
SUMMARY:AWAY GAME - MAAC Girls Volleyball Match vs Paideia
DESCRIPTION:
URL:https://www.tcsatl.org/event/away-game-maac-girls-volleyball-match-vs-paideia/
LOCATION:1368 Ponce De Leon Ave NE\, Atlanta\, GA\, United States
GEO:33.787804;-84.359775
END:VEVENT
BEGIN:VEVENT
DTSTART;VALUE=DATE:20240913
DTEND;VALUE=DATE:20240914
DTSTAMP:20260421T114321
CREATED:20240829T171444Z
LAST-MODIFIED:20240913T185949Z
UID:10011189-1726185600-1726271999@www.tcsatl.org
SUMMARY:E Day
DESCRIPTION:
URL:https://www.tcsatl.org/event/e-day-30/
END:VEVENT
BEGIN:VEVENT
DTSTART;TZID=America/New_York:20240913T154500
DTEND;TZID=America/New_York:20240913T170000
DTSTAMP:20260421T114321
CREATED:20240812T184453Z
LAST-MODIFIED:20240912T224444Z
UID:10010664-1726242300-1726246800@www.tcsatl.org
SUMMARY:MAAC Girls and Boys Cross Country
DESCRIPTION:Carpool 5:00-5:15 PM
URL:https://www.tcsatl.org/event/maac-girls-and-boys-cross-country-12/
END:VEVENT
BEGIN:VEVENT
DTSTART;TZID=America/New_York:20240913T154500
DTEND;TZID=America/New_York:20240913T170000
DTSTAMP:20260421T114321
CREATED:20240812T184453Z
LAST-MODIFIED:20240912T224444Z
UID:10010665-1726242300-1726246800@www.tcsatl.org
SUMMARY:MAAC Girls Volleyball
DESCRIPTION:Carpool 5:00- 5:15 PM
URL:https://www.tcsatl.org/event/maac-girls-volleyball-129/
END:VEVENT
BEGIN:VEVENT
DTSTART;TZID=America/New_York:20240913T154500
DTEND;TZID=America/New_York:20240913T170000
DTSTAMP:20260421T114321
CREATED:20240812T184454Z
LAST-MODIFIED:20240912T224444Z
UID:10010666-1726242300-1726246800@www.tcsatl.org
SUMMARY:MAAC Co-Ed Ultimate Frisbee
DESCRIPTION:Carpool 5:00-5:15 PM
URL:https://www.tcsatl.org/event/maac-co-ed-ultimate-frisbee-12/
END:VEVENT
BEGIN:VEVENT
DTSTART;TZID=America/New_York:20240913T161500
DTEND;TZID=America/New_York:20240913T181500
DTSTAMP:20260421T114321
CREATED:20240806T181442Z
LAST-MODIFIED:20240912T224444Z
UID:10010596-1726244100-1726251300@www.tcsatl.org
SUMMARY:HOME GAME - MAAC Girls Volleyball Match vs St. Benedicts - GYM
DESCRIPTION:
URL:https://www.tcsatl.org/event/home-game-maac-girls-volleyball-match-vs-st-benedicts-gym/
END:VEVENT
BEGIN:VEVENT
DTSTART;VALUE=DATE:20240916
DTEND;VALUE=DATE:20240917
DTSTAMP:20260421T114321
CREATED:20240829T171444Z
LAST-MODIFIED:20240916T191614Z
UID:10011190-1726444800-1726531199@www.tcsatl.org
SUMMARY:F Day
DESCRIPTION:
URL:https://www.tcsatl.org/event/f-day-29/
END:VEVENT
BEGIN:VEVENT
DTSTART;TZID=America/New_York:20240916T154500
DTEND;TZID=America/New_York:20240916T164500
DTSTAMP:20260421T114321
CREATED:20240812T184454Z
LAST-MODIFIED:20240915T231443Z
UID:10010668-1726501500-1726505100@www.tcsatl.org
SUMMARY:Intramural Girls & Boys Cross Country
DESCRIPTION:Carpool 4:45-5:00 PM
URL:https://www.tcsatl.org/event/intramural-girls-boys-cross-country-31/
END:VEVENT
BEGIN:VEVENT
DTSTART;TZID=America/New_York:20240916T154500
DTEND;TZID=America/New_York:20240916T170000
DTSTAMP:20260421T114321
CREATED:20240812T184454Z
LAST-MODIFIED:20240915T231443Z
UID:10010667-1726501500-1726506000@www.tcsatl.org
SUMMARY:MAAC Girls Volleyball
DESCRIPTION:Carpool 5:00- 5:15 PM
URL:https://www.tcsatl.org/event/maac-girls-volleyball-130/
END:VEVENT
BEGIN:VEVENT
DTSTART;TZID=America/New_York:20240916T154500
DTEND;TZID=America/New_York:20240916T170000
DTSTAMP:20260421T114321
CREATED:20240812T184455Z
LAST-MODIFIED:20240915T231443Z
UID:10010669-1726501500-1726506000@www.tcsatl.org
SUMMARY:MAAC Co-Ed Ultimate Frisbee
DESCRIPTION:Carpool 5:00-5:15 PM
URL:https://www.tcsatl.org/event/maac-co-ed-ultimate-frisbee-13/
END:VEVENT
BEGIN:VEVENT
DTSTART;TZID=America/New_York:20240916T160000
DTEND;TZID=America/New_York:20240916T180000
DTSTAMP:20260421T114321
CREATED:20240806T181442Z
LAST-MODIFIED:20240915T231443Z
UID:10010597-1726502400-1726509600@www.tcsatl.org
SUMMARY:HOME GAME- MAAC Co-Ed Ultimate Frisbee vs Faith Lutheran School (Active Oval)
DESCRIPTION:
URL:https://www.tcsatl.org/event/home-game-maac-co-ed-ultimate-frisbee-vs-faith-lutheran-school-active-oval/
END:VEVENT
BEGIN:VEVENT
DTSTART;TZID=America/New_York:20240916T160000
DTEND;TZID=America/New_York:20240916T180000
DTSTAMP:20260421T114322
CREATED:20240806T181442Z
LAST-MODIFIED:20240915T231443Z
UID:10010598-1726502400-1726509600@www.tcsatl.org
SUMMARY:HOME GAME - MAAC Girls Volleyball Match vs Heritage Prep - GYM
DESCRIPTION:
URL:https://www.tcsatl.org/event/home-game-maac-girls-volleyball-match-vs-heritage-prep-gym/
END:VEVENT
BEGIN:VEVENT
DTSTART;VALUE=DATE:20240917
DTEND;VALUE=DATE:20240918
DTSTAMP:20260421T114322
CREATED:20240829T171445Z
LAST-MODIFIED:20240917T192943Z
UID:10011192-1726531200-1726617599@www.tcsatl.org
SUMMARY:A Day
DESCRIPTION:
URL:https://www.tcsatl.org/event/a-day-30/
END:VEVENT
BEGIN:VEVENT
DTSTART;TZID=America/New_York:20240917T120000
DTEND;TZID=America/New_York:20240917T130000
DTSTAMP:20260421T114322
CREATED:20240904T175939Z
LAST-MODIFIED:20240916T191614Z
UID:10011339-1726574400-1726578000@www.tcsatl.org
SUMMARY:8th Grade Ages & Stages Virtual Event
DESCRIPTION:Join Head of School Roslyn Benjamin and members of program leadership and/or Learning Strategies and Academic Support Services (LSASS) for "Ages and Stages\," a virtual enrichment and community-building discussion.\nWe will discuss topics related to the grade-level's cognitive and social-emotional development. Connect with one another and share strategies you use at home for your child's specific age and stage.\nA Zoom link will be sent within 24 hours of the event.
URL:https://www.tcsatl.org/event/8th-grade-ages-stages-virtual-event/
END:VEVENT
BEGIN:VEVENT
DTSTART;TZID=America/New_York:20240917T151500
DTEND;TZID=America/New_York:20240917T163000
DTSTAMP:20260421T114322
CREATED:20240812T184455Z
LAST-MODIFIED:20240916T232942Z
UID:10010672-1726586100-1726590600@www.tcsatl.org
SUMMARY:Intramural Co-Ed Tennis
DESCRIPTION:Carpool 4:40-4:55 PM
URL:https://www.tcsatl.org/event/intramural-co-ed-tennis-9/
END:VEVENT
BEGIN:VEVENT
DTSTART;TZID=America/New_York:20240917T154500
DTEND;TZID=America/New_York:20240917T164500
DTSTAMP:20260421T114322
CREATED:20240812T184455Z
LAST-MODIFIED:20240916T232942Z
UID:10010670-1726587900-1726591500@www.tcsatl.org
SUMMARY:Intramural Co-Ed Volleyball
DESCRIPTION:Carpool 4:45-5:00 PM
URL:https://www.tcsatl.org/event/intramural-co-ed-volleyball-30/
END:VEVENT
BEGIN:VEVENT
DTSTART;TZID=America/New_York:20240917T154500
DTEND;TZID=America/New_York:20240917T170000
DTSTAMP:20260421T114322
CREATED:20240812T184455Z
LAST-MODIFIED:20240916T232942Z
UID:10010671-1726587900-1726592400@www.tcsatl.org
SUMMARY:MAAC Girls and Boys Cross Country
DESCRIPTION:Carpool 5:00-5:15 PM
URL:https://www.tcsatl.org/event/maac-girls-and-boys-cross-country-13/
END:VEVENT
BEGIN:VEVENT
DTSTART;VALUE=DATE:20240918
DTEND;VALUE=DATE:20240919
DTSTAMP:20260421T114322
CREATED:20240829T171445Z
LAST-MODIFIED:20240918T192942Z
UID:10011191-1726617600-1726703999@www.tcsatl.org
SUMMARY:B Day
DESCRIPTION:
URL:https://www.tcsatl.org/event/b-day-32/
END:VEVENT
BEGIN:VEVENT
DTSTART;TZID=America/New_York:20240918T074500
DTEND;TZID=America/New_York:20240918T090000
DTSTAMP:20260421T114322
CREATED:20240812T184455Z
LAST-MODIFIED:20240917T234441Z
UID:10010673-1726645500-1726650000@www.tcsatl.org
SUMMARY:Intramural Co-Ed Volleyball
DESCRIPTION:
URL:https://www.tcsatl.org/event/intramural-co-ed-volleyball-31/
END:VEVENT
BEGIN:VEVENT
DTSTART;TZID=America/New_York:20240918T151500
DTEND;TZID=America/New_York:20240918T163000
DTSTAMP:20260421T114322
CREATED:20240812T184456Z
LAST-MODIFIED:20240917T234441Z
UID:10010675-1726672500-1726677000@www.tcsatl.org
SUMMARY:Intramural Co-Ed Tennis
DESCRIPTION:Carpool 4:40-4:55 PM
URL:https://www.tcsatl.org/event/intramural-co-ed-tennis-10/
END:VEVENT
BEGIN:VEVENT
DTSTART;TZID=America/New_York:20240918T154500
DTEND;TZID=America/New_York:20240918T170000
DTSTAMP:20260421T114322
CREATED:20240812T184456Z
LAST-MODIFIED:20240917T234441Z
UID:10010674-1726674300-1726678800@www.tcsatl.org
SUMMARY:MAAC Girls and Boys Cross Country
DESCRIPTION:Carpool 5:00-5:15 PM
URL:https://www.tcsatl.org/event/maac-girls-and-boys-cross-country-14/
END:VEVENT
END:VCALENDAR