BEGIN:VCALENDAR
VERSION:2.0
PRODID:-//The Children&#039;s School - ECPv6.15.15//NONSGML v1.0//EN
CALSCALE:GREGORIAN
METHOD:PUBLISH
X-WR-CALNAME:The Children&#039;s School
X-ORIGINAL-URL:https://www.tcsatl.org
X-WR-CALDESC:Events for The Children&#039;s School
REFRESH-INTERVAL;VALUE=DURATION:PT1H
X-Robots-Tag:noindex
X-PUBLISHED-TTL:PT1H
BEGIN:VTIMEZONE
TZID:America/New_York
BEGIN:DAYLIGHT
TZOFFSETFROM:-0500
TZOFFSETTO:-0400
TZNAME:EDT
DTSTART:20230312T070000
END:DAYLIGHT
BEGIN:STANDARD
TZOFFSETFROM:-0400
TZOFFSETTO:-0500
TZNAME:EST
DTSTART:20231105T060000
END:STANDARD
BEGIN:DAYLIGHT
TZOFFSETFROM:-0500
TZOFFSETTO:-0400
TZNAME:EDT
DTSTART:20240310T070000
END:DAYLIGHT
BEGIN:STANDARD
TZOFFSETFROM:-0400
TZOFFSETTO:-0500
TZNAME:EST
DTSTART:20241103T060000
END:STANDARD
BEGIN:DAYLIGHT
TZOFFSETFROM:-0500
TZOFFSETTO:-0400
TZNAME:EDT
DTSTART:20250309T070000
END:DAYLIGHT
BEGIN:STANDARD
TZOFFSETFROM:-0400
TZOFFSETTO:-0500
TZNAME:EST
DTSTART:20251102T060000
END:STANDARD
END:VTIMEZONE
BEGIN:VEVENT
DTSTART;VALUE=DATE:20240902
DTEND;VALUE=DATE:20240903
DTSTAMP:20260421T082718
CREATED:20240719T041437Z
LAST-MODIFIED:20240902T173014Z
UID:10010588-1725235200-1725321599@www.tcsatl.org
SUMMARY:LABOR DAY - SCHOOL CLOSED FOR TCS STUDENTS
DESCRIPTION:
URL:https://www.tcsatl.org/event/labor-day-school-closed-for-students/
END:VEVENT
BEGIN:VEVENT
DTSTART;TZID=America/New_York:20240902T154500
DTEND;TZID=America/New_York:20240902T164500
DTSTAMP:20260421T082718
CREATED:20240812T184447Z
LAST-MODIFIED:20240901T204444Z
UID:10010637-1725291900-1725295500@www.tcsatl.org
SUMMARY:Intramural Girls & Boys Cross Country
DESCRIPTION:Carpool 4:45-5:00 PM
URL:https://www.tcsatl.org/event/intramural-girls-boys-cross-country-27/
END:VEVENT
BEGIN:VEVENT
DTSTART;TZID=America/New_York:20240902T154500
DTEND;TZID=America/New_York:20240902T170000
DTSTAMP:20260421T082718
CREATED:20240812T184448Z
LAST-MODIFIED:20240902T205943Z
UID:10010638-1725291900-1725296400@www.tcsatl.org
SUMMARY:MAAC Co-Ed Ultimate Frisbee
DESCRIPTION:Carpool 5:00-5:15 PM
URL:https://www.tcsatl.org/event/maac-co-ed-ultimate-frisbee-7/
END:VEVENT
BEGIN:VEVENT
DTSTART;TZID=America/New_York:20240902T154500
DTEND;TZID=America/New_York:20240902T170000
DTSTAMP:20260421T082718
CREATED:20240812T184448Z
LAST-MODIFIED:20240902T205943Z
UID:10010639-1725291900-1725296400@www.tcsatl.org
SUMMARY:MAAC Girls Volleyball
DESCRIPTION:Carpool 5:00- 5:15 PM
URL:https://www.tcsatl.org/event/maac-girls-volleyball-124/
END:VEVENT
BEGIN:VEVENT
DTSTART;VALUE=DATE:20240903
DTEND;VALUE=DATE:20240904
DTSTAMP:20260421T082718
CREATED:20240829T171443Z
LAST-MODIFIED:20240903T174441Z
UID:10011182-1725321600-1725407999@www.tcsatl.org
SUMMARY:C Day
DESCRIPTION:
URL:https://www.tcsatl.org/event/c-day-29/
END:VEVENT
BEGIN:VEVENT
DTSTART;VALUE=DATE:20240903
DTEND;VALUE=DATE:20240904
DTSTAMP:20260421T082718
CREATED:20240829T171443Z
LAST-MODIFIED:20240829T171443Z
UID:10011175-1725321600-1725407999@www.tcsatl.org
SUMMARY:C Day
DESCRIPTION:
URL:https://www.tcsatl.org/event/c-day-30/
END:VEVENT
BEGIN:VEVENT
DTSTART;TZID=America/New_York:20240903T151500
DTEND;TZID=America/New_York:20240903T163000
DTSTAMP:20260421T082718
CREATED:20240812T184448Z
LAST-MODIFIED:20240902T205943Z
UID:10010641-1725376500-1725381000@www.tcsatl.org
SUMMARY:Intramural Co-Ed Tennis
DESCRIPTION:Carpool 4:40-4:55 PM
URL:https://www.tcsatl.org/event/intramural-co-ed-tennis-5/
END:VEVENT
BEGIN:VEVENT
DTSTART;TZID=America/New_York:20240903T154500
DTEND;TZID=America/New_York:20240903T164500
DTSTAMP:20260421T082718
CREATED:20240812T184448Z
LAST-MODIFIED:20240902T205943Z
UID:10010642-1725378300-1725381900@www.tcsatl.org
SUMMARY:Intramural Co-Ed Volleyball
DESCRIPTION:Carpool 4:45-5:00 PM
URL:https://www.tcsatl.org/event/intramural-co-ed-volleyball-26/
END:VEVENT
BEGIN:VEVENT
DTSTART;TZID=America/New_York:20240903T154500
DTEND;TZID=America/New_York:20240903T170000
DTSTAMP:20260421T082718
CREATED:20240812T184448Z
LAST-MODIFIED:20240903T205943Z
UID:10010640-1725378300-1725382800@www.tcsatl.org
SUMMARY:MAAC Girls and Boys Cross Country
DESCRIPTION:Carpool 5:00-5:15 PM
URL:https://www.tcsatl.org/event/maac-girls-and-boys-cross-country-7/
END:VEVENT
BEGIN:VEVENT
DTSTART;VALUE=DATE:20240904
DTEND;VALUE=DATE:20240905
DTSTAMP:20260421T082718
CREATED:20240829T171442Z
LAST-MODIFIED:20240904T175938Z
UID:10011181-1725408000-1725494399@www.tcsatl.org
SUMMARY:D Day
DESCRIPTION:
URL:https://www.tcsatl.org/event/d-day-27/
END:VEVENT
BEGIN:VEVENT
DTSTART;VALUE=DATE:20240904
DTEND;VALUE=DATE:20240905
DTSTAMP:20260421T082718
CREATED:20240829T171442Z
LAST-MODIFIED:20240829T171442Z
UID:10011174-1725408000-1725494399@www.tcsatl.org
SUMMARY:D Day
DESCRIPTION:
URL:https://www.tcsatl.org/event/d-day-28/
END:VEVENT
BEGIN:VEVENT
DTSTART;TZID=America/New_York:20240904T074500
DTEND;TZID=America/New_York:20240904T090000
DTSTAMP:20260421T082718
CREATED:20240812T184448Z
LAST-MODIFIED:20240903T205943Z
UID:10010643-1725435900-1725440400@www.tcsatl.org
SUMMARY:Intramural Co-Ed Volleyball
DESCRIPTION:
URL:https://www.tcsatl.org/event/intramural-co-ed-volleyball-27/
END:VEVENT
BEGIN:VEVENT
DTSTART;TZID=America/New_York:20240904T151500
DTEND;TZID=America/New_York:20240904T163000
DTSTAMP:20260421T082718
CREATED:20240812T184449Z
LAST-MODIFIED:20240903T205943Z
UID:10010645-1725462900-1725467400@www.tcsatl.org
SUMMARY:Intramural Co-Ed Tennis
DESCRIPTION:Carpool 4:40-4:55 PM
URL:https://www.tcsatl.org/event/intramural-co-ed-tennis-6/
END:VEVENT
BEGIN:VEVENT
DTSTART;TZID=America/New_York:20240904T154500
DTEND;TZID=America/New_York:20240904T170000
DTSTAMP:20260421T082718
CREATED:20240812T184449Z
LAST-MODIFIED:20240903T205943Z
UID:10010644-1725464700-1725469200@www.tcsatl.org
SUMMARY:MAAC Girls and Boys Cross Country
DESCRIPTION:Carpool 5:00-5:15 PM
URL:https://www.tcsatl.org/event/maac-girls-and-boys-cross-country-8/
END:VEVENT
BEGIN:VEVENT
DTSTART;VALUE=DATE:20240905
DTEND;VALUE=DATE:20240906
DTSTAMP:20260421T082718
CREATED:20240829T171443Z
LAST-MODIFIED:20240829T171443Z
UID:10011177-1725494400-1725580799@www.tcsatl.org
SUMMARY:E Day
DESCRIPTION:
URL:https://www.tcsatl.org/event/e-day-29/
END:VEVENT
BEGIN:VEVENT
DTSTART;VALUE=DATE:20240905
DTEND;VALUE=DATE:20240906
DTSTAMP:20260421T082718
CREATED:20240829T171443Z
LAST-MODIFIED:20240905T175942Z
UID:10011184-1725494400-1725580799@www.tcsatl.org
SUMMARY:E Day
DESCRIPTION:
URL:https://www.tcsatl.org/event/e-day-28/
END:VEVENT
BEGIN:VEVENT
DTSTART;TZID=America/New_York:20240905T154500
DTEND;TZID=America/New_York:20240905T164500
DTSTAMP:20260421T082718
CREATED:20240812T184449Z
LAST-MODIFIED:20240904T211515Z
UID:10010646-1725551100-1725554700@www.tcsatl.org
SUMMARY:Intramural Girls & Boys Cross Country
DESCRIPTION:Carpool 4:45-5:00 PM
URL:https://www.tcsatl.org/event/intramural-girls-boys-cross-country-28/
END:VEVENT
BEGIN:VEVENT
DTSTART;TZID=America/New_York:20240905T154500
DTEND;TZID=America/New_York:20240905T170000
DTSTAMP:20260421T082718
CREATED:20240812T184449Z
LAST-MODIFIED:20240904T211515Z
UID:10010647-1725551100-1725555600@www.tcsatl.org
SUMMARY:MAAC Girls Volleyball
DESCRIPTION:Carpool 5:00- 5:15 PM
URL:https://www.tcsatl.org/event/maac-girls-volleyball-125/
END:VEVENT
BEGIN:VEVENT
DTSTART;TZID=America/New_York:20240905T154500
DTEND;TZID=America/New_York:20240905T170000
DTSTAMP:20260421T082718
CREATED:20240812T184449Z
LAST-MODIFIED:20240904T211515Z
UID:10010648-1725551100-1725555600@www.tcsatl.org
SUMMARY:MAAC Co-Ed Ultimate Frisbee
DESCRIPTION:Carpool 5:00-5:15 PM
URL:https://www.tcsatl.org/event/maac-co-ed-ultimate-frisbee-8/
END:VEVENT
BEGIN:VEVENT
DTSTART;TZID=America/New_York:20240905T160000
DTEND;TZID=America/New_York:20240905T180000
DTSTAMP:20260421T082718
CREATED:20240806T181441Z
LAST-MODIFIED:20240905T212943Z
UID:10010591-1725552000-1725559200@www.tcsatl.org
SUMMARY:AWAY GAME - MAAC Girls Volleyball Match vs Cliff Valley
DESCRIPTION:
URL:https://www.tcsatl.org/event/away-game-maac-girls-volleyball-match-vs-cliff-valley/
LOCATION:Cliff Valley School\, 2426 Clairmont Rd NE\, Atlanta\, GA\, United States
GEO:33.826578;-84.307723
X-APPLE-STRUCTURED-LOCATION;VALUE=URI;X-ADDRESS=Cliff Valley School 2426 Clairmont Rd NE Atlanta GA United States;X-APPLE-RADIUS=500;X-TITLE=2426 Clairmont Rd NE:geo:-84.307723,33.826578
END:VEVENT
BEGIN:VEVENT
DTSTART;TZID=America/New_York:20240905T170000
DTEND;TZID=America/New_York:20240905T200000
DTSTAMP:20260421T082718
CREATED:20240613T163257Z
LAST-MODIFIED:20240718T041535Z
UID:10010571-1725555600-1725566400@www.tcsatl.org
SUMMARY:Back to School Night (Early Learning - Grade 2)  - TCS
DESCRIPTION:
URL:https://www.tcsatl.org/event/back-to-school-night-early-learning-grade-2-tcs/
END:VEVENT
BEGIN:VEVENT
DTSTART;TZID=America/New_York:20240905T183000
DTEND;TZID=America/New_York:20240905T213000
DTSTAMP:20260421T082718
CREATED:20240821T052940Z
LAST-MODIFIED:20240905T175942Z
UID:10011166-1725561000-1725571800@www.tcsatl.org
SUMMARY:Back to School Night (Grades EL-2)
DESCRIPTION:
URL:https://www.tcsatl.org/event/back-to-school-night-grades-el-2/
END:VEVENT
BEGIN:VEVENT
DTSTART;VALUE=DATE:20240906
DTEND;VALUE=DATE:20240907
DTSTAMP:20260421T082718
CREATED:20240829T171443Z
LAST-MODIFIED:20240906T181456Z
UID:10011183-1725580800-1725667199@www.tcsatl.org
SUMMARY:F Day
DESCRIPTION:
URL:https://www.tcsatl.org/event/f-day-27/
END:VEVENT
BEGIN:VEVENT
DTSTART;VALUE=DATE:20240906
DTEND;VALUE=DATE:20240907
DTSTAMP:20260421T082718
CREATED:20240829T171443Z
LAST-MODIFIED:20240829T171443Z
UID:10011176-1725580800-1725667199@www.tcsatl.org
SUMMARY:F Day
DESCRIPTION:
URL:https://www.tcsatl.org/event/f-day-28/
END:VEVENT
BEGIN:VEVENT
DTSTART;TZID=America/New_York:20240906T154500
DTEND;TZID=America/New_York:20240906T170000
DTSTAMP:20260421T082718
CREATED:20240812T184450Z
LAST-MODIFIED:20240905T212943Z
UID:10010649-1725637500-1725642000@www.tcsatl.org
SUMMARY:MAAC Girls and Boys Cross Country
DESCRIPTION:Carpool 5:00-5:15 PM
URL:https://www.tcsatl.org/event/maac-girls-and-boys-cross-country-9/
END:VEVENT
BEGIN:VEVENT
DTSTART;TZID=America/New_York:20240906T154500
DTEND;TZID=America/New_York:20240906T170000
DTSTAMP:20260421T082718
CREATED:20240812T184450Z
LAST-MODIFIED:20240905T212944Z
UID:10010650-1725637500-1725642000@www.tcsatl.org
SUMMARY:MAAC Co-Ed Ultimate Frisbee
DESCRIPTION:Carpool 5:00-5:15 PM
URL:https://www.tcsatl.org/event/maac-co-ed-ultimate-frisbee-9/
END:VEVENT
BEGIN:VEVENT
DTSTART;TZID=America/New_York:20240906T154500
DTEND;TZID=America/New_York:20240906T170000
DTSTAMP:20260421T082718
CREATED:20240812T184450Z
LAST-MODIFIED:20240905T212944Z
UID:10010651-1725637500-1725642000@www.tcsatl.org
SUMMARY:MAAC Girls Volleyball
DESCRIPTION:Carpool 5:00- 5:15 PM
URL:https://www.tcsatl.org/event/maac-girls-volleyball-126/
END:VEVENT
BEGIN:VEVENT
DTSTART;TZID=America/New_York:20240906T161500
DTEND;TZID=America/New_York:20240906T181500
DTSTAMP:20260421T082718
CREATED:20240806T181441Z
LAST-MODIFIED:20240906T215245Z
UID:10010592-1725639300-1725646500@www.tcsatl.org
SUMMARY:AWAY GAME - MAAC Co-Ed Ultimate Frisbee Match - Springmont School
DESCRIPTION:
URL:https://www.tcsatl.org/event/away-game-maac-co-ed-ultimate-frisbee-match-springmont-school/
LOCATION:Springmont School\, 5750 Long Island Dr\, Atlanta\, GA\, United States
GEO:33.910614;-84.390956
X-APPLE-STRUCTURED-LOCATION;VALUE=URI;X-ADDRESS=Springmont School 5750 Long Island Dr Atlanta GA United States;X-APPLE-RADIUS=500;X-TITLE=5750 Long Island Dr:geo:-84.390956,33.910614
END:VEVENT
BEGIN:VEVENT
DTSTART;VALUE=DATE:20240909
DTEND;VALUE=DATE:20240910
DTSTAMP:20260421T082718
CREATED:20240829T171444Z
LAST-MODIFIED:20240909T181443Z
UID:10011187-1725840000-1725926399@www.tcsatl.org
SUMMARY:A Day
DESCRIPTION:
URL:https://www.tcsatl.org/event/a-day-29/
END:VEVENT
BEGIN:VEVENT
DTSTART;TZID=America/New_York:20240909T154500
DTEND;TZID=America/New_York:20240909T164500
DTSTAMP:20260421T082718
CREATED:20240812T184451Z
LAST-MODIFIED:20240908T215942Z
UID:10010653-1725896700-1725900300@www.tcsatl.org
SUMMARY:Intramural Girls & Boys Cross Country
DESCRIPTION:Carpool 4:45-5:00 PM
URL:https://www.tcsatl.org/event/intramural-girls-boys-cross-country-29/
END:VEVENT
END:VCALENDAR