BEGIN:VCALENDAR
VERSION:2.0
PRODID:-//The Children&#039;s School - ECPv6.15.15//NONSGML v1.0//EN
CALSCALE:GREGORIAN
METHOD:PUBLISH
X-ORIGINAL-URL:https://www.tcsatl.org
X-WR-CALDESC:Events for The Children&#039;s School
REFRESH-INTERVAL;VALUE=DURATION:PT1H
X-Robots-Tag:noindex
X-PUBLISHED-TTL:PT1H
BEGIN:VTIMEZONE
TZID:America/New_York
BEGIN:DAYLIGHT
TZOFFSETFROM:-0500
TZOFFSETTO:-0400
TZNAME:EDT
DTSTART:20230312T070000
END:DAYLIGHT
BEGIN:STANDARD
TZOFFSETFROM:-0400
TZOFFSETTO:-0500
TZNAME:EST
DTSTART:20231105T060000
END:STANDARD
BEGIN:DAYLIGHT
TZOFFSETFROM:-0500
TZOFFSETTO:-0400
TZNAME:EDT
DTSTART:20240310T070000
END:DAYLIGHT
BEGIN:STANDARD
TZOFFSETFROM:-0400
TZOFFSETTO:-0500
TZNAME:EST
DTSTART:20241103T060000
END:STANDARD
BEGIN:DAYLIGHT
TZOFFSETFROM:-0500
TZOFFSETTO:-0400
TZNAME:EDT
DTSTART:20250309T070000
END:DAYLIGHT
BEGIN:STANDARD
TZOFFSETFROM:-0400
TZOFFSETTO:-0500
TZNAME:EST
DTSTART:20251102T060000
END:STANDARD
END:VTIMEZONE
BEGIN:VEVENT
DTSTART;TZID=America/New_York:20241107T154500
DTEND;TZID=America/New_York:20241107T164500
DTSTAMP:20260422T184937
CREATED:20240812T184519Z
LAST-MODIFIED:20241106T224532Z
UID:10010773-1730994300-1730997900@www.tcsatl.org
SUMMARY:Intramural Co-Ed Ultimate Frisbee
DESCRIPTION:Carpool 4:45-5:00 PM
URL:https://www.tcsatl.org/event/intramural-co-ed-ultimate-frisbee-6/
END:VEVENT
BEGIN:VEVENT
DTSTART;VALUE=DATE:20241108
DTEND;VALUE=DATE:20241109
DTSTAMP:20260422T184937
CREATED:20240829T171452Z
LAST-MODIFIED:20241108T192941Z
UID:10011223-1731024000-1731110399@www.tcsatl.org
SUMMARY:C Day
DESCRIPTION:
URL:https://www.tcsatl.org/event/c-day-38/
END:VEVENT
BEGIN:VEVENT
DTSTART;TZID=America/New_York:20241108T151500
DTEND;TZID=America/New_York:20241108T170000
DTSTAMP:20260422T184937
CREATED:20240812T184520Z
LAST-MODIFIED:20241107T225944Z
UID:10010775-1731078900-1731085200@www.tcsatl.org
SUMMARY:MAAC Girls Basketball
DESCRIPTION:Carpool 5:00-5:15 PM
URL:https://www.tcsatl.org/event/maac-girls-basketball-9/
END:VEVENT
BEGIN:VEVENT
DTSTART;TZID=America/New_York:20241108T151500
DTEND;TZID=America/New_York:20241108T170000
DTSTAMP:20260422T184937
CREATED:20240812T184520Z
LAST-MODIFIED:20241107T225944Z
UID:10010777-1731078900-1731085200@www.tcsatl.org
SUMMARY:MAAC Boys Basketball
DESCRIPTION:
URL:https://www.tcsatl.org/event/maac-boys-basketball-72/
END:VEVENT
BEGIN:VEVENT
DTSTART;TZID=America/New_York:20241108T154500
DTEND;TZID=America/New_York:20241108T170000
DTSTAMP:20260422T184937
CREATED:20240812T184520Z
LAST-MODIFIED:20241107T225944Z
UID:10010776-1731080700-1731085200@www.tcsatl.org
SUMMARY:MAAC Girls and Boys Cross Country
DESCRIPTION:Carpool 5:00-5:15 PM
URL:https://www.tcsatl.org/event/maac-girls-and-boys-cross-country-33/
END:VEVENT
BEGIN:VEVENT
DTSTART;TZID=America/New_York:20241108T160000
DTEND;TZID=America/New_York:20241108T180000
DTSTAMP:20260422T184937
CREATED:20241106T224532Z
LAST-MODIFIED:20241106T224532Z
UID:10011391-1731081600-1731088800@www.tcsatl.org
SUMMARY:AWAY GAME - MAAC GIRLS BASKETBALL GAME vs Woodward-B - Woodward Academy
DESCRIPTION:
URL:https://www.tcsatl.org/event/away-game-maac-girls-basketball-game-vs-woodward-b-woodward-academy-2/
END:VEVENT
BEGIN:VEVENT
DTSTART;TZID=America/New_York:20241108T160000
DTEND;TZID=America/New_York:20241108T180000
DTSTAMP:20260422T184937
CREATED:20241106T224532Z
LAST-MODIFIED:20241108T225945Z
UID:10011392-1731081600-1731088800@www.tcsatl.org
SUMMARY:AWAY GAME - MAAC GIRLS BASKETBALL GAME vs Woodward-B - Woodward Academy
DESCRIPTION:
URL:https://www.tcsatl.org/event/away-game-maac-girls-basketball-game-vs-woodward-b-woodward-academy/
END:VEVENT
BEGIN:VEVENT
DTSTART;VALUE=DATE:20241111
DTEND;VALUE=DATE:20241112
DTSTAMP:20260422T184937
CREATED:20240829T171452Z
LAST-MODIFIED:20241111T192945Z
UID:10011225-1731283200-1731369599@www.tcsatl.org
SUMMARY:D Day
DESCRIPTION:
URL:https://www.tcsatl.org/event/d-day-35/
END:VEVENT
BEGIN:VEVENT
DTSTART;TZID=America/New_York:20241111T151500
DTEND;TZID=America/New_York:20241111T170000
DTSTAMP:20260422T184937
CREATED:20240812T184520Z
LAST-MODIFIED:20241110T232944Z
UID:10010779-1731338100-1731344400@www.tcsatl.org
SUMMARY:MAAC Boys Basketball
DESCRIPTION:
URL:https://www.tcsatl.org/event/maac-boys-basketball-73/
END:VEVENT
BEGIN:VEVENT
DTSTART;TZID=America/New_York:20241111T154500
DTEND;TZID=America/New_York:20241111T164500
DTSTAMP:20260422T184937
CREATED:20240812T184520Z
LAST-MODIFIED:20241110T232945Z
UID:10010778-1731339900-1731343500@www.tcsatl.org
SUMMARY:Intramural Co-Ed Ultimate Frisbee
DESCRIPTION:Carpool 4:45-5:00 PM
URL:https://www.tcsatl.org/event/intramural-co-ed-ultimate-frisbee-7/
END:VEVENT
BEGIN:VEVENT
DTSTART;VALUE=DATE:20241112
DTEND;VALUE=DATE:20241113
DTSTAMP:20260422T184937
CREATED:20240829T171453Z
LAST-MODIFIED:20241112T192943Z
UID:10011229-1731369600-1731455999@www.tcsatl.org
SUMMARY:E Day
DESCRIPTION:
URL:https://www.tcsatl.org/event/e-day-37/
END:VEVENT
BEGIN:VEVENT
DTSTART;TZID=America/New_York:20241112T151500
DTEND;TZID=America/New_York:20241112T163000
DTSTAMP:20260422T184937
CREATED:20240812T184521Z
LAST-MODIFIED:20241111T232945Z
UID:10010781-1731424500-1731429000@www.tcsatl.org
SUMMARY:Intramural Co-Ed Tennis
DESCRIPTION:Carpool 4:40 – 4:55 PM
URL:https://www.tcsatl.org/event/intramural-co-ed-tennis-25/
END:VEVENT
BEGIN:VEVENT
DTSTART;TZID=America/New_York:20241112T151500
DTEND;TZID=America/New_York:20241112T170000
DTSTAMP:20260422T184937
CREATED:20240812T184520Z
LAST-MODIFIED:20241111T232945Z
UID:10010780-1731424500-1731430800@www.tcsatl.org
SUMMARY:MAAC Girls Basketball
DESCRIPTION:Carpool 5:00-5:15 PM
URL:https://www.tcsatl.org/event/maac-girls-basketball-10/
END:VEVENT
BEGIN:VEVENT
DTSTART;TZID=America/New_York:20241112T154500
DTEND;TZID=America/New_York:20241112T170000
DTSTAMP:20260422T184937
CREATED:20240812T184521Z
LAST-MODIFIED:20241111T232944Z
UID:10010782-1731426300-1731430800@www.tcsatl.org
SUMMARY:MAAC Girls and Boys Cross Country
DESCRIPTION:Carpool 5:00-5:15 PM
URL:https://www.tcsatl.org/event/maac-girls-and-boys-cross-country-34/
END:VEVENT
BEGIN:VEVENT
DTSTART;VALUE=DATE:20241113
DTEND;VALUE=DATE:20241114
DTSTAMP:20260422T184937
CREATED:20240829T171453Z
LAST-MODIFIED:20241113T193001Z
UID:10011228-1731456000-1731542399@www.tcsatl.org
SUMMARY:F Day
DESCRIPTION:
URL:https://www.tcsatl.org/event/f-day-35/
END:VEVENT
BEGIN:VEVENT
DTSTART;TZID=America/New_York:20241113T074500
DTEND;TZID=America/New_York:20241113T090000
DTSTAMP:20260422T184937
CREATED:20240812T184521Z
LAST-MODIFIED:20241112T234445Z
UID:10010783-1731483900-1731488400@www.tcsatl.org
SUMMARY:MAAC Girls Basketball
DESCRIPTION:
URL:https://www.tcsatl.org/event/maac-girls-basketball-11/
END:VEVENT
BEGIN:VEVENT
DTSTART;TZID=America/New_York:20241113T151500
DTEND;TZID=America/New_York:20241113T163000
DTSTAMP:20260422T184937
CREATED:20240812T184521Z
LAST-MODIFIED:20241112T234446Z
UID:10010785-1731510900-1731515400@www.tcsatl.org
SUMMARY:Intramural Co-Ed Tennis
DESCRIPTION:Carpool 4:40 – 4:55 PM
URL:https://www.tcsatl.org/event/intramural-co-ed-tennis-26/
END:VEVENT
BEGIN:VEVENT
DTSTART;TZID=America/New_York:20241113T154500
DTEND;TZID=America/New_York:20241113T170000
DTSTAMP:20260422T184937
CREATED:20240812T184521Z
LAST-MODIFIED:20241112T234446Z
UID:10010784-1731512700-1731517200@www.tcsatl.org
SUMMARY:MAAC Girls and Boys Cross Country
DESCRIPTION:Carpool 5:00-5:15 PM
URL:https://www.tcsatl.org/event/maac-girls-and-boys-cross-country-35/
END:VEVENT
BEGIN:VEVENT
DTSTART;VALUE=DATE:20241114
DTEND;VALUE=DATE:20241115
DTSTAMP:20260422T184937
CREATED:20240829T171453Z
LAST-MODIFIED:20241114T192943Z
UID:10011227-1731542400-1731628799@www.tcsatl.org
SUMMARY:A Day
DESCRIPTION:
URL:https://www.tcsatl.org/event/a-day-36/
END:VEVENT
BEGIN:VEVENT
DTSTART;TZID=America/New_York:20241114T151500
DTEND;TZID=America/New_York:20241114T170000
DTSTAMP:20260422T184937
CREATED:20240812T184521Z
LAST-MODIFIED:20241113T235950Z
UID:10010786-1731597300-1731603600@www.tcsatl.org
SUMMARY:MAAC Boys Basketball
DESCRIPTION:
URL:https://www.tcsatl.org/event/maac-boys-basketball-74/
END:VEVENT
BEGIN:VEVENT
DTSTART;TZID=America/New_York:20241114T154500
DTEND;TZID=America/New_York:20241114T164500
DTSTAMP:20260422T184937
CREATED:20240812T184522Z
LAST-MODIFIED:20241113T235950Z
UID:10010787-1731599100-1731602700@www.tcsatl.org
SUMMARY:Intramural Co-Ed Ultimate Frisbee
DESCRIPTION:Carpool 4:45-5:00 PM
URL:https://www.tcsatl.org/event/intramural-co-ed-ultimate-frisbee-8/
END:VEVENT
BEGIN:VEVENT
DTSTART;TZID=America/New_York:20241114T161500
DTEND;TZID=America/New_York:20241114T181500
DTSTAMP:20260422T184937
CREATED:20241106T224538Z
LAST-MODIFIED:20241113T235950Z
UID:10011393-1731600900-1731608100@www.tcsatl.org
SUMMARY:HOME GAME - MAAC BOYS BASKETBALL GAME vs Swift School
DESCRIPTION:
URL:https://www.tcsatl.org/event/home-game-maac-boys-basketball-game-vs-swift-school/
END:VEVENT
BEGIN:VEVENT
DTSTART;TZID=America/New_York:20241114T181500
DTEND;TZID=America/New_York:20241114T191500
DTSTAMP:20260422T184937
CREATED:20241106T224539Z
LAST-MODIFIED:20241113T235950Z
UID:10011394-1731608100-1731611700@www.tcsatl.org
SUMMARY:HOME GAME - MAAC GIRLS BASKETBALL GAME vs Swift School
DESCRIPTION:
URL:https://www.tcsatl.org/event/home-game-maac-girls-basketball-game-vs-swift-school/
END:VEVENT
BEGIN:VEVENT
DTSTART;VALUE=DATE:20241115
DTEND;VALUE=DATE:20241116
DTSTAMP:20260422T184937
CREATED:20240829T171452Z
LAST-MODIFIED:20241115T194442Z
UID:10011226-1731628800-1731715199@www.tcsatl.org
SUMMARY:B Day
DESCRIPTION:
URL:https://www.tcsatl.org/event/b-day-38/
END:VEVENT
BEGIN:VEVENT
DTSTART;TZID=America/New_York:20241115T151500
DTEND;TZID=America/New_York:20241115T170000
DTSTAMP:20260422T184937
CREATED:20240812T184522Z
LAST-MODIFIED:20241115T145946Z
UID:10010788-1731683700-1731690000@www.tcsatl.org
SUMMARY:MAAC Girls Basketball
DESCRIPTION:Carpool 5:00-5:15 PM
URL:https://www.tcsatl.org/event/maac-girls-basketball-12/
END:VEVENT
BEGIN:VEVENT
DTSTART;TZID=America/New_York:20241115T151500
DTEND;TZID=America/New_York:20241115T170000
DTSTAMP:20260422T184937
CREATED:20240812T184522Z
LAST-MODIFIED:20241115T145945Z
UID:10010789-1731683700-1731690000@www.tcsatl.org
SUMMARY:MAAC Boys Basketball
DESCRIPTION:
URL:https://www.tcsatl.org/event/maac-boys-basketball-75/
END:VEVENT
BEGIN:VEVENT
DTSTART;TZID=America/New_York:20241115T154500
DTEND;TZID=America/New_York:20241115T170000
DTSTAMP:20260422T184937
CREATED:20240812T184522Z
LAST-MODIFIED:20241115T145947Z
UID:10010790-1731685500-1731690000@www.tcsatl.org
SUMMARY:MAAC Girls and Boys Cross Country
DESCRIPTION:Carpool 5:00-5:15 PM
URL:https://www.tcsatl.org/event/maac-girls-and-boys-cross-country-36/
END:VEVENT
BEGIN:VEVENT
DTSTART;VALUE=DATE:20241118
DTEND;VALUE=DATE:20241119
DTSTAMP:20260422T184937
CREATED:20240829T171453Z
LAST-MODIFIED:20241118T201443Z
UID:10011230-1731888000-1731974399@www.tcsatl.org
SUMMARY:C Day
DESCRIPTION:
URL:https://www.tcsatl.org/event/c-day-39/
END:VEVENT
BEGIN:VEVENT
DTSTART;TZID=America/New_York:20241118T151500
DTEND;TZID=America/New_York:20241118T170000
DTSTAMP:20260422T184937
CREATED:20240812T184522Z
LAST-MODIFIED:20241118T154444Z
UID:10010791-1731942900-1731949200@www.tcsatl.org
SUMMARY:MAAC Boys Basketball
DESCRIPTION:
URL:https://www.tcsatl.org/event/maac-boys-basketball-76/
END:VEVENT
BEGIN:VEVENT
DTSTART;TZID=America/New_York:20241118T154500
DTEND;TZID=America/New_York:20241118T164500
DTSTAMP:20260422T184937
CREATED:20240812T184522Z
LAST-MODIFIED:20241118T154444Z
UID:10010792-1731944700-1731948300@www.tcsatl.org
SUMMARY:Intramural Co-Ed Ultimate Frisbee
DESCRIPTION:Carpool 4:45-5:00 PM
URL:https://www.tcsatl.org/event/intramural-co-ed-ultimate-frisbee-9/
END:VEVENT
END:VCALENDAR