BEGIN:VCALENDAR
VERSION:2.0
PRODID:-//The Children&#039;s School - ECPv6.15.15//NONSGML v1.0//EN
CALSCALE:GREGORIAN
METHOD:PUBLISH
X-WR-CALNAME:The Children&#039;s School
X-ORIGINAL-URL:https://www.tcsatl.org
X-WR-CALDESC:Events for The Children&#039;s School
REFRESH-INTERVAL;VALUE=DURATION:PT1H
X-Robots-Tag:noindex
X-PUBLISHED-TTL:PT1H
BEGIN:VTIMEZONE
TZID:America/New_York
BEGIN:DAYLIGHT
TZOFFSETFROM:-0500
TZOFFSETTO:-0400
TZNAME:EDT
DTSTART:20220313T070000
END:DAYLIGHT
BEGIN:STANDARD
TZOFFSETFROM:-0400
TZOFFSETTO:-0500
TZNAME:EST
DTSTART:20221106T060000
END:STANDARD
BEGIN:DAYLIGHT
TZOFFSETFROM:-0500
TZOFFSETTO:-0400
TZNAME:EDT
DTSTART:20230312T070000
END:DAYLIGHT
BEGIN:STANDARD
TZOFFSETFROM:-0400
TZOFFSETTO:-0500
TZNAME:EST
DTSTART:20231105T060000
END:STANDARD
BEGIN:DAYLIGHT
TZOFFSETFROM:-0500
TZOFFSETTO:-0400
TZNAME:EDT
DTSTART:20240310T070000
END:DAYLIGHT
BEGIN:STANDARD
TZOFFSETFROM:-0400
TZOFFSETTO:-0500
TZNAME:EST
DTSTART:20241103T060000
END:STANDARD
END:VTIMEZONE
BEGIN:VEVENT
DTSTART;TZID=America/New_York:20231022T160000
DTEND;TZID=America/New_York:20231022T180000
DTSTAMP:20260422T182217
CREATED:20230725T171605Z
LAST-MODIFIED:20230913T020015Z
UID:10009103-1697990400-1697997600@www.tcsatl.org
SUMMARY:Playpalooza - TCS Campus
DESCRIPTION:
URL:https://www.tcsatl.org/event/playpalooza-tcs-campus/
END:VEVENT
BEGIN:VEVENT
DTSTART;TZID=America/New_York:20231020T161500
DTEND;TZID=America/New_York:20231020T171500
DTSTAMP:20260422T182217
CREATED:20230809T164634Z
LAST-MODIFIED:20230913T005957Z
UID:10010274-1697818500-1697822100@www.tcsatl.org
SUMMARY:Ballet/Tap II
DESCRIPTION:Carpool 5:15- 5:30 PM
URL:https://www.tcsatl.org/event/ballet-tap-ii-10/
END:VEVENT
BEGIN:VEVENT
DTSTART;TZID=America/New_York:20231020T161500
DTEND;TZID=America/New_York:20231020T171500
DTSTAMP:20260422T182217
CREATED:20230809T164634Z
LAST-MODIFIED:20230913T005957Z
UID:10010275-1697818500-1697822100@www.tcsatl.org
SUMMARY:Intro to Ballet/Tap
DESCRIPTION:Carpool 5:15 – 5:30 PM
URL:https://www.tcsatl.org/event/intro-to-ballet-tap-27/
END:VEVENT
BEGIN:VEVENT
DTSTART;TZID=America/New_York:20231020T154500
DTEND;TZID=America/New_York:20231020T170000
DTSTAMP:20260422T182217
CREATED:20230810T053036Z
LAST-MODIFIED:20230905T214740Z
UID:10009473-1697816700-1697821200@www.tcsatl.org
SUMMARY:MAAC Co-Ed Ultimate Frisbee (Grades 5-8)
DESCRIPTION:carpool 5:00 -5:15 PM
URL:https://www.tcsatl.org/event/maac-co-ed-ultimate-frisbee-grades-5-8-32/
END:VEVENT
BEGIN:VEVENT
DTSTART;TZID=America/New_York:20231020T154500
DTEND;TZID=America/New_York:20231020T170000
DTSTAMP:20260422T182217
CREATED:20230810T053036Z
LAST-MODIFIED:20230905T214740Z
UID:10009471-1697816700-1697821200@www.tcsatl.org
SUMMARY:MAAC Girls Volleyball
DESCRIPTION:Carpool 5:00-5:15 pm
URL:https://www.tcsatl.org/event/maac-girls-volleyball-117/
END:VEVENT
BEGIN:VEVENT
DTSTART;TZID=America/New_York:20231020T154500
DTEND;TZID=America/New_York:20231020T170000
DTSTAMP:20260422T182217
CREATED:20230810T053036Z
LAST-MODIFIED:20230905T214740Z
UID:10009472-1697816700-1697821200@www.tcsatl.org
SUMMARY:MAAC Girls & Boys Cross Country (Grades 6-8)
DESCRIPTION:Carpool 5:00- 5:15 PM
URL:https://www.tcsatl.org/event/maac-girls-boys-cross-country-grades-6-8-31/
END:VEVENT
BEGIN:VEVENT
DTSTART;TZID=America/New_York:20231020T151500
DTEND;TZID=America/New_York:20231020T161500
DTSTAMP:20260422T182217
CREATED:20230809T164634Z
LAST-MODIFIED:20230913T005957Z
UID:10009208-1697814900-1697818500@www.tcsatl.org
SUMMARY:Amazing Athletes
DESCRIPTION:Carpool 4:15-4:30 PM
URL:https://www.tcsatl.org/event/amazing-athletes-51/
END:VEVENT
BEGIN:VEVENT
DTSTART;TZID=America/New_York:20231020T151500
DTEND;TZID=America/New_York:20231020T161500
DTSTAMP:20260422T182217
CREATED:20230809T164634Z
LAST-MODIFIED:20230913T005957Z
UID:10010276-1697814900-1697818500@www.tcsatl.org
SUMMARY:Gymnastics Level II
DESCRIPTION:Carpool 04:15 pm – 4:30 PM
URL:https://www.tcsatl.org/event/gymnastics-level-ii-28/
END:VEVENT
BEGIN:VEVENT
DTSTART;TZID=America/New_York:20231020T151500
DTEND;TZID=America/New_York:20231020T161500
DTSTAMP:20260422T182217
CREATED:20230809T164634Z
LAST-MODIFIED:20230913T005957Z
UID:10010277-1697814900-1697818500@www.tcsatl.org
SUMMARY:Intro to Gymnastics
DESCRIPTION:Carpool 4:15 – 4:30 PM
URL:https://www.tcsatl.org/event/intro-to-gymnastics-14/
END:VEVENT
BEGIN:VEVENT
DTSTART;TZID=America/New_York:20231020T084500
DTEND;TZID=America/New_York:20231020T093000
DTSTAMP:20260422T182217
CREATED:20230727T174503Z
LAST-MODIFIED:20230913T020015Z
UID:10010164-1697791500-1697794200@www.tcsatl.org
SUMMARY:TCS Outdoors Walk & Talk - Piedmont Park
DESCRIPTION:
URL:https://www.tcsatl.org/event/tcs-outdoors-walk-talk-piedmont-park-2/
END:VEVENT
BEGIN:VEVENT
DTSTART;TZID=America/New_York:20231019T154500
DTEND;TZID=America/New_York:20231019T170000
DTSTAMP:20260422T182217
CREATED:20230810T053036Z
LAST-MODIFIED:20230905T214729Z
UID:10009465-1697730300-1697734800@www.tcsatl.org
SUMMARY:MAAC Girls Volleyball
DESCRIPTION:Carpool 5:00-5:15 pm
URL:https://www.tcsatl.org/event/maac-girls-volleyball-116/
END:VEVENT
BEGIN:VEVENT
DTSTART;TZID=America/New_York:20231019T154500
DTEND;TZID=America/New_York:20231019T170000
DTSTAMP:20260422T182217
CREATED:20230810T053036Z
LAST-MODIFIED:20230905T214729Z
UID:10009467-1697730300-1697734800@www.tcsatl.org
SUMMARY:MAAC Co-Ed Ultimate Frisbee (Grades 5-8)
DESCRIPTION:carpool 5:00 -5:15 PM
URL:https://www.tcsatl.org/event/maac-co-ed-ultimate-frisbee-grades-5-8-31/
END:VEVENT
BEGIN:VEVENT
DTSTART;TZID=America/New_York:20231019T154500
DTEND;TZID=America/New_York:20231019T164500
DTSTAMP:20260422T182217
CREATED:20230810T053036Z
LAST-MODIFIED:20230905T214740Z
UID:10009469-1697730300-1697733900@www.tcsatl.org
SUMMARY:Intramural Girls & Boys Cross Country
DESCRIPTION:Carpool 4:45-5:00 PM
URL:https://www.tcsatl.org/event/intramural-girls-boys-cross-country-22/
END:VEVENT
BEGIN:VEVENT
DTSTART;TZID=America/New_York:20231019T154500
DTEND;TZID=America/New_York:20231019T164500
DTSTAMP:20260422T182217
CREATED:20230809T164633Z
LAST-MODIFIED:20230913T005957Z
UID:10010269-1697730300-1697733900@www.tcsatl.org
SUMMARY:Science Creations S.T.E.A.M.
DESCRIPTION:Carpool 4:45- 5:00 PM
URL:https://www.tcsatl.org/event/science-creations-s-t-e-a-m-19/
END:VEVENT
BEGIN:VEVENT
DTSTART;TZID=America/New_York:20231019T151500
DTEND;TZID=America/New_York:20231019T164500
DTSTAMP:20260422T182217
CREATED:20230809T164633Z
LAST-MODIFIED:20230913T005957Z
UID:10010270-1697728500-1697733900@www.tcsatl.org
SUMMARY:Kids TV - Video & Film Production Class
DESCRIPTION:Carpool 4:45 – 4:30 PM
URL:https://www.tcsatl.org/event/kids-tv-video-film-production-class-27/
END:VEVENT
BEGIN:VEVENT
DTSTART;TZID=America/New_York:20231019T151500
DTEND;TZID=America/New_York:20231019T163000
DTSTAMP:20260422T182217
CREATED:20230809T164634Z
LAST-MODIFIED:20230913T005957Z
UID:10010272-1697728500-1697733000@www.tcsatl.org
SUMMARY:TCS Voices
DESCRIPTION:Carpool 4:30-4:45 PM
URL:https://www.tcsatl.org/event/tcs-voices-75/
END:VEVENT
BEGIN:VEVENT
DTSTART;TZID=America/New_York:20231019T151500
DTEND;TZID=America/New_York:20231019T161500
DTSTAMP:20260422T182217
CREATED:20230809T164634Z
LAST-MODIFIED:20230913T005957Z
UID:10010273-1697728500-1697732100@www.tcsatl.org
SUMMARY:Tonchu Martial Arts
DESCRIPTION:Carpool 4:15-4:30 PM
URL:https://www.tcsatl.org/event/tonchu-martial-arts-12/
END:VEVENT
BEGIN:VEVENT
DTSTART;TZID=America/New_York:20231019T151500
DTEND;TZID=America/New_York:20231019T161500
DTSTAMP:20260422T182217
CREATED:20230809T164634Z
LAST-MODIFIED:20230913T005957Z
UID:10010271-1697728500-1697732100@www.tcsatl.org
SUMMARY:Drums (All Levels)
DESCRIPTION:Carpool 4:15- 4:30 PM
URL:https://www.tcsatl.org/event/drums-all-levels-13/
END:VEVENT
BEGIN:VEVENT
DTSTART;TZID=America/New_York:20231018T163000
DTEND;TZID=America/New_York:20231018T183000
DTSTAMP:20260422T182217
CREATED:20230830T214508Z
LAST-MODIFIED:20230905T214729Z
UID:10009491-1697646600-1697653800@www.tcsatl.org
SUMMARY:MAAC Girls & Boys Cross Country Championship Meet - Gerrard Landing
DESCRIPTION:
URL:https://www.tcsatl.org/event/maac-girls-boys-cross-country-championship-meet-gerrard-landing/
LOCATION:Garrard Landing Park\, 8000 Holcomb Bridge Rd\, Alpharetta\, GA 30022\, USA
END:VEVENT
BEGIN:VEVENT
DTSTART;TZID=America/New_York:20231018T154500
DTEND;TZID=America/New_York:20231018T174500
DTSTAMP:20260422T182217
CREATED:20230809T164633Z
LAST-MODIFIED:20230913T005957Z
UID:10010267-1697643900-1697651100@www.tcsatl.org
SUMMARY:Teachshirt Academy
DESCRIPTION:Carpool 5:45 – 6:00 PM
URL:https://www.tcsatl.org/event/teachshirt-academy-10/
END:VEVENT
BEGIN:VEVENT
DTSTART;TZID=America/New_York:20231018T154500
DTEND;TZID=America/New_York:20231018T170000
DTSTAMP:20260422T182217
CREATED:20230810T053035Z
LAST-MODIFIED:20230905T214729Z
UID:10009464-1697643900-1697648400@www.tcsatl.org
SUMMARY:MAAC Girls & Boys Cross Country (Grades 6-8)
DESCRIPTION:Carpool 5:00- 5:15 PM
URL:https://www.tcsatl.org/event/maac-girls-boys-cross-country-grades-6-8-30/
END:VEVENT
BEGIN:VEVENT
DTSTART;TZID=America/New_York:20231018T154500
DTEND;TZID=America/New_York:20231018T164500
DTSTAMP:20260422T182217
CREATED:20230810T053035Z
LAST-MODIFIED:20230905T214729Z
UID:10009460-1697643900-1697647500@www.tcsatl.org
SUMMARY:Intramural Co-Ed Volleyball
DESCRIPTION:Carpool 4:45 – 5:00 PM
URL:https://www.tcsatl.org/event/intramural-co-ed-volleyball-21/
END:VEVENT
BEGIN:VEVENT
DTSTART;TZID=America/New_York:20231018T151500
DTEND;TZID=America/New_York:20231018T163000
DTSTAMP:20260422T182217
CREATED:20230810T053035Z
LAST-MODIFIED:20230905T214729Z
UID:10009463-1697642100-1697646600@www.tcsatl.org
SUMMARY:Intramural Co-Ed Tennis (Grades 3-5)
DESCRIPTION:Carpool 4:40-4:55 PM
URL:https://www.tcsatl.org/event/intramural-co-ed-tennis-grades-3-5-20/
END:VEVENT
BEGIN:VEVENT
DTSTART;TZID=America/New_York:20231018T151500
DTEND;TZID=America/New_York:20231018T163000
DTSTAMP:20260422T182217
CREATED:20230809T164633Z
LAST-MODIFIED:20230913T005957Z
UID:10010268-1697642100-1697646600@www.tcsatl.org
SUMMARY:TCS Players (6-8th Grade)
DESCRIPTION:Carpool 4:30-4:45 PM
URL:https://www.tcsatl.org/event/tcs-players-6-8th-grade-13/
END:VEVENT
BEGIN:VEVENT
DTSTART;TZID=America/New_York:20231018T151500
DTEND;TZID=America/New_York:20231018T161500
DTSTAMP:20260422T182217
CREATED:20230809T164633Z
LAST-MODIFIED:20230913T005957Z
UID:10010266-1697642100-1697645700@www.tcsatl.org
SUMMARY:TCS Jr. Players
DESCRIPTION:Carpool 4:15- 4:30 PM
URL:https://www.tcsatl.org/event/tcs-jr-players-75/
END:VEVENT
BEGIN:VEVENT
DTSTART;TZID=America/New_York:20231017T161500
DTEND;TZID=America/New_York:20231017T171500
DTSTAMP:20260422T182217
CREATED:20230809T164633Z
LAST-MODIFIED:20230905T010041Z
UID:10009206-1697559300-1697562900@www.tcsatl.org
SUMMARY:Intro to Drums I & II
DESCRIPTION:Carpool 5:15 – 5:30 PM
URL:https://www.tcsatl.org/event/intro-to-drums-i-ii-10/
END:VEVENT
BEGIN:VEVENT
DTSTART;TZID=America/New_York:20231017T160000
DTEND;TZID=America/New_York:20231017T190000
DTSTAMP:20260422T182217
CREATED:20230830T214508Z
LAST-MODIFIED:20230905T214729Z
UID:10009489-1697558400-1697569200@www.tcsatl.org
SUMMARY:MAAC Girls Volleyball Championship at Cliff Valley
DESCRIPTION:
URL:https://www.tcsatl.org/event/maac-girls-volleyball-championship-at-cliff-valley/
LOCATION:Cliff Valley School\, 2426 Clairmont Rd\, Atlanta\, GA 30329\, USA\, 2101 Clairmont Rd NE\, United States
GEO:33.819097;-84.30418
X-APPLE-STRUCTURED-LOCATION;VALUE=URI;X-ADDRESS=Cliff Valley School 2426 Clairmont Rd Atlanta GA 30329 USA 2101 Clairmont Rd NE United States;X-APPLE-RADIUS=500;X-TITLE=2101 Clairmont Rd NE:geo:-84.30418,33.819097
END:VEVENT
BEGIN:VEVENT
DTSTART;TZID=America/New_York:20231017T154500
DTEND;TZID=America/New_York:20231017T170000
DTSTAMP:20260422T182217
CREATED:20230810T053035Z
LAST-MODIFIED:20230905T214729Z
UID:10010528-1697557500-1697562000@www.tcsatl.org
SUMMARY:MAAC Girls & Boys Cross Country (Grades 6-8)
DESCRIPTION:Carpool 5:00- 5:15 PM
URL:https://www.tcsatl.org/event/maac-girls-boys-cross-country-grades-6-8-29/
END:VEVENT
BEGIN:VEVENT
DTSTART;TZID=America/New_York:20231017T154500
DTEND;TZID=America/New_York:20231017T164500
DTSTAMP:20260422T182217
CREATED:20230810T053035Z
LAST-MODIFIED:20230905T214729Z
UID:10010529-1697557500-1697561100@www.tcsatl.org
SUMMARY:Intramural Co-Ed Volleyball
DESCRIPTION:Carpool 4:45 – 5:00 PM
URL:https://www.tcsatl.org/event/intramural-co-ed-volleyball-20/
END:VEVENT
BEGIN:VEVENT
DTSTART;TZID=America/New_York:20231017T154500
DTEND;TZID=America/New_York:20231017T164500
DTSTAMP:20260422T182217
CREATED:20230809T164633Z
LAST-MODIFIED:20230913T005956Z
UID:10009207-1697557500-1697561100@www.tcsatl.org
SUMMARY:Science Creations S.T.E.A.M.
DESCRIPTION:
URL:https://www.tcsatl.org/event/science-creations-s-t-e-a-m-18/
END:VEVENT
END:VCALENDAR