BEGIN:VCALENDAR
VERSION:2.0
PRODID:-//The Children&#039;s School - ECPv6.15.15//NONSGML v1.0//EN
CALSCALE:GREGORIAN
METHOD:PUBLISH
X-WR-CALNAME:The Children&#039;s School
X-ORIGINAL-URL:https://www.tcsatl.org
X-WR-CALDESC:Events for The Children&#039;s School
REFRESH-INTERVAL;VALUE=DURATION:PT1H
X-Robots-Tag:noindex
X-PUBLISHED-TTL:PT1H
BEGIN:VTIMEZONE
TZID:America/New_York
BEGIN:DAYLIGHT
TZOFFSETFROM:-0500
TZOFFSETTO:-0400
TZNAME:EDT
DTSTART:20220313T070000
END:DAYLIGHT
BEGIN:STANDARD
TZOFFSETFROM:-0400
TZOFFSETTO:-0500
TZNAME:EST
DTSTART:20221106T060000
END:STANDARD
BEGIN:DAYLIGHT
TZOFFSETFROM:-0500
TZOFFSETTO:-0400
TZNAME:EDT
DTSTART:20230312T070000
END:DAYLIGHT
BEGIN:STANDARD
TZOFFSETFROM:-0400
TZOFFSETTO:-0500
TZNAME:EST
DTSTART:20231105T060000
END:STANDARD
BEGIN:DAYLIGHT
TZOFFSETFROM:-0500
TZOFFSETTO:-0400
TZNAME:EDT
DTSTART:20240310T070000
END:DAYLIGHT
BEGIN:STANDARD
TZOFFSETFROM:-0400
TZOFFSETTO:-0500
TZNAME:EST
DTSTART:20241103T060000
END:STANDARD
END:VTIMEZONE
BEGIN:VEVENT
DTSTART;TZID=America/New_York:20230424T151500
DTEND;TZID=America/New_York:20230424T163000
DTSTAMP:20260422T182056
CREATED:20221128T203503Z
LAST-MODIFIED:20230203T231500Z
UID:10010023-1682349300-1682353800@www.tcsatl.org
SUMMARY:TCS Players
DESCRIPTION:
URL:https://www.tcsatl.org/event/tcs-players-170/
END:VEVENT
BEGIN:VEVENT
DTSTART;TZID=America/New_York:20230424T151500
DTEND;TZID=America/New_York:20230424T163000
DTSTAMP:20260422T182056
CREATED:20220815T164339Z
LAST-MODIFIED:20221120T194950Z
UID:10009020-1682349300-1682353800@www.tcsatl.org
SUMMARY:TCS Players
DESCRIPTION:
URL:https://www.tcsatl.org/event/tcs-players-118/
END:VEVENT
BEGIN:VEVENT
DTSTART;VALUE=DATE:20230424
DTEND;VALUE=DATE:20230425
DTSTAMP:20260422T182056
CREATED:20220907T181443Z
LAST-MODIFIED:20230424T024444Z
UID:10009638-1682294400-1682380799@www.tcsatl.org
SUMMARY:C Day
DESCRIPTION:
URL:https://www.tcsatl.org/event/c-day-24/
END:VEVENT
BEGIN:VEVENT
DTSTART;VALUE=DATE:20230421
DTEND;VALUE=DATE:20230422
DTSTAMP:20260422T182056
CREATED:20220907T181443Z
LAST-MODIFIED:20230421T024459Z
UID:10009637-1682035200-1682121599@www.tcsatl.org
SUMMARY:B Day
DESCRIPTION:
URL:https://www.tcsatl.org/event/b-day-24/
END:VEVENT
BEGIN:VEVENT
DTSTART;TZID=America/New_York:20230420T151500
DTEND;TZID=America/New_York:20230420T163000
DTSTAMP:20260422T182056
CREATED:20220815T164339Z
LAST-MODIFIED:20230203T231459Z
UID:10009010-1682003700-1682008200@www.tcsatl.org
SUMMARY:TCS Voices
DESCRIPTION:
URL:https://www.tcsatl.org/event/tcs-voices-63/
END:VEVENT
BEGIN:VEVENT
DTSTART;VALUE=DATE:20230420
DTEND;VALUE=DATE:20230421
DTSTAMP:20260422T182056
CREATED:20230203T233052Z
LAST-MODIFIED:20230420T020126Z
UID:10009089-1681948800-1682035199@www.tcsatl.org
SUMMARY:MAAC Flag Football Championships - top 6 teams make playoffs
DESCRIPTION:
URL:https://www.tcsatl.org/event/maac-flag-football-championships-top-6-teams-make-playoffs-2/
END:VEVENT
BEGIN:VEVENT
DTSTART;VALUE=DATE:20230420
DTEND;VALUE=DATE:20230421
DTSTAMP:20260422T182056
CREATED:20220907T181443Z
LAST-MODIFIED:20230420T023315Z
UID:10009633-1681948800-1682035199@www.tcsatl.org
SUMMARY:A Day
DESCRIPTION:
URL:https://www.tcsatl.org/event/a-day-22/
END:VEVENT
BEGIN:VEVENT
DTSTART;TZID=America/New_York:20230419T151500
DTEND;TZID=America/New_York:20230419T163000
DTSTAMP:20260422T182056
CREATED:20221128T203503Z
LAST-MODIFIED:20230203T231459Z
UID:10010022-1681917300-1681921800@www.tcsatl.org
SUMMARY:TCS Players
DESCRIPTION:
URL:https://www.tcsatl.org/event/tcs-players-169/
END:VEVENT
BEGIN:VEVENT
DTSTART;TZID=America/New_York:20230419T151500
DTEND;TZID=America/New_York:20230419T163000
DTSTAMP:20260422T182056
CREATED:20220815T164339Z
LAST-MODIFIED:20221120T194950Z
UID:10009008-1681917300-1681921800@www.tcsatl.org
SUMMARY:TCS Players
DESCRIPTION:
URL:https://www.tcsatl.org/event/tcs-players-117/
END:VEVENT
BEGIN:VEVENT
DTSTART;TZID=America/New_York:20230419T151500
DTEND;TZID=America/New_York:20230419T161500
DTSTAMP:20260422T182056
CREATED:20220815T164339Z
LAST-MODIFIED:20230203T231459Z
UID:10009007-1681917300-1681920900@www.tcsatl.org
SUMMARY:TCS Jr. Players
DESCRIPTION:
URL:https://www.tcsatl.org/event/tcs-jr-players-63/
END:VEVENT
BEGIN:VEVENT
DTSTART;VALUE=DATE:20230419
DTEND;VALUE=DATE:20230420
DTSTAMP:20260422T182056
CREATED:20220907T181443Z
LAST-MODIFIED:20230419T023123Z
UID:10009634-1681862400-1681948799@www.tcsatl.org
SUMMARY:F Day
DESCRIPTION:
URL:https://www.tcsatl.org/event/f-day-22/
END:VEVENT
BEGIN:VEVENT
DTSTART;TZID=America/New_York:20230418T151500
DTEND;TZID=America/New_York:20230418T163000
DTSTAMP:20260422T182056
CREATED:20220815T164339Z
LAST-MODIFIED:20230203T231459Z
UID:10008997-1681830900-1681835400@www.tcsatl.org
SUMMARY:TCS Jr. Voices
DESCRIPTION:
URL:https://www.tcsatl.org/event/tcs-jr-voices-33/
END:VEVENT
BEGIN:VEVENT
DTSTART;TZID=America/New_York:20230418T130000
DTEND;TZID=America/New_York:20230418T150000
DTSTAMP:20260422T182056
CREATED:20230302T000016Z
LAST-MODIFIED:20230418T014632Z
UID:10010160-1681822800-1681830000@www.tcsatl.org
SUMMARY:MAAC TENNIS Individual Players Championship Playoff - Invite Only
DESCRIPTION:
URL:https://www.tcsatl.org/event/maac-tennis-individual-players-championship-playoff-invite-only/
LOCATION:Hudlow Tennis Center\, 6224 Jimmy Carter Blvd\, Norcross\, GA 30071\, USA
END:VEVENT
BEGIN:VEVENT
DTSTART;VALUE=DATE:20230418
DTEND;VALUE=DATE:20230419
DTSTAMP:20260422T182056
CREATED:20230203T233052Z
LAST-MODIFIED:20230418T014632Z
UID:10009088-1681776000-1681862399@www.tcsatl.org
SUMMARY:MAAC Flag Football Championships - top 6 teams make playoffs
DESCRIPTION:
URL:https://www.tcsatl.org/event/maac-flag-football-championships-top-6-teams-make-playoffs/
END:VEVENT
BEGIN:VEVENT
DTSTART;VALUE=DATE:20230418
DTEND;VALUE=DATE:20230419
DTSTAMP:20260422T182056
CREATED:20220907T181443Z
LAST-MODIFIED:20230418T021707Z
UID:10009635-1681776000-1681862399@www.tcsatl.org
SUMMARY:E Day
DESCRIPTION:
URL:https://www.tcsatl.org/event/e-day-23/
END:VEVENT
BEGIN:VEVENT
DTSTART;TZID=America/New_York:20230417T151500
DTEND;TZID=America/New_York:20230417T163000
DTSTAMP:20260422T182056
CREATED:20221128T203503Z
LAST-MODIFIED:20230203T231459Z
UID:10010021-1681744500-1681749000@www.tcsatl.org
SUMMARY:TCS Players
DESCRIPTION:
URL:https://www.tcsatl.org/event/tcs-players-168/
END:VEVENT
BEGIN:VEVENT
DTSTART;TZID=America/New_York:20230417T151500
DTEND;TZID=America/New_York:20230417T163000
DTSTAMP:20260422T182056
CREATED:20220815T164339Z
LAST-MODIFIED:20221120T194949Z
UID:10008995-1681744500-1681749000@www.tcsatl.org
SUMMARY:TCS Players
DESCRIPTION:
URL:https://www.tcsatl.org/event/tcs-players-116/
END:VEVENT
BEGIN:VEVENT
DTSTART;VALUE=DATE:20230417
DTEND;VALUE=DATE:20230418
DTSTAMP:20260422T182056
CREATED:20220907T181443Z
LAST-MODIFIED:20230417T021454Z
UID:10009636-1681689600-1681775999@www.tcsatl.org
SUMMARY:D Day
DESCRIPTION:
URL:https://www.tcsatl.org/event/d-day-22/
END:VEVENT
BEGIN:VEVENT
DTSTART;TZID=America/New_York:20230414T151500
DTEND;TZID=America/New_York:20230414T164500
DTSTAMP:20260422T182056
CREATED:20230202T233006Z
LAST-MODIFIED:20230414T013016Z
UID:10010150-1681485300-1681490700@www.tcsatl.org
SUMMARY:MAAC Girls & Boys Track & Field (6th to 8th Grade)
DESCRIPTION:Carpool 4:45-5:00 PM
URL:https://www.tcsatl.org/event/maac-girls-boys-track-field-6th-to-8th-grade-31/
END:VEVENT
BEGIN:VEVENT
DTSTART;TZID=America/New_York:20230414T151500
DTEND;TZID=America/New_York:20230414T163000
DTSTAMP:20260422T182056
CREATED:20230202T233007Z
LAST-MODIFIED:20230414T013016Z
UID:10009084-1681485300-1681489800@www.tcsatl.org
SUMMARY:MAAC Co-Ed Flag Football (5th- 8th Grade)
DESCRIPTION:Carpool 04:30 – 04:45 PM
URL:https://www.tcsatl.org/event/maac-co-ed-flag-football-5th-8th-grade-31/
END:VEVENT
BEGIN:VEVENT
DTSTART;TZID=America/New_York:20230414T151500
DTEND;TZID=America/New_York:20230414T163000
DTSTAMP:20260422T182056
CREATED:20230202T233006Z
LAST-MODIFIED:20230414T013016Z
UID:10009082-1681485300-1681489800@www.tcsatl.org
SUMMARY:MAAC Boys & Girls Tennis (5th to 8th Grade)
DESCRIPTION:Carpool 4:30-4:45 PM
URL:https://www.tcsatl.org/event/maac-boys-girls-tennis-5th-to-8th-grade-32/
END:VEVENT
BEGIN:VEVENT
DTSTART;VALUE=DATE:20230414
DTEND;VALUE=DATE:20230415
DTSTAMP:20260422T182056
CREATED:20220907T181443Z
LAST-MODIFIED:20230414T021450Z
UID:10009632-1681430400-1681516799@www.tcsatl.org
SUMMARY:C Day
DESCRIPTION:
URL:https://www.tcsatl.org/event/c-day-23/
END:VEVENT
BEGIN:VEVENT
DTSTART;TZID=America/New_York:20230413T151500
DTEND;TZID=America/New_York:20230413T164500
DTSTAMP:20260422T182056
CREATED:20230202T233006Z
LAST-MODIFIED:20230413T012944Z
UID:10010149-1681398900-1681404300@www.tcsatl.org
SUMMARY:Intramural Girls & Boys Basketball (3rd-5th Grade)
DESCRIPTION:Carpool 04:45 – 5:00 PM
URL:https://www.tcsatl.org/event/intramural-girls-boys-basketball-3rd-5th-grade-21/
END:VEVENT
BEGIN:VEVENT
DTSTART;TZID=America/New_York:20230413T151500
DTEND;TZID=America/New_York:20230413T163000
DTSTAMP:20260422T182056
CREATED:20230202T233006Z
LAST-MODIFIED:20230413T012944Z
UID:10010148-1681398900-1681403400@www.tcsatl.org
SUMMARY:MAAC Co-Ed Flag Football (5th- 8th Grade)
DESCRIPTION:Carpool 04:30 – 04:45 PM
URL:https://www.tcsatl.org/event/maac-co-ed-flag-football-5th-8th-grade-30/
END:VEVENT
BEGIN:VEVENT
DTSTART;TZID=America/New_York:20230413T151500
DTEND;TZID=America/New_York:20230413T163000
DTSTAMP:20260422T182056
CREATED:20220815T164338Z
LAST-MODIFIED:20230203T231459Z
UID:10008994-1681398900-1681403400@www.tcsatl.org
SUMMARY:TCS Voices
DESCRIPTION:
URL:https://www.tcsatl.org/event/tcs-voices-62/
END:VEVENT
BEGIN:VEVENT
DTSTART;VALUE=DATE:20230413
DTEND;VALUE=DATE:20230414
DTSTAMP:20260422T182056
CREATED:20220907T181443Z
LAST-MODIFIED:20230413T020111Z
UID:10009631-1681344000-1681430399@www.tcsatl.org
SUMMARY:B Day
DESCRIPTION:
URL:https://www.tcsatl.org/event/b-day-23/
END:VEVENT
BEGIN:VEVENT
DTSTART;TZID=America/New_York:20230412T160000
DTEND;TZID=America/New_York:20230412T170000
DTSTAMP:20260422T182056
CREATED:20230302T000015Z
LAST-MODIFIED:20230412T013013Z
UID:10010159-1681315200-1681318800@www.tcsatl.org
SUMMARY:AWAY GAME - MAAC TENNIS  - Regular Season Tournament Round Robin - Top 11 Players - 2 BUSES
DESCRIPTION:
URL:https://www.tcsatl.org/event/away-game-maac-tennis-regular-season-tournament-round-robin-top-11-players-2-buses-2/
LOCATION:Hudlow Tennis Center\, 6224 Jimmy Carter Blvd\, Norcross\, GA 30071\, USA
END:VEVENT
BEGIN:VEVENT
DTSTART;TZID=America/New_York:20230412T151500
DTEND;TZID=America/New_York:20230412T164500
DTSTAMP:20260422T182056
CREATED:20230202T233006Z
LAST-MODIFIED:20230412T013013Z
UID:10010145-1681312500-1681317900@www.tcsatl.org
SUMMARY:Intramural Girl & Boys Track (3rd -5th Grade)
DESCRIPTION:
URL:https://www.tcsatl.org/event/intramural-girl-boys-track-3rd-5th-grade-21/
END:VEVENT
BEGIN:VEVENT
DTSTART;TZID=America/New_York:20230412T151500
DTEND;TZID=America/New_York:20230412T164500
DTSTAMP:20260422T182056
CREATED:20230202T233006Z
LAST-MODIFIED:20230412T013013Z
UID:10010146-1681312500-1681317900@www.tcsatl.org
SUMMARY:MAAC Girls & Boys Track & Field (6th to 8th Grade)
DESCRIPTION:Carpool 4:45-5:00 PM
URL:https://www.tcsatl.org/event/maac-girls-boys-track-field-6th-to-8th-grade-30/
END:VEVENT
BEGIN:VEVENT
DTSTART;TZID=America/New_York:20230412T151500
DTEND;TZID=America/New_York:20230412T163000
DTSTAMP:20260422T182056
CREATED:20230202T233006Z
LAST-MODIFIED:20230412T013013Z
UID:10010147-1681312500-1681317000@www.tcsatl.org
SUMMARY:MAAC Boys & Girls Tennis (5th to 8th Grade)
DESCRIPTION:Carpool 4:30-4:45 PM
URL:https://www.tcsatl.org/event/maac-boys-girls-tennis-5th-to-8th-grade-31/
END:VEVENT
END:VCALENDAR