BEGIN:VCALENDAR
VERSION:2.0
PRODID:-//The Children&#039;s School - ECPv6.15.15//NONSGML v1.0//EN
CALSCALE:GREGORIAN
METHOD:PUBLISH
X-WR-CALNAME:The Children&#039;s School
X-ORIGINAL-URL:https://www.tcsatl.org
X-WR-CALDESC:Events for The Children&#039;s School
REFRESH-INTERVAL;VALUE=DURATION:PT1H
X-Robots-Tag:noindex
X-PUBLISHED-TTL:PT1H
BEGIN:VTIMEZONE
TZID:America/New_York
BEGIN:DAYLIGHT
TZOFFSETFROM:-0500
TZOFFSETTO:-0400
TZNAME:EDT
DTSTART:20240310T070000
END:DAYLIGHT
BEGIN:STANDARD
TZOFFSETFROM:-0400
TZOFFSETTO:-0500
TZNAME:EST
DTSTART:20241103T060000
END:STANDARD
BEGIN:DAYLIGHT
TZOFFSETFROM:-0500
TZOFFSETTO:-0400
TZNAME:EDT
DTSTART:20250309T070000
END:DAYLIGHT
BEGIN:STANDARD
TZOFFSETFROM:-0400
TZOFFSETTO:-0500
TZNAME:EST
DTSTART:20251102T060000
END:STANDARD
BEGIN:DAYLIGHT
TZOFFSETFROM:-0500
TZOFFSETTO:-0400
TZNAME:EDT
DTSTART:20260308T070000
END:DAYLIGHT
BEGIN:STANDARD
TZOFFSETFROM:-0400
TZOFFSETTO:-0500
TZNAME:EST
DTSTART:20261101T060000
END:STANDARD
END:VTIMEZONE
BEGIN:VEVENT
DTSTART;TZID=America/New_York:20251121T153000
DTEND;TZID=America/New_York:20251121T163000
DTSTAMP:20260420T194337
CREATED:20250812T141838Z
LAST-MODIFIED:20251121T152023Z
UID:10011611-1763739000-1763742600@www.tcsatl.org
SUMMARY:Yoga
DESCRIPTION:Carpool: 4:30pm-4:45 PM
URL:https://www.tcsatl.org/event/yoga-12/
END:VEVENT
BEGIN:VEVENT
DTSTART;TZID=America/New_York:20251121T153000
DTEND;TZID=America/New_York:20251121T163000
DTSTAMP:20260420T194337
CREATED:20250812T141827Z
LAST-MODIFIED:20251121T152023Z
UID:10011608-1763739000-1763742600@www.tcsatl.org
SUMMARY:Amazing Athletes
DESCRIPTION:Carpool- 4:30 pm – 4:45 pm
URL:https://www.tcsatl.org/event/amazing-athletes-70/
END:VEVENT
BEGIN:VEVENT
DTSTART;TZID=America/New_York:20251121T120000
DTEND;TZID=America/New_York:20251121T160000
DTSTAMP:20260420T194337
CREATED:20250613T041550Z
LAST-MODIFIED:20251121T083042Z
UID:10011466-1763726400-1763740800@www.tcsatl.org
SUMMARY:EARLY DISMISSAL- No Epic\, Discovery\, Enrichment Classes
DESCRIPTION:
URL:https://www.tcsatl.org/event/early-dismissal-no-epic-discovery-enrichment-classes/
END:VEVENT
BEGIN:VEVENT
DTSTART;TZID=America/New_York:20251121T093000
DTEND;TZID=America/New_York:20251121T111500
DTSTAMP:20260420T194337
CREATED:20251106T043022Z
LAST-MODIFIED:20251121T083042Z
UID:10011654-1763717400-1763723700@www.tcsatl.org
SUMMARY:TCS Concert & Showcase
DESCRIPTION:TCS Concert & Showcase ScheduleHere is a preliminary schedule for this fun-filled event: \n\n\n9:15 a.m. – Doors open \n\n\n9:30 a.m. –  Welcome  \n\n\n9:45-11:15 a.m. – Concert  \n\n\n11:15 a.m. – Concert dismissal. Families will have time to return to their cars and queue up for afternoon carpool.***If you check out your child early\, please make sure to check them out in the front office with your ID\, using the visitor management system so we can account for all students who are on or off campus.*** \n\n\n12:00-12:30 p.m. – Afternoon carpool
URL:https://www.tcsatl.org/event/tcs-concert-showcase/
END:VEVENT
BEGIN:VEVENT
DTSTART;TZID=America/New_York:20251120T154500
DTEND;TZID=America/New_York:20251120T171500
DTSTAMP:20260420T194337
CREATED:20250812T141826Z
LAST-MODIFIED:20251120T150531Z
UID:10011606-1763653500-1763658900@www.tcsatl.org
SUMMARY:TCS Movers
DESCRIPTION:
URL:https://www.tcsatl.org/event/tcs-movers-12/
END:VEVENT
BEGIN:VEVENT
DTSTART;TZID=America/New_York:20251120T154500
DTEND;TZID=America/New_York:20251120T170000
DTSTAMP:20260420T194337
CREATED:20250812T141826Z
LAST-MODIFIED:20251120T150531Z
UID:10011607-1763653500-1763658000@www.tcsatl.org
SUMMARY:Intramural Co-Ed Cross Country
DESCRIPTION:Carpool 5:00-5:15
URL:https://www.tcsatl.org/event/intramural-co-ed-cross-country-24/
END:VEVENT
BEGIN:VEVENT
DTSTART;TZID=America/New_York:20251119T154500
DTEND;TZID=America/New_York:20251119T170000
DTSTAMP:20260420T194337
CREATED:20250812T141826Z
LAST-MODIFIED:20251119T145540Z
UID:10011605-1763567100-1763571600@www.tcsatl.org
SUMMARY:Intramural Co-Ed Soccer
DESCRIPTION:Carpool- 5:00pm-5:15 PM
URL:https://www.tcsatl.org/event/intramural-co-ed-soccer-12/
END:VEVENT
BEGIN:VEVENT
DTSTART;TZID=America/New_York:20251119T141500
DTEND;TZID=America/New_York:20251119T151500
DTSTAMP:20260420T194337
CREATED:20250812T141826Z
LAST-MODIFIED:20251119T145540Z
UID:10011604-1763561700-1763565300@www.tcsatl.org
SUMMARY:LSASS Math Lab
DESCRIPTION:Carpool 03:15-3:45PM
URL:https://www.tcsatl.org/event/lsass-math-lab-12/
END:VEVENT
BEGIN:VEVENT
DTSTART;TZID=America/New_York:20251118T163000
DTEND;TZID=America/New_York:20251118T173000
DTSTAMP:20260420T194337
CREATED:20250812T141826Z
LAST-MODIFIED:20251118T144018Z
UID:10011601-1763483400-1763487000@www.tcsatl.org
SUMMARY:Percussion Ensemble
DESCRIPTION:Carpool: 5:30 PM
URL:https://www.tcsatl.org/event/percussion-ensemble-30/
END:VEVENT
BEGIN:VEVENT
DTSTART;TZID=America/New_York:20251118T154500
DTEND;TZID=America/New_York:20251118T170000
DTSTAMP:20260420T194337
CREATED:20250812T141826Z
LAST-MODIFIED:20251118T144018Z
UID:10011602-1763480700-1763485200@www.tcsatl.org
SUMMARY:Intramural Co-Ed Cross Country
DESCRIPTION:Carpool 5:00-5:15
URL:https://www.tcsatl.org/event/intramural-co-ed-cross-country-23/
END:VEVENT
BEGIN:VEVENT
DTSTART;TZID=America/New_York:20251118T153000
DTEND;TZID=America/New_York:20251118T163000
DTSTAMP:20260420T194337
CREATED:20250812T141826Z
LAST-MODIFIED:20251118T144018Z
UID:10011603-1763479800-1763483400@www.tcsatl.org
SUMMARY:Drums
DESCRIPTION:Carpool: 4:30-4:45pm
URL:https://www.tcsatl.org/event/drums-12/
END:VEVENT
BEGIN:VEVENT
DTSTART;TZID=America/New_York:20251114T163000
DTEND;TZID=America/New_York:20251114T173000
DTSTAMP:20260420T194337
CREATED:20250812T141826Z
LAST-MODIFIED:20251114T134016Z
UID:10011600-1763137800-1763141400@www.tcsatl.org
SUMMARY:Tap-Ballet
DESCRIPTION:Carpool\n: 5:30
URL:https://www.tcsatl.org/event/tap-ballet-11/
END:VEVENT
BEGIN:VEVENT
DTSTART;TZID=America/New_York:20251114T153000
DTEND;TZID=America/New_York:20251114T163000
DTSTAMP:20260420T194337
CREATED:20250812T141826Z
LAST-MODIFIED:20251114T134016Z
UID:10011599-1763134200-1763137800@www.tcsatl.org
SUMMARY:Pre-Ballet
DESCRIPTION:Carpool- 4:30 PM – 4:45 PM
URL:https://www.tcsatl.org/event/pre-ballet-11/
END:VEVENT
BEGIN:VEVENT
DTSTART;TZID=America/New_York:20251114T153000
DTEND;TZID=America/New_York:20251114T163000
DTSTAMP:20260420T194337
CREATED:20250812T141814Z
LAST-MODIFIED:20251114T134015Z
UID:10011597-1763134200-1763137800@www.tcsatl.org
SUMMARY:Amazing Athletes
DESCRIPTION:Carpool- 4:30 pm – 4:45 pm
URL:https://www.tcsatl.org/event/amazing-athletes-69/
END:VEVENT
BEGIN:VEVENT
DTSTART;TZID=America/New_York:20251114T153000
DTEND;TZID=America/New_York:20251114T163000
DTSTAMP:20260420T194337
CREATED:20250812T141814Z
LAST-MODIFIED:20251114T134015Z
UID:10011598-1763134200-1763137800@www.tcsatl.org
SUMMARY:Yoga
DESCRIPTION:Carpool: 4:30pm-4:45 PM
URL:https://www.tcsatl.org/event/yoga-11/
END:VEVENT
BEGIN:VEVENT
DTSTART;TZID=America/New_York:20251113T154500
DTEND;TZID=America/New_York:20251113T171500
DTSTAMP:20260420T194337
CREATED:20250812T141814Z
LAST-MODIFIED:20251113T131033Z
UID:10011596-1763048700-1763054100@www.tcsatl.org
SUMMARY:TCS Movers
DESCRIPTION:
URL:https://www.tcsatl.org/event/tcs-movers-11/
END:VEVENT
BEGIN:VEVENT
DTSTART;TZID=America/New_York:20251113T154500
DTEND;TZID=America/New_York:20251113T170000
DTSTAMP:20260420T194337
CREATED:20250812T141814Z
LAST-MODIFIED:20251113T131034Z
UID:10011595-1763048700-1763053200@www.tcsatl.org
SUMMARY:Intramural Co-Ed Cross Country
DESCRIPTION:Carpool 5:00-5:15
URL:https://www.tcsatl.org/event/intramural-co-ed-cross-country-22/
END:VEVENT
BEGIN:VEVENT
DTSTART;TZID=America/New_York:20251112T154500
DTEND;TZID=America/New_York:20251112T170000
DTSTAMP:20260420T194337
CREATED:20250812T141814Z
LAST-MODIFIED:20251112T130018Z
UID:10011594-1762962300-1762966800@www.tcsatl.org
SUMMARY:Intramural Co-Ed Soccer
DESCRIPTION:Carpool- 5:00pm-5:15 PM
URL:https://www.tcsatl.org/event/intramural-co-ed-soccer-11/
END:VEVENT
BEGIN:VEVENT
DTSTART;TZID=America/New_York:20251112T141500
DTEND;TZID=America/New_York:20251112T151500
DTSTAMP:20260420T194337
CREATED:20250812T141814Z
LAST-MODIFIED:20251112T130017Z
UID:10011593-1762956900-1762960500@www.tcsatl.org
SUMMARY:LSASS Math Lab
DESCRIPTION:Carpool 03:15-3:45PM
URL:https://www.tcsatl.org/event/lsass-math-lab-11/
END:VEVENT
BEGIN:VEVENT
DTSTART;TZID=America/New_York:20251111T163000
DTEND;TZID=America/New_York:20251111T173000
DTSTAMP:20260420T194337
CREATED:20250812T141814Z
LAST-MODIFIED:20251111T123530Z
UID:10011592-1762878600-1762882200@www.tcsatl.org
SUMMARY:Percussion Ensemble
DESCRIPTION:Carpool: 5:30 PM
URL:https://www.tcsatl.org/event/percussion-ensemble-29/
END:VEVENT
BEGIN:VEVENT
DTSTART;TZID=America/New_York:20251111T154500
DTEND;TZID=America/New_York:20251111T170000
DTSTAMP:20260420T194337
CREATED:20250812T141814Z
LAST-MODIFIED:20251111T123529Z
UID:10011590-1762875900-1762880400@www.tcsatl.org
SUMMARY:Intramural Co-Ed Cross Country
DESCRIPTION:Carpool 5:00-5:15
URL:https://www.tcsatl.org/event/intramural-co-ed-cross-country-21/
END:VEVENT
BEGIN:VEVENT
DTSTART;TZID=America/New_York:20251111T153000
DTEND;TZID=America/New_York:20251111T163000
DTSTAMP:20260420T194337
CREATED:20250812T141814Z
LAST-MODIFIED:20251111T123529Z
UID:10011591-1762875000-1762878600@www.tcsatl.org
SUMMARY:Drums
DESCRIPTION:Carpool: 4:30-4:45pm
URL:https://www.tcsatl.org/event/drums-11/
END:VEVENT
BEGIN:VEVENT
DTSTART;TZID=America/New_York:20251107T163000
DTEND;TZID=America/New_York:20251107T173000
DTSTAMP:20260420T194337
CREATED:20250812T141801Z
LAST-MODIFIED:20251107T112018Z
UID:10011587-1762533000-1762536600@www.tcsatl.org
SUMMARY:Tap-Ballet
DESCRIPTION:Carpool\n: 5:30
URL:https://www.tcsatl.org/event/tap-ballet-10/
END:VEVENT
BEGIN:VEVENT
DTSTART;TZID=America/New_York:20251107T153000
DTEND;TZID=America/New_York:20251107T163000
DTSTAMP:20260420T194337
CREATED:20250812T141814Z
LAST-MODIFIED:20251107T112018Z
UID:10011589-1762529400-1762533000@www.tcsatl.org
SUMMARY:Amazing Athletes
DESCRIPTION:Carpool- 4:30 pm – 4:45 pm
URL:https://www.tcsatl.org/event/amazing-athletes-68/
END:VEVENT
BEGIN:VEVENT
DTSTART;TZID=America/New_York:20251107T153000
DTEND;TZID=America/New_York:20251107T163000
DTSTAMP:20260420T194337
CREATED:20250812T141801Z
LAST-MODIFIED:20251107T112018Z
UID:10011586-1762529400-1762533000@www.tcsatl.org
SUMMARY:Yoga
DESCRIPTION:Carpool: 4:30pm-4:45 PM
URL:https://www.tcsatl.org/event/yoga-10/
END:VEVENT
BEGIN:VEVENT
DTSTART;TZID=America/New_York:20251107T153000
DTEND;TZID=America/New_York:20251107T163000
DTSTAMP:20260420T194337
CREATED:20250812T141801Z
LAST-MODIFIED:20251107T112017Z
UID:10011588-1762529400-1762533000@www.tcsatl.org
SUMMARY:Pre-Ballet
DESCRIPTION:Carpool- 4:30 PM – 4:45 PM
URL:https://www.tcsatl.org/event/pre-ballet-10/
END:VEVENT
BEGIN:VEVENT
DTSTART;TZID=America/New_York:20251106T154500
DTEND;TZID=America/New_York:20251106T171500
DTSTAMP:20260420T194337
CREATED:20250812T141801Z
LAST-MODIFIED:20251106T111027Z
UID:10011585-1762443900-1762449300@www.tcsatl.org
SUMMARY:TCS Movers
DESCRIPTION:
URL:https://www.tcsatl.org/event/tcs-movers-10/
END:VEVENT
BEGIN:VEVENT
DTSTART;TZID=America/New_York:20251106T154500
DTEND;TZID=America/New_York:20251106T170000
DTSTAMP:20260420T194337
CREATED:20250812T141801Z
LAST-MODIFIED:20251106T111026Z
UID:10011584-1762443900-1762448400@www.tcsatl.org
SUMMARY:Intramural Co-Ed Cross Country
DESCRIPTION:Carpool 5:00-5:15
URL:https://www.tcsatl.org/event/intramural-co-ed-cross-country-20/
END:VEVENT
BEGIN:VEVENT
DTSTART;TZID=America/New_York:20251105T154500
DTEND;TZID=America/New_York:20251105T170000
DTSTAMP:20260420T194337
CREATED:20250812T141801Z
LAST-MODIFIED:20251105T105035Z
UID:10011583-1762357500-1762362000@www.tcsatl.org
SUMMARY:Intramural Co-Ed Soccer
DESCRIPTION:Carpool- 5:00pm-5:15 PM
URL:https://www.tcsatl.org/event/intramural-co-ed-soccer-10/
END:VEVENT
BEGIN:VEVENT
DTSTART;TZID=America/New_York:20251105T141500
DTEND;TZID=America/New_York:20251105T151500
DTSTAMP:20260420T194337
CREATED:20250812T141801Z
LAST-MODIFIED:20251105T105035Z
UID:10011582-1762352100-1762355700@www.tcsatl.org
SUMMARY:LSASS Math Lab
DESCRIPTION:Carpool 03:15-3:45PM
URL:https://www.tcsatl.org/event/lsass-math-lab-10/
END:VEVENT
END:VCALENDAR