BEGIN:VCALENDAR
VERSION:2.0
PRODID:-//The Children&#039;s School - ECPv6.15.15//NONSGML v1.0//EN
CALSCALE:GREGORIAN
METHOD:PUBLISH
X-ORIGINAL-URL:https://www.tcsatl.org
X-WR-CALDESC:Events for The Children&#039;s School
REFRESH-INTERVAL;VALUE=DURATION:PT1H
X-Robots-Tag:noindex
X-PUBLISHED-TTL:PT1H
BEGIN:VTIMEZONE
TZID:America/New_York
BEGIN:DAYLIGHT
TZOFFSETFROM:-0500
TZOFFSETTO:-0400
TZNAME:EDT
DTSTART:20220313T070000
END:DAYLIGHT
BEGIN:STANDARD
TZOFFSETFROM:-0400
TZOFFSETTO:-0500
TZNAME:EST
DTSTART:20221106T060000
END:STANDARD
BEGIN:DAYLIGHT
TZOFFSETFROM:-0500
TZOFFSETTO:-0400
TZNAME:EDT
DTSTART:20230312T070000
END:DAYLIGHT
BEGIN:STANDARD
TZOFFSETFROM:-0400
TZOFFSETTO:-0500
TZNAME:EST
DTSTART:20231105T060000
END:STANDARD
BEGIN:DAYLIGHT
TZOFFSETFROM:-0500
TZOFFSETTO:-0400
TZNAME:EDT
DTSTART:20240310T070000
END:DAYLIGHT
BEGIN:STANDARD
TZOFFSETFROM:-0400
TZOFFSETTO:-0500
TZNAME:EST
DTSTART:20241103T060000
END:STANDARD
END:VTIMEZONE
BEGIN:VEVENT
DTSTART;VALUE=DATE:20230329
DTEND;VALUE=DATE:20230330
DTSTAMP:20260422T183204
CREATED:20220907T181442Z
LAST-MODIFIED:20230329T010011Z
UID:10009627-1680048000-1680134399@www.tcsatl.org
SUMMARY:C Day
DESCRIPTION:
URL:https://www.tcsatl.org/event/c-day-22/
END:VEVENT
BEGIN:VEVENT
DTSTART;TZID=America/New_York:20230329T120000
DTEND;TZID=America/New_York:20230329T130000
DTSTAMP:20260422T183204
CREATED:20230124T210403Z
LAST-MODIFIED:20230329T010010Z
UID:10008986-1680091200-1680094800@www.tcsatl.org
SUMMARY:Ages & Stages: 8th Grade - via ZOOM
DESCRIPTION:https://tcsatl-org.zoom.us/j/82832946456?pwd=K1FFVXNXampjM1JPU0k0S2puZlB2dz09
URL:https://www.tcsatl.org/event/ages-stages-8th-grade-via-zoom/
END:VEVENT
BEGIN:VEVENT
DTSTART;TZID=America/New_York:20230329T151500
DTEND;TZID=America/New_York:20230329T161500
DTSTAMP:20260422T183204
CREATED:20220815T164337Z
LAST-MODIFIED:20230203T231459Z
UID:10008955-1680102900-1680106500@www.tcsatl.org
SUMMARY:TCS Jr. Players
DESCRIPTION:
URL:https://www.tcsatl.org/event/tcs-jr-players-60/
END:VEVENT
BEGIN:VEVENT
DTSTART;TZID=America/New_York:20230329T151500
DTEND;TZID=America/New_York:20230329T163000
DTSTAMP:20260422T183204
CREATED:20220815T164337Z
LAST-MODIFIED:20221120T194949Z
UID:10008959-1680102900-1680107400@www.tcsatl.org
SUMMARY:TCS Players
DESCRIPTION:
URL:https://www.tcsatl.org/event/tcs-players-111/
END:VEVENT
BEGIN:VEVENT
DTSTART;TZID=America/New_York:20230329T151500
DTEND;TZID=America/New_York:20230329T163000
DTSTAMP:20260422T183204
CREATED:20221128T203500Z
LAST-MODIFIED:20230203T231459Z
UID:10008962-1680102900-1680107400@www.tcsatl.org
SUMMARY:TCS Players
DESCRIPTION:
URL:https://www.tcsatl.org/event/tcs-players-163/
END:VEVENT
BEGIN:VEVENT
DTSTART;TZID=America/New_York:20230329T151500
DTEND;TZID=America/New_York:20230329T163000
DTSTAMP:20260422T183204
CREATED:20230202T233002Z
LAST-MODIFIED:20230329T004532Z
UID:10010129-1680102900-1680107400@www.tcsatl.org
SUMMARY:MAAC Boys & Girls Tennis (5th to 8th Grade)
DESCRIPTION:Carpool 4:30-4:45 PM
URL:https://www.tcsatl.org/event/maac-boys-girls-tennis-5th-to-8th-grade-25/
END:VEVENT
BEGIN:VEVENT
DTSTART;TZID=America/New_York:20230329T151500
DTEND;TZID=America/New_York:20230329T164500
DTSTAMP:20260422T183204
CREATED:20230202T233002Z
LAST-MODIFIED:20230329T004532Z
UID:10010131-1680102900-1680108300@www.tcsatl.org
SUMMARY:MAAC Girls & Boys Track & Field (6th to 8th Grade)
DESCRIPTION:Carpool 4:45-5:00 PM
URL:https://www.tcsatl.org/event/maac-girls-boys-track-field-6th-to-8th-grade-24/
END:VEVENT
BEGIN:VEVENT
DTSTART;TZID=America/New_York:20230329T151500
DTEND;TZID=America/New_York:20230329T164500
DTSTAMP:20260422T183204
CREATED:20230202T233002Z
LAST-MODIFIED:20230329T004532Z
UID:10010130-1680102900-1680108300@www.tcsatl.org
SUMMARY:Intramural Girl & Boys Track (3rd -5th Grade)
DESCRIPTION:
URL:https://www.tcsatl.org/event/intramural-girl-boys-track-3rd-5th-grade-17/
END:VEVENT
BEGIN:VEVENT
DTSTART;TZID=America/New_York:20230329T160000
DTEND;TZID=America/New_York:20230329T170000
DTSTAMP:20260422T183204
CREATED:20230302T000012Z
LAST-MODIFIED:20230329T004532Z
UID:10010157-1680105600-1680109200@www.tcsatl.org
SUMMARY:AWAY GAME - MAAC TENNIS - Regular Season Tournament Round Robin - Top 11 Players - 2 BUSES
DESCRIPTION:
URL:https://www.tcsatl.org/event/away-game-maac-tennis-regular-season-tournament-round-robin-top-11-players-2-buses/
LOCATION:Hudlow Tennis Center\, 6224 Jimmy Carter Blvd\, Norcross\, GA 30071\, USA
END:VEVENT
BEGIN:VEVENT
DTSTART;VALUE=DATE:20230330
DTEND;VALUE=DATE:20230331
DTSTAMP:20260422T183204
CREATED:20220907T181442Z
LAST-MODIFIED:20230330T010029Z
UID:10009626-1680134400-1680220799@www.tcsatl.org
SUMMARY:D Day
DESCRIPTION:
URL:https://www.tcsatl.org/event/d-day-21/
END:VEVENT
BEGIN:VEVENT
DTSTART;TZID=America/New_York:20230330T151500
DTEND;TZID=America/New_York:20230330T163000
DTSTAMP:20260422T183204
CREATED:20220815T164337Z
LAST-MODIFIED:20230203T231459Z
UID:10008961-1680189300-1680193800@www.tcsatl.org
SUMMARY:TCS Voices
DESCRIPTION:
URL:https://www.tcsatl.org/event/tcs-voices-60/
END:VEVENT
BEGIN:VEVENT
DTSTART;TZID=America/New_York:20230330T151500
DTEND;TZID=America/New_York:20230330T163000
DTSTAMP:20260422T183204
CREATED:20230202T233003Z
LAST-MODIFIED:20230330T004459Z
UID:10009064-1680189300-1680193800@www.tcsatl.org
SUMMARY:MAAC Co-Ed Flag Football (5th- 8th Grade)
DESCRIPTION:Carpool 04:30 – 04:45 PM
URL:https://www.tcsatl.org/event/maac-co-ed-flag-football-5th-8th-grade-24/
END:VEVENT
BEGIN:VEVENT
DTSTART;TZID=America/New_York:20230330T151500
DTEND;TZID=America/New_York:20230330T164500
DTSTAMP:20260422T183204
CREATED:20230202T233002Z
LAST-MODIFIED:20230330T004459Z
UID:10009062-1680189300-1680194700@www.tcsatl.org
SUMMARY:Intramural Girls & Boys Basketball (3rd-5th Grade)
DESCRIPTION:Carpool 04:45 – 5:00 PM
URL:https://www.tcsatl.org/event/intramural-girls-boys-basketball-3rd-5th-grade-17/
END:VEVENT
BEGIN:VEVENT
DTSTART;TZID=America/New_York:20230330T153000
DTEND;TZID=America/New_York:20230330T170000
DTSTAMP:20260422T183204
CREATED:20230203T233050Z
LAST-MODIFIED:20230330T004459Z
UID:10009086-1680190200-1680195600@www.tcsatl.org
SUMMARY:GAME - MAAC Flag Football vs Torah Day School - 2 Buses
DESCRIPTION:
URL:https://www.tcsatl.org/event/game-maac-flag-football-vs-torah-day-school-2-buses/
LOCATION:Torah Day School of Atlanta\, 1985 Lavista Rd NE\, Atlanta\, GA 30329\, USA\, 1444 Lavista Rd NE\, Atlanta\, GA\, United States
GEO:33.815891;-84.343426
X-APPLE-STRUCTURED-LOCATION;VALUE=URI;X-ADDRESS=Torah Day School of Atlanta 1985 Lavista Rd NE Atlanta GA 30329 USA 1444 Lavista Rd NE Atlanta GA United States;X-APPLE-RADIUS=500;X-TITLE=1444 Lavista Rd NE:geo:-84.343426,33.815891
END:VEVENT
BEGIN:VEVENT
DTSTART;TZID=America/New_York:20230330T160000
DTEND;TZID=America/New_York:20230330T170000
DTSTAMP:20260422T183204
CREATED:20230302T000013Z
LAST-MODIFIED:20230330T004459Z
UID:10010158-1680192000-1680195600@www.tcsatl.org
SUMMARY:AWAY GAME - TRACK & FIELD (6-8th Grade) - Davis Academy
DESCRIPTION:
URL:https://www.tcsatl.org/event/away-game-track-field-6-8th-grade-davis-academy-5/
LOCATION:The Davis Academy\, 7901 Roberts Dr\, Atlanta\, GA 30350\, USA
END:VEVENT
BEGIN:VEVENT
DTSTART;VALUE=DATE:20230331
DTEND;VALUE=DATE:20230401
DTSTAMP:20260422T183204
CREATED:20220907T181442Z
LAST-MODIFIED:20230331T005952Z
UID:10009628-1680220800-1680307199@www.tcsatl.org
SUMMARY:E Day
DESCRIPTION:
URL:https://www.tcsatl.org/event/e-day-22/
END:VEVENT
BEGIN:VEVENT
DTSTART;TZID=America/New_York:20230331T151500
DTEND;TZID=America/New_York:20230331T163000
DTSTAMP:20260422T183204
CREATED:20230202T233003Z
LAST-MODIFIED:20230331T004501Z
UID:10009066-1680275700-1680280200@www.tcsatl.org
SUMMARY:MAAC Co-Ed Flag Football (5th- 8th Grade)
DESCRIPTION:Carpool 04:30 – 04:45 PM
URL:https://www.tcsatl.org/event/maac-co-ed-flag-football-5th-8th-grade-25/
END:VEVENT
BEGIN:VEVENT
DTSTART;TZID=America/New_York:20230331T151500
DTEND;TZID=America/New_York:20230331T163000
DTSTAMP:20260422T183204
CREATED:20230202T233003Z
LAST-MODIFIED:20230331T004501Z
UID:10009069-1680275700-1680280200@www.tcsatl.org
SUMMARY:MAAC Boys & Girls Tennis (5th to 8th Grade)
DESCRIPTION:Carpool 4:30-4:45 PM
URL:https://www.tcsatl.org/event/maac-boys-girls-tennis-5th-to-8th-grade-26/
END:VEVENT
BEGIN:VEVENT
DTSTART;TZID=America/New_York:20230331T151500
DTEND;TZID=America/New_York:20230331T164500
DTSTAMP:20260422T183204
CREATED:20230202T233003Z
LAST-MODIFIED:20230331T004501Z
UID:10009067-1680275700-1680281100@www.tcsatl.org
SUMMARY:MAAC Girls & Boys Track & Field (6th to 8th Grade)
DESCRIPTION:Carpool 4:45-5:00 PM
URL:https://www.tcsatl.org/event/maac-girls-boys-track-field-6th-to-8th-grade-25/
END:VEVENT
BEGIN:VEVENT
DTSTART;VALUE=DATE:20230403
DTEND;VALUE=DATE:20230408
DTSTAMP:20260422T183204
CREATED:20220728T163347Z
LAST-MODIFIED:20230407T014451Z
UID:10008551-1680480000-1680911999@www.tcsatl.org
SUMMARY:Spring Break
DESCRIPTION:
URL:https://www.tcsatl.org/event/spring-break-2/
END:VEVENT
BEGIN:VEVENT
DTSTART;TZID=America/New_York:20230403T151500
DTEND;TZID=America/New_York:20230403T163000
DTSTAMP:20260422T183204
CREATED:20220815T164337Z
LAST-MODIFIED:20221120T194949Z
UID:10008963-1680534900-1680539400@www.tcsatl.org
SUMMARY:TCS Players
DESCRIPTION:
URL:https://www.tcsatl.org/event/tcs-players-112/
END:VEVENT
BEGIN:VEVENT
DTSTART;TZID=America/New_York:20230403T151500
DTEND;TZID=America/New_York:20230403T163000
DTSTAMP:20260422T183204
CREATED:20221128T203501Z
LAST-MODIFIED:20221213T215214Z
UID:10008964-1680534900-1680539400@www.tcsatl.org
SUMMARY:TCS Players
DESCRIPTION:
URL:https://www.tcsatl.org/event/tcs-players-164/
END:VEVENT
BEGIN:VEVENT
DTSTART;TZID=America/New_York:20230403T151500
DTEND;TZID=America/New_York:20230403T163000
DTSTAMP:20260422T183204
CREATED:20230202T233003Z
LAST-MODIFIED:20230202T233003Z
UID:10009071-1680534900-1680539400@www.tcsatl.org
SUMMARY:MAAC Boys & Girls Tennis (5th to 8th Grade)
DESCRIPTION:Carpool 4:30-4:45 PM
URL:https://www.tcsatl.org/event/maac-boys-girls-tennis-5th-to-8th-grade-27/
END:VEVENT
BEGIN:VEVENT
DTSTART;TZID=America/New_York:20230403T151500
DTEND;TZID=America/New_York:20230403T164500
DTSTAMP:20260422T183204
CREATED:20230202T233003Z
LAST-MODIFIED:20230202T233003Z
UID:10009073-1680534900-1680540300@www.tcsatl.org
SUMMARY:MAAC Girls & Boys Track & Field (6th to 8th Grade)
DESCRIPTION:Carpool 4:45-5:00 PM
URL:https://www.tcsatl.org/event/maac-girls-boys-track-field-6th-to-8th-grade-26/
END:VEVENT
BEGIN:VEVENT
DTSTART;TZID=America/New_York:20230403T151500
DTEND;TZID=America/New_York:20230403T164500
DTSTAMP:20260422T183204
CREATED:20230202T233003Z
LAST-MODIFIED:20230202T233003Z
UID:10009074-1680534900-1680540300@www.tcsatl.org
SUMMARY:Intramural Girl & Boys Track (3rd -5th Grade)
DESCRIPTION:
URL:https://www.tcsatl.org/event/intramural-girl-boys-track-3rd-5th-grade-18/
END:VEVENT
BEGIN:VEVENT
DTSTART;TZID=America/New_York:20230404T151500
DTEND;TZID=America/New_York:20230404T163000
DTSTAMP:20260422T183204
CREATED:20220815T164337Z
LAST-MODIFIED:20221213T215214Z
UID:10008965-1680621300-1680625800@www.tcsatl.org
SUMMARY:TCS Jr. Voices
DESCRIPTION:
URL:https://www.tcsatl.org/event/tcs-jr-voices-31/
END:VEVENT
BEGIN:VEVENT
DTSTART;TZID=America/New_York:20230404T151500
DTEND;TZID=America/New_York:20230404T163000
DTSTAMP:20260422T183204
CREATED:20230202T233003Z
LAST-MODIFIED:20230202T233003Z
UID:10009075-1680621300-1680625800@www.tcsatl.org
SUMMARY:MAAC Co-Ed Flag Football (5th- 8th Grade)
DESCRIPTION:Carpool 04:30 – 04:45 PM
URL:https://www.tcsatl.org/event/maac-co-ed-flag-football-5th-8th-grade-26/
END:VEVENT
BEGIN:VEVENT
DTSTART;TZID=America/New_York:20230404T151500
DTEND;TZID=America/New_York:20230404T164500
DTSTAMP:20260422T183204
CREATED:20230202T233004Z
LAST-MODIFIED:20230202T233004Z
UID:10009077-1680621300-1680626700@www.tcsatl.org
SUMMARY:Intramural Girls & Boys Basketball (3rd-5th Grade)
DESCRIPTION:Carpool 04:45 – 5:00 PM
URL:https://www.tcsatl.org/event/intramural-girls-boys-basketball-3rd-5th-grade-18/
END:VEVENT
BEGIN:VEVENT
DTSTART;TZID=America/New_York:20230405T151500
DTEND;TZID=America/New_York:20230405T161500
DTSTAMP:20260422T183204
CREATED:20220815T164337Z
LAST-MODIFIED:20221213T215214Z
UID:10008967-1680707700-1680711300@www.tcsatl.org
SUMMARY:TCS Jr. Players
DESCRIPTION:
URL:https://www.tcsatl.org/event/tcs-jr-players-61/
END:VEVENT
BEGIN:VEVENT
DTSTART;TZID=America/New_York:20230405T151500
DTEND;TZID=America/New_York:20230405T163000
DTSTAMP:20260422T183204
CREATED:20220815T164338Z
LAST-MODIFIED:20221120T194949Z
UID:10008968-1680707700-1680712200@www.tcsatl.org
SUMMARY:TCS Players
DESCRIPTION:
URL:https://www.tcsatl.org/event/tcs-players-113/
END:VEVENT
END:VCALENDAR