BEGIN:VCALENDAR
VERSION:2.0
PRODID:-//The Children&#039;s School - ECPv6.15.15//NONSGML v1.0//EN
CALSCALE:GREGORIAN
METHOD:PUBLISH
X-WR-CALNAME:The Children&#039;s School
X-ORIGINAL-URL:https://www.tcsatl.org
X-WR-CALDESC:Events for The Children&#039;s School
REFRESH-INTERVAL;VALUE=DURATION:PT1H
X-Robots-Tag:noindex
X-PUBLISHED-TTL:PT1H
BEGIN:VTIMEZONE
TZID:America/New_York
BEGIN:DAYLIGHT
TZOFFSETFROM:-0500
TZOFFSETTO:-0400
TZNAME:EDT
DTSTART:20220313T070000
END:DAYLIGHT
BEGIN:STANDARD
TZOFFSETFROM:-0400
TZOFFSETTO:-0500
TZNAME:EST
DTSTART:20221106T060000
END:STANDARD
BEGIN:DAYLIGHT
TZOFFSETFROM:-0500
TZOFFSETTO:-0400
TZNAME:EDT
DTSTART:20230312T070000
END:DAYLIGHT
BEGIN:STANDARD
TZOFFSETFROM:-0400
TZOFFSETTO:-0500
TZNAME:EST
DTSTART:20231105T060000
END:STANDARD
BEGIN:DAYLIGHT
TZOFFSETFROM:-0500
TZOFFSETTO:-0400
TZNAME:EDT
DTSTART:20240310T070000
END:DAYLIGHT
BEGIN:STANDARD
TZOFFSETFROM:-0400
TZOFFSETTO:-0500
TZNAME:EST
DTSTART:20241103T060000
END:STANDARD
END:VTIMEZONE
BEGIN:VEVENT
DTSTART;TZID=America/New_York:20230224T151500
DTEND;TZID=America/New_York:20230224T164500
DTSTAMP:20260422T182102
CREATED:20230202T232955Z
LAST-MODIFIED:20230224T000153Z
UID:10009031-1677251700-1677257100@www.tcsatl.org
SUMMARY:MAAC Girls & Boys Track & Field (6th to 8th Grade)
DESCRIPTION:Carpool 4:45-5:00 PM
URL:https://www.tcsatl.org/event/maac-girls-boys-track-field-6th-to-8th-grade-10/
END:VEVENT
BEGIN:VEVENT
DTSTART;TZID=America/New_York:20230224T151500
DTEND;TZID=America/New_York:20230224T163000
DTSTAMP:20260422T182102
CREATED:20230202T232955Z
LAST-MODIFIED:20230224T000153Z
UID:10010091-1677251700-1677256200@www.tcsatl.org
SUMMARY:MAAC Boys & Girls Tennis (5th to 8th Grade)
DESCRIPTION:Carpool 4:30-4:45 PM
URL:https://www.tcsatl.org/event/maac-boys-girls-tennis-5th-to-8th-grade-11/
END:VEVENT
BEGIN:VEVENT
DTSTART;TZID=America/New_York:20230224T151500
DTEND;TZID=America/New_York:20230224T163000
DTSTAMP:20260422T182102
CREATED:20230202T232955Z
LAST-MODIFIED:20230224T000153Z
UID:10009032-1677251700-1677256200@www.tcsatl.org
SUMMARY:MAAC Co-Ed Flag Football (5th- 8th Grade)
DESCRIPTION:Carpool 04:30 – 04:45 PM
URL:https://www.tcsatl.org/event/maac-co-ed-flag-football-5th-8th-grade-10/
END:VEVENT
BEGIN:VEVENT
DTSTART;TZID=America/New_York:20230224T120000
DTEND;TZID=America/New_York:20230224T130000
DTSTAMP:20260422T182102
CREATED:20230124T210358Z
LAST-MODIFIED:20230223T233026Z
UID:10010048-1677240000-1677243600@www.tcsatl.org
SUMMARY:Ages & Stages: 7th Grade - via ZOOM
DESCRIPTION:https://tcsatl-org.zoom.us/j/82832946456?pwd=K1FFVXNXampjM1JPU0k0S2puZlB2dz09
URL:https://www.tcsatl.org/event/ages-stages-7th-grade-via-zoom/
END:VEVENT
BEGIN:VEVENT
DTSTART;VALUE=DATE:20230224
DTEND;VALUE=DATE:20230225
DTSTAMP:20260422T182102
CREATED:20220907T181439Z
LAST-MODIFIED:20230224T232954Z
UID:10009604-1677196800-1677283199@www.tcsatl.org
SUMMARY:E Day
DESCRIPTION:
URL:https://www.tcsatl.org/event/e-day-18/
END:VEVENT
BEGIN:VEVENT
DTSTART;TZID=America/New_York:20230223T151500
DTEND;TZID=America/New_York:20230223T164500
DTSTAMP:20260422T182102
CREATED:20230202T232955Z
LAST-MODIFIED:20230222T235944Z
UID:10009029-1677165300-1677170700@www.tcsatl.org
SUMMARY:Intramural Girls & Boys Basketball (3rd-5th Grade)
DESCRIPTION:Carpool 04:45 – 5:00 PM
URL:https://www.tcsatl.org/event/intramural-girls-boys-basketball-3rd-5th-grade-7/
END:VEVENT
BEGIN:VEVENT
DTSTART;TZID=America/New_York:20230223T151500
DTEND;TZID=America/New_York:20230223T163000
DTSTAMP:20260422T182102
CREATED:20230202T232955Z
LAST-MODIFIED:20230222T235944Z
UID:10009030-1677165300-1677169800@www.tcsatl.org
SUMMARY:MAAC Co-Ed Flag Football (5th- 8th Grade)
DESCRIPTION:Carpool 04:30 – 04:45 PM
URL:https://www.tcsatl.org/event/maac-co-ed-flag-football-5th-8th-grade-9/
END:VEVENT
BEGIN:VEVENT
DTSTART;TZID=America/New_York:20230223T151500
DTEND;TZID=America/New_York:20230223T163000
DTSTAMP:20260422T182102
CREATED:20220815T164229Z
LAST-MODIFIED:20230203T231457Z
UID:10008905-1677165300-1677169800@www.tcsatl.org
SUMMARY:TCS Voices
DESCRIPTION:
URL:https://www.tcsatl.org/event/tcs-voices-55/
END:VEVENT
BEGIN:VEVENT
DTSTART;VALUE=DATE:20230223
DTEND;VALUE=DATE:20230224
DTSTAMP:20260422T182102
CREATED:20220907T181439Z
LAST-MODIFIED:20230223T233026Z
UID:10009602-1677110400-1677196799@www.tcsatl.org
SUMMARY:D Day
DESCRIPTION:
URL:https://www.tcsatl.org/event/d-day-17/
END:VEVENT
BEGIN:VEVENT
DTSTART;TZID=America/New_York:20230222T151500
DTEND;TZID=America/New_York:20230222T164500
DTSTAMP:20260422T182102
CREATED:20230202T232955Z
LAST-MODIFIED:20230221T235950Z
UID:10009026-1677078900-1677084300@www.tcsatl.org
SUMMARY:Intramural Girl & Boys Track (3rd -5th Grade)
DESCRIPTION:
URL:https://www.tcsatl.org/event/intramural-girl-boys-track-3rd-5th-grade-7/
END:VEVENT
BEGIN:VEVENT
DTSTART;TZID=America/New_York:20230222T151500
DTEND;TZID=America/New_York:20230222T164500
DTSTAMP:20260422T182102
CREATED:20230202T232955Z
LAST-MODIFIED:20230221T235950Z
UID:10009027-1677078900-1677084300@www.tcsatl.org
SUMMARY:MAAC Girls & Boys Track & Field (6th to 8th Grade)
DESCRIPTION:Carpool 4:45-5:00 PM
URL:https://www.tcsatl.org/event/maac-girls-boys-track-field-6th-to-8th-grade-9/
END:VEVENT
BEGIN:VEVENT
DTSTART;TZID=America/New_York:20230222T151500
DTEND;TZID=America/New_York:20230222T163000
DTSTAMP:20260422T182102
CREATED:20230202T232955Z
LAST-MODIFIED:20230221T235950Z
UID:10009028-1677078900-1677083400@www.tcsatl.org
SUMMARY:MAAC Boys & Girls Tennis (5th to 8th Grade)
DESCRIPTION:Carpool 4:30-4:45 PM
URL:https://www.tcsatl.org/event/maac-boys-girls-tennis-5th-to-8th-grade-10/
END:VEVENT
BEGIN:VEVENT
DTSTART;TZID=America/New_York:20230222T151500
DTEND;TZID=America/New_York:20230222T163000
DTSTAMP:20260422T182102
CREATED:20221128T203458Z
LAST-MODIFIED:20230203T231457Z
UID:10010016-1677078900-1677083400@www.tcsatl.org
SUMMARY:TCS Players
DESCRIPTION:
URL:https://www.tcsatl.org/event/tcs-players-153/
END:VEVENT
BEGIN:VEVENT
DTSTART;TZID=America/New_York:20230222T151500
DTEND;TZID=America/New_York:20230222T163000
DTSTAMP:20260422T182102
CREATED:20220815T164229Z
LAST-MODIFIED:20221120T194947Z
UID:10008900-1677078900-1677083400@www.tcsatl.org
SUMMARY:TCS Players
DESCRIPTION:
URL:https://www.tcsatl.org/event/tcs-players-101/
END:VEVENT
BEGIN:VEVENT
DTSTART;TZID=America/New_York:20230222T151500
DTEND;TZID=America/New_York:20230222T161500
DTSTAMP:20260422T182102
CREATED:20220815T164229Z
LAST-MODIFIED:20230203T231457Z
UID:10008903-1677078900-1677082500@www.tcsatl.org
SUMMARY:TCS Jr. Players
DESCRIPTION:
URL:https://www.tcsatl.org/event/tcs-jr-players-55/
END:VEVENT
BEGIN:VEVENT
DTSTART;VALUE=DATE:20230222
DTEND;VALUE=DATE:20230223
DTSTAMP:20260422T182102
CREATED:20220907T181439Z
LAST-MODIFIED:20230222T232942Z
UID:10009603-1677024000-1677110399@www.tcsatl.org
SUMMARY:C Day
DESCRIPTION:
URL:https://www.tcsatl.org/event/c-day-18/
END:VEVENT
BEGIN:VEVENT
DTSTART;VALUE=DATE:20230222
DTEND;VALUE=DATE:20230223
DTSTAMP:20260422T182102
CREATED:20220728T163346Z
LAST-MODIFIED:20230222T232942Z
UID:10008548-1677024000-1677110399@www.tcsatl.org
SUMMARY:Students Return from Mid-Winter Break
DESCRIPTION:
URL:https://www.tcsatl.org/event/students-return-from-mid-winter-break-2/
END:VEVENT
BEGIN:VEVENT
DTSTART;TZID=America/New_York:20230221T151500
DTEND;TZID=America/New_York:20230221T164500
DTSTAMP:20260422T182102
CREATED:20230202T232955Z
LAST-MODIFIED:20230221T000025Z
UID:10009024-1676992500-1676997900@www.tcsatl.org
SUMMARY:Intramural Girls & Boys Basketball (3rd-5th Grade)
DESCRIPTION:Carpool 04:45 – 5:00 PM
URL:https://www.tcsatl.org/event/intramural-girls-boys-basketball-3rd-5th-grade-6/
END:VEVENT
BEGIN:VEVENT
DTSTART;TZID=America/New_York:20230221T151500
DTEND;TZID=America/New_York:20230221T163000
DTSTAMP:20260422T182102
CREATED:20230202T232955Z
LAST-MODIFIED:20230221T000025Z
UID:10009025-1676992500-1676997000@www.tcsatl.org
SUMMARY:MAAC Co-Ed Flag Football (5th- 8th Grade)
DESCRIPTION:Carpool 04:30 – 04:45 PM
URL:https://www.tcsatl.org/event/maac-co-ed-flag-football-5th-8th-grade-8/
END:VEVENT
BEGIN:VEVENT
DTSTART;TZID=America/New_York:20230221T151500
DTEND;TZID=America/New_York:20230221T163000
DTSTAMP:20260422T182102
CREATED:20220815T164229Z
LAST-MODIFIED:20221213T215212Z
UID:10008897-1676992500-1676997000@www.tcsatl.org
SUMMARY:TCS Jr. Voices
DESCRIPTION:
URL:https://www.tcsatl.org/event/tcs-jr-voices-25/
END:VEVENT
BEGIN:VEVENT
DTSTART;TZID=America/New_York:20230220T151500
DTEND;TZID=America/New_York:20230220T164500
DTSTAMP:20260422T182102
CREATED:20230202T232954Z
LAST-MODIFIED:20230219T235942Z
UID:10009022-1676906100-1676911500@www.tcsatl.org
SUMMARY:Intramural Girl & Boys Track (3rd -5th Grade)
DESCRIPTION:
URL:https://www.tcsatl.org/event/intramural-girl-boys-track-3rd-5th-grade-6/
END:VEVENT
BEGIN:VEVENT
DTSTART;TZID=America/New_York:20230220T151500
DTEND;TZID=America/New_York:20230220T164500
DTSTAMP:20260422T182102
CREATED:20230202T232954Z
LAST-MODIFIED:20230219T235942Z
UID:10010090-1676906100-1676911500@www.tcsatl.org
SUMMARY:MAAC Girls & Boys Track & Field (6th to 8th Grade)
DESCRIPTION:Carpool 4:45-5:00 PM
URL:https://www.tcsatl.org/event/maac-girls-boys-track-field-6th-to-8th-grade-8/
END:VEVENT
BEGIN:VEVENT
DTSTART;TZID=America/New_York:20230220T151500
DTEND;TZID=America/New_York:20230220T163000
DTSTAMP:20260422T182102
CREATED:20230202T232954Z
LAST-MODIFIED:20230219T235942Z
UID:10010089-1676906100-1676910600@www.tcsatl.org
SUMMARY:MAAC Boys & Girls Tennis (5th to 8th Grade)
DESCRIPTION:Carpool 4:30-4:45 PM
URL:https://www.tcsatl.org/event/maac-boys-girls-tennis-5th-to-8th-grade-9/
END:VEVENT
BEGIN:VEVENT
DTSTART;TZID=America/New_York:20230220T151500
DTEND;TZID=America/New_York:20230220T163000
DTSTAMP:20260422T182102
CREATED:20221128T203457Z
LAST-MODIFIED:20221213T215212Z
UID:10010015-1676906100-1676910600@www.tcsatl.org
SUMMARY:TCS Players
DESCRIPTION:
URL:https://www.tcsatl.org/event/tcs-players-152/
END:VEVENT
BEGIN:VEVENT
DTSTART;TZID=America/New_York:20230220T151500
DTEND;TZID=America/New_York:20230220T163000
DTSTAMP:20260422T182102
CREATED:20220815T164228Z
LAST-MODIFIED:20221120T194947Z
UID:10008895-1676906100-1676910600@www.tcsatl.org
SUMMARY:TCS Players
DESCRIPTION:
URL:https://www.tcsatl.org/event/tcs-players-100/
END:VEVENT
BEGIN:VEVENT
DTSTART;VALUE=DATE:20230220
DTEND;VALUE=DATE:20230222
DTSTAMP:20260422T182102
CREATED:20220728T163346Z
LAST-MODIFIED:20230221T233014Z
UID:10008549-1676851200-1677023999@www.tcsatl.org
SUMMARY:Mid-Winter Break
DESCRIPTION:
URL:https://www.tcsatl.org/event/mid-winter-break/
END:VEVENT
BEGIN:VEVENT
DTSTART;TZID=America/New_York:20230217T151500
DTEND;TZID=America/New_York:20230217T164500
DTSTAMP:20260422T182102
CREATED:20230202T232954Z
LAST-MODIFIED:20230216T235947Z
UID:10010087-1676646900-1676652300@www.tcsatl.org
SUMMARY:MAAC Girls & Boys Track & Field (6th to 8th Grade)
DESCRIPTION:Carpool 4:45-5:00 PM
URL:https://www.tcsatl.org/event/maac-girls-boys-track-field-6th-to-8th-grade-7/
END:VEVENT
BEGIN:VEVENT
DTSTART;TZID=America/New_York:20230217T151500
DTEND;TZID=America/New_York:20230217T163000
DTSTAMP:20260422T182102
CREATED:20230202T232954Z
LAST-MODIFIED:20230216T235947Z
UID:10010086-1676646900-1676651400@www.tcsatl.org
SUMMARY:MAAC Boys & Girls Tennis (5th to 8th Grade)
DESCRIPTION:Carpool 4:30-4:45 PM
URL:https://www.tcsatl.org/event/maac-boys-girls-tennis-5th-to-8th-grade-8/
END:VEVENT
BEGIN:VEVENT
DTSTART;TZID=America/New_York:20230217T151500
DTEND;TZID=America/New_York:20230217T163000
DTSTAMP:20260422T182102
CREATED:20230202T232954Z
LAST-MODIFIED:20230216T235947Z
UID:10010088-1676646900-1676651400@www.tcsatl.org
SUMMARY:MAAC Co-Ed Flag Football (5th- 8th Grade)
DESCRIPTION:Carpool 04:30 – 04:45 PM
URL:https://www.tcsatl.org/event/maac-co-ed-flag-football-5th-8th-grade-7/
END:VEVENT
BEGIN:VEVENT
DTSTART;TZID=America/New_York:20230216T151500
DTEND;TZID=America/New_York:20230216T164500
DTSTAMP:20260422T182102
CREATED:20230202T232954Z
LAST-MODIFIED:20230216T000000Z
UID:10010084-1676560500-1676565900@www.tcsatl.org
SUMMARY:Intramural Girls & Boys Basketball (3rd-5th Grade)
DESCRIPTION:Carpool 04:45 – 5:00 PM
URL:https://www.tcsatl.org/event/intramural-girls-boys-basketball-3rd-5th-grade-5/
END:VEVENT
END:VCALENDAR