BEGIN:VCALENDAR
VERSION:2.0
PRODID:-//The Children&#039;s School - ECPv6.15.15//NONSGML v1.0//EN
CALSCALE:GREGORIAN
METHOD:PUBLISH
X-ORIGINAL-URL:https://www.tcsatl.org
X-WR-CALDESC:Events for The Children&#039;s School
REFRESH-INTERVAL;VALUE=DURATION:PT1H
X-Robots-Tag:noindex
X-PUBLISHED-TTL:PT1H
BEGIN:VTIMEZONE
TZID:America/New_York
BEGIN:DAYLIGHT
TZOFFSETFROM:-0500
TZOFFSETTO:-0400
TZNAME:EDT
DTSTART:20210314T070000
END:DAYLIGHT
BEGIN:STANDARD
TZOFFSETFROM:-0400
TZOFFSETTO:-0500
TZNAME:EST
DTSTART:20211107T060000
END:STANDARD
BEGIN:DAYLIGHT
TZOFFSETFROM:-0500
TZOFFSETTO:-0400
TZNAME:EDT
DTSTART:20220313T070000
END:DAYLIGHT
BEGIN:STANDARD
TZOFFSETFROM:-0400
TZOFFSETTO:-0500
TZNAME:EST
DTSTART:20221106T060000
END:STANDARD
BEGIN:DAYLIGHT
TZOFFSETFROM:-0500
TZOFFSETTO:-0400
TZNAME:EDT
DTSTART:20230312T070000
END:DAYLIGHT
BEGIN:STANDARD
TZOFFSETFROM:-0400
TZOFFSETTO:-0500
TZNAME:EST
DTSTART:20231105T060000
END:STANDARD
END:VTIMEZONE
BEGIN:VEVENT
DTSTART;TZID=America/New_York:20221206T153000
DTEND;TZID=America/New_York:20221206T163000
DTSTAMP:20260423T040501
CREATED:20221128T200344Z
LAST-MODIFIED:20221206T203358Z
UID:10009690-1670340600-1670344200@www.tcsatl.org
SUMMARY:MAAC Girls Basketball (5th-8th Grade)
DESCRIPTION:
URL:https://www.tcsatl.org/event/maac-girls-basketball-5th-8th-grade-4/
END:VEVENT
BEGIN:VEVENT
DTSTART;TZID=America/New_York:20221206T161500
DTEND;TZID=America/New_York:20221206T171500
DTSTAMP:20260423T040501
CREATED:20220815T164218Z
LAST-MODIFIED:20221206T210533Z
UID:10008793-1670343300-1670346900@www.tcsatl.org
SUMMARY:Intro to Drums
DESCRIPTION:
URL:https://www.tcsatl.org/event/intro-to-drums-18/
END:VEVENT
BEGIN:VEVENT
DTSTART;VALUE=DATE:20221207
DTEND;VALUE=DATE:20221208
DTSTAMP:20260423T040501
CREATED:20220907T181434Z
LAST-MODIFIED:20221207T193623Z
UID:10009564-1670371200-1670457599@www.tcsatl.org
SUMMARY:A Day
DESCRIPTION:
URL:https://www.tcsatl.org/event/a-day-10/
END:VEVENT
BEGIN:VEVENT
DTSTART;TZID=America/New_York:20221207T074500
DTEND;TZID=America/New_York:20221207T090000
DTSTAMP:20260423T040501
CREATED:20221128T200344Z
LAST-MODIFIED:20221206T203359Z
UID:10009691-1670399100-1670403600@www.tcsatl.org
SUMMARY:MAAC Girls Basketball (5th-8th Grade)
DESCRIPTION:
URL:https://www.tcsatl.org/event/maac-girls-basketball-5th-8th-grade-5/
END:VEVENT
BEGIN:VEVENT
DTSTART;TZID=America/New_York:20221207T151500
DTEND;TZID=America/New_York:20221207T161500
DTSTAMP:20260423T040501
CREATED:20220815T164219Z
LAST-MODIFIED:20221206T210533Z
UID:10008796-1670426100-1670429700@www.tcsatl.org
SUMMARY:TCS Jr. Players
DESCRIPTION:
URL:https://www.tcsatl.org/event/tcs-jr-players-44/
END:VEVENT
BEGIN:VEVENT
DTSTART;TZID=America/New_York:20221207T151500
DTEND;TZID=America/New_York:20221207T163000
DTSTAMP:20260423T040501
CREATED:20220815T164219Z
LAST-MODIFIED:20221120T194944Z
UID:10008797-1670426100-1670430600@www.tcsatl.org
SUMMARY:TCS Players
DESCRIPTION:
URL:https://www.tcsatl.org/event/tcs-players-79/
END:VEVENT
BEGIN:VEVENT
DTSTART;TZID=America/New_York:20221207T151500
DTEND;TZID=America/New_York:20221207T163000
DTSTAMP:20260423T040501
CREATED:20221128T200344Z
LAST-MODIFIED:20221207T203527Z
UID:10009692-1670426100-1670430600@www.tcsatl.org
SUMMARY:Intramural Co-Ed Tennis (3rd-5th)
DESCRIPTION:
URL:https://www.tcsatl.org/event/intramural-co-ed-tennis-3rd-5th-22/
END:VEVENT
BEGIN:VEVENT
DTSTART;TZID=America/New_York:20221207T151500
DTEND;TZID=America/New_York:20221207T163000
DTSTAMP:20260423T040501
CREATED:20221128T203450Z
LAST-MODIFIED:20221207T212154Z
UID:10010001-1670426100-1670430600@www.tcsatl.org
SUMMARY:TCS Players
DESCRIPTION:
URL:https://www.tcsatl.org/event/tcs-players-131/
END:VEVENT
BEGIN:VEVENT
DTSTART;VALUE=DATE:20221208
DTEND;VALUE=DATE:20221209
DTSTAMP:20260423T040501
CREATED:20220907T181435Z
LAST-MODIFIED:20221208T194900Z
UID:10009565-1670457600-1670543999@www.tcsatl.org
SUMMARY:B Day
DESCRIPTION:
URL:https://www.tcsatl.org/event/b-day-12/
END:VEVENT
BEGIN:VEVENT
DTSTART;TZID=America/New_York:20221208T151500
DTEND;TZID=America/New_York:20221208T161500
DTSTAMP:20260423T040501
CREATED:20220815T164220Z
LAST-MODIFIED:20221207T212154Z
UID:10008801-1670512500-1670516100@www.tcsatl.org
SUMMARY:Gymnastics Level II
DESCRIPTION:
URL:https://www.tcsatl.org/event/gymnastics-level-ii-18/
END:VEVENT
BEGIN:VEVENT
DTSTART;TZID=America/New_York:20221208T151500
DTEND;TZID=America/New_York:20221208T161500
DTSTAMP:20260423T040501
CREATED:20221128T203450Z
LAST-MODIFIED:20221207T212154Z
UID:10008934-1670512500-1670516100@www.tcsatl.org
SUMMARY:Drums (All Levels)
DESCRIPTION:
URL:https://www.tcsatl.org/event/drums-all-levels-4/
END:VEVENT
BEGIN:VEVENT
DTSTART;TZID=America/New_York:20221208T151500
DTEND;TZID=America/New_York:20221208T161500
DTSTAMP:20260423T040501
CREATED:20221128T203450Z
LAST-MODIFIED:20221207T212154Z
UID:10010002-1670512500-1670516100@www.tcsatl.org
SUMMARY:Tonchu Martial Arts
DESCRIPTION:
URL:https://www.tcsatl.org/event/tonchu-martial-arts-3/
END:VEVENT
BEGIN:VEVENT
DTSTART;TZID=America/New_York:20221208T151500
DTEND;TZID=America/New_York:20221208T163000
DTSTAMP:20260423T040501
CREATED:20220815T164219Z
LAST-MODIFIED:20221208T212146Z
UID:10008799-1670512500-1670517000@www.tcsatl.org
SUMMARY:TCS Voices
DESCRIPTION:
URL:https://www.tcsatl.org/event/tcs-voices-44/
END:VEVENT
BEGIN:VEVENT
DTSTART;TZID=America/New_York:20221208T151500
DTEND;TZID=America/New_York:20221208T163000
DTSTAMP:20260423T040501
CREATED:20221128T200345Z
LAST-MODIFIED:20221208T203343Z
UID:10009693-1670512500-1670517000@www.tcsatl.org
SUMMARY:MAAC Boys Basketball (5th - 8th Grade)
DESCRIPTION:
URL:https://www.tcsatl.org/event/maac-boys-basketball-5th-8th-grade-5/
END:VEVENT
BEGIN:VEVENT
DTSTART;TZID=America/New_York:20221208T151500
DTEND;TZID=America/New_York:20221208T164500
DTSTAMP:20260423T040501
CREATED:20220815T164219Z
LAST-MODIFIED:20221208T212146Z
UID:10008800-1670512500-1670517900@www.tcsatl.org
SUMMARY:Kids TV - Video & Film Production Class
DESCRIPTION:
URL:https://www.tcsatl.org/event/kids-tv-video-film-production-class-18/
END:VEVENT
BEGIN:VEVENT
DTSTART;TZID=America/New_York:20221208T160000
DTEND;TZID=America/New_York:20221208T180000
DTSTAMP:20260423T040501
CREATED:20221107T191254Z
LAST-MODIFIED:20221208T203343Z
UID:10009668-1670515200-1670522400@www.tcsatl.org
SUMMARY:MAAC Girls Basketball vs. Atlanta Girls School - AGS - 1 BUS
DESCRIPTION:
URL:https://www.tcsatl.org/event/maac-girls-basketball-vs-atlanta-girls-school-ags-1-bus/
END:VEVENT
BEGIN:VEVENT
DTSTART;TZID=America/New_York:20221208T160000
DTEND;TZID=America/New_York:20221208T180000
DTSTAMP:20260423T040501
CREATED:20221107T191254Z
LAST-MODIFIED:20221107T191254Z
UID:10009669-1670515200-1670522400@www.tcsatl.org
SUMMARY:MAAC Girls Basketball vs. Atlanta Girls School - AGS - 1 BUS
DESCRIPTION:
URL:https://www.tcsatl.org/event/maac-girls-basketball-vs-atlanta-girls-school-ags-1-bus-2/
END:VEVENT
BEGIN:VEVENT
DTSTART;TZID=America/New_York:20221208T161500
DTEND;TZID=America/New_York:20221208T171500
DTSTAMP:20260423T040501
CREATED:20220815T164219Z
LAST-MODIFIED:20221208T212146Z
UID:10008798-1670516100-1670519700@www.tcsatl.org
SUMMARY:Ballet/Tap Level II
DESCRIPTION:
URL:https://www.tcsatl.org/event/ballet-tap-level-ii-18/
END:VEVENT
BEGIN:VEVENT
DTSTART;VALUE=DATE:20221209
DTEND;VALUE=DATE:20221210
DTSTAMP:20260423T040501
CREATED:20220907T181435Z
LAST-MODIFIED:20221209T194928Z
UID:10009566-1670544000-1670630399@www.tcsatl.org
SUMMARY:C Day
DESCRIPTION:
URL:https://www.tcsatl.org/event/c-day-12/
END:VEVENT
BEGIN:VEVENT
DTSTART;TZID=America/New_York:20221209T151500
DTEND;TZID=America/New_York:20221209T161500
DTSTAMP:20260423T040501
CREATED:20220815T164220Z
LAST-MODIFIED:20221208T212146Z
UID:10008802-1670598900-1670602500@www.tcsatl.org
SUMMARY:Amazing Athletes
DESCRIPTION:
URL:https://www.tcsatl.org/event/amazing-athletes-41/
END:VEVENT
BEGIN:VEVENT
DTSTART;TZID=America/New_York:20221209T151500
DTEND;TZID=America/New_York:20221209T161500
DTSTAMP:20260423T040501
CREATED:20221128T203451Z
LAST-MODIFIED:20221208T212146Z
UID:10008936-1670598900-1670602500@www.tcsatl.org
SUMMARY:Intro to Gymnastics
DESCRIPTION:
URL:https://www.tcsatl.org/event/intro-to-gymnastics-4/
END:VEVENT
BEGIN:VEVENT
DTSTART;TZID=America/New_York:20221209T151500
DTEND;TZID=America/New_York:20221209T163000
DTSTAMP:20260423T040501
CREATED:20221128T200345Z
LAST-MODIFIED:20221209T203404Z
UID:10009696-1670598900-1670603400@www.tcsatl.org
SUMMARY:MAAC Boys Basketball (5th - 8th Grade)
DESCRIPTION:
URL:https://www.tcsatl.org/event/maac-boys-basketball-5th-8th-grade-6/
END:VEVENT
BEGIN:VEVENT
DTSTART;TZID=America/New_York:20221209T153000
DTEND;TZID=America/New_York:20221209T163000
DTSTAMP:20260423T040501
CREATED:20221128T200345Z
LAST-MODIFIED:20221209T203405Z
UID:10009697-1670599800-1670603400@www.tcsatl.org
SUMMARY:MAAC Girls Basketball (5th-8th Grade)
DESCRIPTION:
URL:https://www.tcsatl.org/event/maac-girls-basketball-5th-8th-grade-6/
END:VEVENT
BEGIN:VEVENT
DTSTART;TZID=America/New_York:20221209T161500
DTEND;TZID=America/New_York:20221209T171500
DTSTAMP:20260423T040501
CREATED:20220815T164220Z
LAST-MODIFIED:20221209T213358Z
UID:10008803-1670602500-1670606100@www.tcsatl.org
SUMMARY:Intro to Ballet/Tap
DESCRIPTION:
URL:https://www.tcsatl.org/event/intro-to-ballet-tap-17/
END:VEVENT
BEGIN:VEVENT
DTSTART;VALUE=DATE:20221212
DTEND;VALUE=DATE:20221213
DTSTAMP:20260423T040501
CREATED:20220907T181435Z
LAST-MODIFIED:20221212T200415Z
UID:10009567-1670803200-1670889599@www.tcsatl.org
SUMMARY:D Day
DESCRIPTION:
URL:https://www.tcsatl.org/event/d-day-11/
END:VEVENT
BEGIN:VEVENT
DTSTART;TZID=America/New_York:20221212T151500
DTEND;TZID=America/New_York:20221212T161500
DTSTAMP:20260423T040501
CREATED:20220815T164220Z
LAST-MODIFIED:20221211T214159Z
UID:10008804-1670858100-1670861700@www.tcsatl.org
SUMMARY:Bricks4Kidz
DESCRIPTION:
URL:https://www.tcsatl.org/event/bricks4kidz-19/
END:VEVENT
BEGIN:VEVENT
DTSTART;TZID=America/New_York:20221212T151500
DTEND;TZID=America/New_York:20221212T163000
DTSTAMP:20260423T040501
CREATED:20220815T164220Z
LAST-MODIFIED:20221120T194944Z
UID:10008805-1670858100-1670862600@www.tcsatl.org
SUMMARY:TCS Players
DESCRIPTION:
URL:https://www.tcsatl.org/event/tcs-players-80/
END:VEVENT
BEGIN:VEVENT
DTSTART;TZID=America/New_York:20221212T151500
DTEND;TZID=America/New_York:20221212T163000
DTSTAMP:20260423T040501
CREATED:20221128T200345Z
LAST-MODIFIED:20221212T203451Z
UID:10009699-1670858100-1670862600@www.tcsatl.org
SUMMARY:MAAC Boys Basketball (5th - 8th Grade)
DESCRIPTION:
URL:https://www.tcsatl.org/event/maac-boys-basketball-5th-8th-grade-7/
END:VEVENT
BEGIN:VEVENT
DTSTART;TZID=America/New_York:20221212T151500
DTEND;TZID=America/New_York:20221212T163000
DTSTAMP:20260423T040501
CREATED:20221128T203451Z
LAST-MODIFIED:20221211T214159Z
UID:10008937-1670858100-1670862600@www.tcsatl.org
SUMMARY:TCS Players
DESCRIPTION:
URL:https://www.tcsatl.org/event/tcs-players-132/
END:VEVENT
BEGIN:VEVENT
DTSTART;TZID=America/New_York:20221212T154500
DTEND;TZID=America/New_York:20221212T180000
DTSTAMP:20260423T040501
CREATED:20221107T191254Z
LAST-MODIFIED:20221212T203450Z
UID:10009670-1670859900-1670868000@www.tcsatl.org
SUMMARY:MAAC Boys Basketball vs Atlanta Academy - 2 BUSES
DESCRIPTION:
URL:https://www.tcsatl.org/event/maac-boys-basketball-vs-atlanta-academy-2-buses/
END:VEVENT
END:VCALENDAR