BEGIN:VCALENDAR
VERSION:2.0
PRODID:-//The Children&#039;s School - ECPv6.15.15//NONSGML v1.0//EN
CALSCALE:GREGORIAN
METHOD:PUBLISH
X-WR-CALNAME:The Children&#039;s School
X-ORIGINAL-URL:https://www.tcsatl.org
X-WR-CALDESC:Events for The Children&#039;s School
REFRESH-INTERVAL;VALUE=DURATION:PT1H
X-Robots-Tag:noindex
X-PUBLISHED-TTL:PT1H
BEGIN:VTIMEZONE
TZID:America/New_York
BEGIN:DAYLIGHT
TZOFFSETFROM:-0500
TZOFFSETTO:-0400
TZNAME:EDT
DTSTART:20240310T070000
END:DAYLIGHT
BEGIN:STANDARD
TZOFFSETFROM:-0400
TZOFFSETTO:-0500
TZNAME:EST
DTSTART:20241103T060000
END:STANDARD
BEGIN:DAYLIGHT
TZOFFSETFROM:-0500
TZOFFSETTO:-0400
TZNAME:EDT
DTSTART:20250309T070000
END:DAYLIGHT
BEGIN:STANDARD
TZOFFSETFROM:-0400
TZOFFSETTO:-0500
TZNAME:EST
DTSTART:20251102T060000
END:STANDARD
BEGIN:DAYLIGHT
TZOFFSETFROM:-0500
TZOFFSETTO:-0400
TZNAME:EDT
DTSTART:20260308T070000
END:DAYLIGHT
BEGIN:STANDARD
TZOFFSETFROM:-0400
TZOFFSETTO:-0500
TZNAME:EST
DTSTART:20261101T060000
END:STANDARD
END:VTIMEZONE
BEGIN:VEVENT
DTSTART;TZID=America/New_York:20251024T163000
DTEND;TZID=America/New_York:20251024T173000
DTSTAMP:20260420T204546
CREATED:20250812T141736Z
LAST-MODIFIED:20251024T212529Z
UID:10011565-1761323400-1761327000@www.tcsatl.org
SUMMARY:Tap-Ballet
DESCRIPTION:Carpool\n: 5:30
URL:https://www.tcsatl.org/event/tap-ballet-8/
END:VEVENT
BEGIN:VEVENT
DTSTART;TZID=America/New_York:20251024T153000
DTEND;TZID=America/New_York:20251024T163000
DTSTAMP:20260420T204546
CREATED:20250812T141736Z
LAST-MODIFIED:20251023T210520Z
UID:10011567-1761319800-1761323400@www.tcsatl.org
SUMMARY:Amazing Athletes
DESCRIPTION:Carpool- 4:30 pm – 4:45 pm
URL:https://www.tcsatl.org/event/amazing-athletes-66/
END:VEVENT
BEGIN:VEVENT
DTSTART;TZID=America/New_York:20251024T153000
DTEND;TZID=America/New_York:20251024T163000
DTSTAMP:20260420T204546
CREATED:20250812T141736Z
LAST-MODIFIED:20251023T210520Z
UID:10011564-1761319800-1761323400@www.tcsatl.org
SUMMARY:Yoga
DESCRIPTION:Carpool: 4:30pm-4:45 PM
URL:https://www.tcsatl.org/event/yoga-8/
END:VEVENT
BEGIN:VEVENT
DTSTART;TZID=America/New_York:20251024T153000
DTEND;TZID=America/New_York:20251024T163000
DTSTAMP:20260420T204546
CREATED:20250812T141736Z
LAST-MODIFIED:20251023T210520Z
UID:10011566-1761319800-1761323400@www.tcsatl.org
SUMMARY:Pre-Ballet
DESCRIPTION:Carpool- 4:30 PM – 4:45 PM
URL:https://www.tcsatl.org/event/pre-ballet-8/
END:VEVENT
BEGIN:VEVENT
DTSTART;TZID=America/New_York:20251024T074500
DTEND;TZID=America/New_York:20251024T083000
DTSTAMP:20260420T204546
CREATED:20251014T230014Z
LAST-MODIFIED:20251024T010512Z
UID:10011652-1761291900-1761294600@www.tcsatl.org
SUMMARY:TCS Spirit Shop Pop Up - Portico
DESCRIPTION:
URL:https://www.tcsatl.org/event/tcs-spirit-shop-pop-up-portico/
END:VEVENT
BEGIN:VEVENT
DTSTART;TZID=America/New_York:20251023T154500
DTEND;TZID=America/New_York:20251023T171500
DTSTAMP:20260420T204546
CREATED:20250812T141735Z
LAST-MODIFIED:20251023T210519Z
UID:10011562-1761234300-1761239700@www.tcsatl.org
SUMMARY:TCS Movers
DESCRIPTION:
URL:https://www.tcsatl.org/event/tcs-movers-8/
END:VEVENT
BEGIN:VEVENT
DTSTART;TZID=America/New_York:20251023T154500
DTEND;TZID=America/New_York:20251023T170000
DTSTAMP:20260420T204546
CREATED:20250812T141735Z
LAST-MODIFIED:20251022T205054Z
UID:10011563-1761234300-1761238800@www.tcsatl.org
SUMMARY:Intramural Co-Ed Cross Country
DESCRIPTION:Carpool 5:00-5:15
URL:https://www.tcsatl.org/event/intramural-co-ed-cross-country-16/
END:VEVENT
BEGIN:VEVENT
DTSTART;TZID=America/New_York:20251022T154500
DTEND;TZID=America/New_York:20251022T170000
DTSTAMP:20260420T204546
CREATED:20250812T141735Z
LAST-MODIFIED:20251022T205054Z
UID:10011561-1761147900-1761152400@www.tcsatl.org
SUMMARY:Intramural Co-Ed Soccer
DESCRIPTION:Carpool- 5:00pm-5:15 PM
URL:https://www.tcsatl.org/event/intramural-co-ed-soccer-8/
END:VEVENT
BEGIN:VEVENT
DTSTART;TZID=America/New_York:20251022T141500
DTEND;TZID=America/New_York:20251022T151500
DTSTAMP:20260420T204546
CREATED:20250812T141735Z
LAST-MODIFIED:20251021T202519Z
UID:10011560-1761142500-1761146100@www.tcsatl.org
SUMMARY:LSASS Math Lab
DESCRIPTION:Carpool 03:15-3:45PM
URL:https://www.tcsatl.org/event/lsass-math-lab-8/
END:VEVENT
BEGIN:VEVENT
DTSTART;TZID=America/New_York:20251021T163000
DTEND;TZID=America/New_York:20251021T173000
DTSTAMP:20260420T204546
CREATED:20250812T141722Z
LAST-MODIFIED:20251021T202518Z
UID:10011557-1761064200-1761067800@www.tcsatl.org
SUMMARY:Percussion Ensemble
DESCRIPTION:Carpool: 5:30 PM
URL:https://www.tcsatl.org/event/percussion-ensemble-26/
END:VEVENT
BEGIN:VEVENT
DTSTART;TZID=America/New_York:20251021T154500
DTEND;TZID=America/New_York:20251021T170000
DTSTAMP:20260420T204546
CREATED:20250812T141735Z
LAST-MODIFIED:20251021T202518Z
UID:10011559-1761061500-1761066000@www.tcsatl.org
SUMMARY:Intramural Co-Ed Cross Country
DESCRIPTION:Carpool 5:00-5:15
URL:https://www.tcsatl.org/event/intramural-co-ed-cross-country-15/
END:VEVENT
BEGIN:VEVENT
DTSTART;TZID=America/New_York:20251021T153000
DTEND;TZID=America/New_York:20251021T163000
DTSTAMP:20260420T204546
CREATED:20250812T141722Z
LAST-MODIFIED:20251021T202518Z
UID:10011558-1761060600-1761064200@www.tcsatl.org
SUMMARY:Drums
DESCRIPTION:Carpool: 4:30-4:45pm
URL:https://www.tcsatl.org/event/drums-8/
END:VEVENT
BEGIN:VEVENT
DTSTART;TZID=America/New_York:20251017T163000
DTEND;TZID=America/New_York:20251017T173000
DTSTAMP:20260420T204546
CREATED:20250812T141722Z
LAST-MODIFIED:20251017T191020Z
UID:10011556-1760718600-1760722200@www.tcsatl.org
SUMMARY:Tap-Ballet
DESCRIPTION:Carpool\n: 5:30
URL:https://www.tcsatl.org/event/tap-ballet-7/
END:VEVENT
BEGIN:VEVENT
DTSTART;TZID=America/New_York:20251017T153000
DTEND;TZID=America/New_York:20251017T163000
DTSTAMP:20260420T204546
CREATED:20250812T141722Z
LAST-MODIFIED:20251017T191019Z
UID:10011553-1760715000-1760718600@www.tcsatl.org
SUMMARY:Pre-Ballet
DESCRIPTION:Carpool- 4:30 PM – 4:45 PM
URL:https://www.tcsatl.org/event/pre-ballet-7/
END:VEVENT
BEGIN:VEVENT
DTSTART;TZID=America/New_York:20251017T153000
DTEND;TZID=America/New_York:20251017T163000
DTSTAMP:20260420T204546
CREATED:20250812T141722Z
LAST-MODIFIED:20251017T191019Z
UID:10011554-1760715000-1760718600@www.tcsatl.org
SUMMARY:Amazing Athletes
DESCRIPTION:Carpool- 4:30 pm – 4:45 pm
URL:https://www.tcsatl.org/event/amazing-athletes-65/
END:VEVENT
BEGIN:VEVENT
DTSTART;TZID=America/New_York:20251017T153000
DTEND;TZID=America/New_York:20251017T163000
DTSTAMP:20260420T204546
CREATED:20250812T141722Z
LAST-MODIFIED:20251017T191020Z
UID:10011555-1760715000-1760718600@www.tcsatl.org
SUMMARY:Yoga
DESCRIPTION:Carpool: 4:30pm-4:45 PM
URL:https://www.tcsatl.org/event/yoga-7/
END:VEVENT
BEGIN:VEVENT
DTSTART;TZID=America/New_York:20251016T154500
DTEND;TZID=America/New_York:20251016T171500
DTSTAMP:20260420T204546
CREATED:20250812T141722Z
LAST-MODIFIED:20251016T185014Z
UID:10011551-1760629500-1760634900@www.tcsatl.org
SUMMARY:TCS Movers
DESCRIPTION:
URL:https://www.tcsatl.org/event/tcs-movers-7/
END:VEVENT
BEGIN:VEVENT
DTSTART;TZID=America/New_York:20251016T154500
DTEND;TZID=America/New_York:20251016T170000
DTSTAMP:20260420T204546
CREATED:20250812T141722Z
LAST-MODIFIED:20251016T185014Z
UID:10011552-1760629500-1760634000@www.tcsatl.org
SUMMARY:Intramural Co-Ed Cross Country
DESCRIPTION:Carpool 5:00-5:15
URL:https://www.tcsatl.org/event/intramural-co-ed-cross-country-14/
END:VEVENT
BEGIN:VEVENT
DTSTART;TZID=America/New_York:20251015T154500
DTEND;TZID=America/New_York:20251015T170000
DTSTAMP:20260420T204546
CREATED:20250812T141722Z
LAST-MODIFIED:20251015T184514Z
UID:10011550-1760543100-1760547600@www.tcsatl.org
SUMMARY:Intramural Co-Ed Soccer
DESCRIPTION:Carpool- 5:00pm-5:15 PM
URL:https://www.tcsatl.org/event/intramural-co-ed-soccer-7/
END:VEVENT
BEGIN:VEVENT
DTSTART;TZID=America/New_York:20251015T141500
DTEND;TZID=America/New_York:20251015T151500
DTSTAMP:20260420T204546
CREATED:20250812T141722Z
LAST-MODIFIED:20251015T184514Z
UID:10011549-1760537700-1760541300@www.tcsatl.org
SUMMARY:LSASS Math Lab
DESCRIPTION:Carpool 03:15-3:45PM
URL:https://www.tcsatl.org/event/lsass-math-lab-7/
END:VEVENT
BEGIN:VEVENT
DTSTART;TZID=America/New_York:20251014T163000
DTEND;TZID=America/New_York:20251014T173000
DTSTAMP:20260420T204546
CREATED:20250812T141710Z
LAST-MODIFIED:20251014T182024Z
UID:10011548-1760459400-1760463000@www.tcsatl.org
SUMMARY:Percussion Ensemble
DESCRIPTION:Carpool: 5:30 PM
URL:https://www.tcsatl.org/event/percussion-ensemble-25/
END:VEVENT
BEGIN:VEVENT
DTSTART;TZID=America/New_York:20251014T154500
DTEND;TZID=America/New_York:20251014T170000
DTSTAMP:20260420T204546
CREATED:20250812T141710Z
LAST-MODIFIED:20251014T182024Z
UID:10011547-1760456700-1760461200@www.tcsatl.org
SUMMARY:Intramural Co-Ed Cross Country
DESCRIPTION:Carpool 5:00-5:15
URL:https://www.tcsatl.org/event/intramural-co-ed-cross-country-13/
END:VEVENT
BEGIN:VEVENT
DTSTART;TZID=America/New_York:20251014T153000
DTEND;TZID=America/New_York:20251014T163000
DTSTAMP:20260420T204546
CREATED:20250812T141710Z
LAST-MODIFIED:20251014T182024Z
UID:10011546-1760455800-1760459400@www.tcsatl.org
SUMMARY:Drums
DESCRIPTION:Carpool: 4:30-4:45pm
URL:https://www.tcsatl.org/event/drums-7/
END:VEVENT
BEGIN:VEVENT
DTSTART;VALUE=DATE:20251014
DTEND;VALUE=DATE:20251015
DTSTAMP:20260420T204546
CREATED:20250430T180132Z
LAST-MODIFIED:20251014T231536Z
UID:10011463-1760400000-1760486399@www.tcsatl.org
SUMMARY:Students Return from Fall Break
DESCRIPTION:
URL:https://www.tcsatl.org/event/students-return-from-fall-break-6/
END:VEVENT
BEGIN:VEVENT
DTSTART;VALUE=DATE:20251013
DTEND;VALUE=DATE:20251014
DTSTAMP:20260420T204546
CREATED:20250430T180118Z
LAST-MODIFIED:20251013T224530Z
UID:10011462-1760313600-1760399999@www.tcsatl.org
SUMMARY:SCHOOL CLOSED - Fall Break
DESCRIPTION:
URL:https://www.tcsatl.org/event/school-closed-fall-break-2/
END:VEVENT
BEGIN:VEVENT
DTSTART;TZID=America/New_York:20251010T163000
DTEND;TZID=America/New_York:20251010T173000
DTSTAMP:20260420T204546
CREATED:20250812T141709Z
LAST-MODIFIED:20251010T165523Z
UID:10011542-1760113800-1760117400@www.tcsatl.org
SUMMARY:Tap-Ballet
DESCRIPTION:Carpool\n: 5:30
URL:https://www.tcsatl.org/event/tap-ballet-6/
END:VEVENT
BEGIN:VEVENT
DTSTART;TZID=America/New_York:20251010T153000
DTEND;TZID=America/New_York:20251010T163000
DTSTAMP:20260420T204546
CREATED:20250812T141710Z
LAST-MODIFIED:20251010T165523Z
UID:10011545-1760110200-1760113800@www.tcsatl.org
SUMMARY:Amazing Athletes
DESCRIPTION:Carpool- 4:30 pm – 4:45 pm
URL:https://www.tcsatl.org/event/amazing-athletes-64/
END:VEVENT
BEGIN:VEVENT
DTSTART;TZID=America/New_York:20251010T153000
DTEND;TZID=America/New_York:20251010T163000
DTSTAMP:20260420T204546
CREATED:20250812T141709Z
LAST-MODIFIED:20251010T165523Z
UID:10011543-1760110200-1760113800@www.tcsatl.org
SUMMARY:Pre-Ballet
DESCRIPTION:Carpool- 4:30 PM – 4:45 PM
URL:https://www.tcsatl.org/event/pre-ballet-6/
END:VEVENT
BEGIN:VEVENT
DTSTART;TZID=America/New_York:20251010T153000
DTEND;TZID=America/New_York:20251010T163000
DTSTAMP:20260420T204546
CREATED:20250812T141709Z
LAST-MODIFIED:20251010T165523Z
UID:10011544-1760110200-1760113800@www.tcsatl.org
SUMMARY:Yoga
DESCRIPTION:Carpool: 4:30pm-4:45 PM
URL:https://www.tcsatl.org/event/yoga-6/
END:VEVENT
BEGIN:VEVENT
DTSTART;TZID=America/New_York:20251009T154500
DTEND;TZID=America/New_York:20251009T171500
DTSTAMP:20260420T204546
CREATED:20250812T141709Z
LAST-MODIFIED:20251009T164030Z
UID:10011541-1760024700-1760030100@www.tcsatl.org
SUMMARY:TCS Movers
DESCRIPTION:
URL:https://www.tcsatl.org/event/tcs-movers-6/
END:VEVENT
END:VCALENDAR