BEGIN:VCALENDAR
VERSION:2.0
PRODID:-//The Children&#039;s School - ECPv6.15.15//NONSGML v1.0//EN
CALSCALE:GREGORIAN
METHOD:PUBLISH
X-WR-CALNAME:The Children&#039;s School
X-ORIGINAL-URL:https://www.tcsatl.org
X-WR-CALDESC:Events for The Children&#039;s School
REFRESH-INTERVAL;VALUE=DURATION:PT1H
X-Robots-Tag:noindex
X-PUBLISHED-TTL:PT1H
BEGIN:VTIMEZONE
TZID:America/New_York
BEGIN:DAYLIGHT
TZOFFSETFROM:-0500
TZOFFSETTO:-0400
TZNAME:EDT
DTSTART:20220313T070000
END:DAYLIGHT
BEGIN:STANDARD
TZOFFSETFROM:-0400
TZOFFSETTO:-0500
TZNAME:EST
DTSTART:20221106T060000
END:STANDARD
BEGIN:DAYLIGHT
TZOFFSETFROM:-0500
TZOFFSETTO:-0400
TZNAME:EDT
DTSTART:20230312T070000
END:DAYLIGHT
BEGIN:STANDARD
TZOFFSETFROM:-0400
TZOFFSETTO:-0500
TZNAME:EST
DTSTART:20231105T060000
END:STANDARD
BEGIN:DAYLIGHT
TZOFFSETFROM:-0500
TZOFFSETTO:-0400
TZNAME:EDT
DTSTART:20240310T070000
END:DAYLIGHT
BEGIN:STANDARD
TZOFFSETFROM:-0400
TZOFFSETTO:-0500
TZNAME:EST
DTSTART:20241103T060000
END:STANDARD
END:VTIMEZONE
BEGIN:VEVENT
DTSTART;TZID=America/New_York:20230310T151500
DTEND;TZID=America/New_York:20230310T163000
DTSTAMP:20260422T184855
CREATED:20230202T232958Z
LAST-MODIFIED:20230310T002940Z
UID:10010107-1678461300-1678465800@www.tcsatl.org
SUMMARY:MAAC Boys & Girls Tennis (5th to 8th Grade)
DESCRIPTION:Carpool 4:30-4:45 PM
URL:https://www.tcsatl.org/event/maac-boys-girls-tennis-5th-to-8th-grade-17/
END:VEVENT
BEGIN:VEVENT
DTSTART;VALUE=DATE:20230310
DTEND;VALUE=DATE:20230311
DTSTAMP:20260422T184855
CREATED:20220728T163346Z
LAST-MODIFIED:20230310T234444Z
UID:10008550-1678406400-1678492799@www.tcsatl.org
SUMMARY:Fac/Staff PD Day - No School for Students
DESCRIPTION:
URL:https://www.tcsatl.org/event/fac-staff-pd-day-no-school-for-students/
END:VEVENT
BEGIN:VEVENT
DTSTART;TZID=America/New_York:20230309T160000
DTEND;TZID=America/New_York:20230309T170000
DTSTAMP:20260422T184855
CREATED:20230302T000008Z
LAST-MODIFIED:20230309T002958Z
UID:10010151-1678377600-1678381200@www.tcsatl.org
SUMMARY:AWAY GAME - TRACK & FIELD (6-8th Grade) - Davis Academy
DESCRIPTION:
URL:https://www.tcsatl.org/event/away-game-track-field-6-8th-grade-davis-academy-3/
LOCATION:The Davis Academy\, 7901 Roberts Dr\, Atlanta\, GA 30350\, USA
END:VEVENT
BEGIN:VEVENT
DTSTART;TZID=America/New_York:20230309T151500
DTEND;TZID=America/New_York:20230309T164500
DTSTAMP:20260422T184855
CREATED:20230202T232958Z
LAST-MODIFIED:20230309T002958Z
UID:10009046-1678374900-1678380300@www.tcsatl.org
SUMMARY:Intramural Girls & Boys Basketball (3rd-5th Grade)
DESCRIPTION:Carpool 04:45 – 5:00 PM
URL:https://www.tcsatl.org/event/intramural-girls-boys-basketball-3rd-5th-grade-11/
END:VEVENT
BEGIN:VEVENT
DTSTART;TZID=America/New_York:20230309T151500
DTEND;TZID=America/New_York:20230309T163000
DTSTAMP:20260422T184855
CREATED:20230202T232958Z
LAST-MODIFIED:20230309T002958Z
UID:10009045-1678374900-1678379400@www.tcsatl.org
SUMMARY:MAAC Co-Ed Flag Football (5th- 8th Grade)
DESCRIPTION:Carpool 04:30 – 04:45 PM
URL:https://www.tcsatl.org/event/maac-co-ed-flag-football-5th-8th-grade-15/
END:VEVENT
BEGIN:VEVENT
DTSTART;TZID=America/New_York:20230309T151500
DTEND;TZID=America/New_York:20230309T163000
DTSTAMP:20260422T184855
CREATED:20220815T164335Z
LAST-MODIFIED:20230203T231457Z
UID:10008927-1678374900-1678379400@www.tcsatl.org
SUMMARY:TCS Voices
DESCRIPTION:
URL:https://www.tcsatl.org/event/tcs-voices-57/
END:VEVENT
BEGIN:VEVENT
DTSTART;VALUE=DATE:20230309
DTEND;VALUE=DATE:20230310
DTSTAMP:20260422T184855
CREATED:20220907T181440Z
LAST-MODIFIED:20230309T234455Z
UID:10009613-1678320000-1678406399@www.tcsatl.org
SUMMARY:B Day
DESCRIPTION:
URL:https://www.tcsatl.org/event/b-day-20/
END:VEVENT
BEGIN:VEVENT
DTSTART;TZID=America/New_York:20230308T160000
DTEND;TZID=America/New_York:20230308T170000
DTSTAMP:20260422T184855
CREATED:20230302T000007Z
LAST-MODIFIED:20230308T001440Z
UID:10009093-1678291200-1678294800@www.tcsatl.org
SUMMARY:AWAY GAME - MAAC TENNIS (5-8th Grade) - Regular Season Tournament Round Robin - Top 7 Players - 2 BUSES
DESCRIPTION:
URL:https://www.tcsatl.org/event/away-game-maac-tennis-5-8th-grade-regular-season-tournament-round-robin-top-7-players-2-buses/
LOCATION:Hudlow Tennis Center\, 6224 Jimmy Carter Blvd\, Norcross\, GA 30071\, USA
END:VEVENT
BEGIN:VEVENT
DTSTART;TZID=America/New_York:20230308T151500
DTEND;TZID=America/New_York:20230308T164500
DTSTAMP:20260422T184855
CREATED:20230202T232958Z
LAST-MODIFIED:20230308T001440Z
UID:10009043-1678288500-1678293900@www.tcsatl.org
SUMMARY:Intramural Girl & Boys Track (3rd -5th Grade)
DESCRIPTION:
URL:https://www.tcsatl.org/event/intramural-girl-boys-track-3rd-5th-grade-11/
END:VEVENT
BEGIN:VEVENT
DTSTART;TZID=America/New_York:20230308T151500
DTEND;TZID=America/New_York:20230308T164500
DTSTAMP:20260422T184855
CREATED:20230202T232958Z
LAST-MODIFIED:20230308T001440Z
UID:10009044-1678288500-1678293900@www.tcsatl.org
SUMMARY:MAAC Girls & Boys Track & Field (6th to 8th Grade)
DESCRIPTION:Carpool 4:45-5:00 PM
URL:https://www.tcsatl.org/event/maac-girls-boys-track-field-6th-to-8th-grade-15/
END:VEVENT
BEGIN:VEVENT
DTSTART;TZID=America/New_York:20230308T151500
DTEND;TZID=America/New_York:20230308T163000
DTSTAMP:20260422T184855
CREATED:20230202T232957Z
LAST-MODIFIED:20230308T001440Z
UID:10009042-1678288500-1678293000@www.tcsatl.org
SUMMARY:MAAC Boys & Girls Tennis (5th to 8th Grade)
DESCRIPTION:Carpool 4:30-4:45 PM
URL:https://www.tcsatl.org/event/maac-boys-girls-tennis-5th-to-8th-grade-16/
END:VEVENT
BEGIN:VEVENT
DTSTART;TZID=America/New_York:20230308T151500
DTEND;TZID=America/New_York:20230308T163000
DTSTAMP:20260422T184855
CREATED:20221128T203459Z
LAST-MODIFIED:20230203T231457Z
UID:10008952-1678288500-1678293000@www.tcsatl.org
SUMMARY:TCS Players
DESCRIPTION:
URL:https://www.tcsatl.org/event/tcs-players-157/
END:VEVENT
BEGIN:VEVENT
DTSTART;TZID=America/New_York:20230308T151500
DTEND;TZID=America/New_York:20230308T163000
DTSTAMP:20260422T184855
CREATED:20220815T164334Z
LAST-MODIFIED:20221120T194948Z
UID:10008923-1678288500-1678293000@www.tcsatl.org
SUMMARY:TCS Players
DESCRIPTION:
URL:https://www.tcsatl.org/event/tcs-players-105/
END:VEVENT
BEGIN:VEVENT
DTSTART;TZID=America/New_York:20230308T151500
DTEND;TZID=America/New_York:20230308T161500
DTSTAMP:20260422T184855
CREATED:20220815T164334Z
LAST-MODIFIED:20230203T231457Z
UID:10008925-1678288500-1678292100@www.tcsatl.org
SUMMARY:TCS Jr. Players
DESCRIPTION:
URL:https://www.tcsatl.org/event/tcs-jr-players-57/
END:VEVENT
BEGIN:VEVENT
DTSTART;VALUE=DATE:20230308
DTEND;VALUE=DATE:20230309
DTSTAMP:20260422T184855
CREATED:20220907T181440Z
LAST-MODIFIED:20230308T234443Z
UID:10009612-1678233600-1678319999@www.tcsatl.org
SUMMARY:A Day
DESCRIPTION:
URL:https://www.tcsatl.org/event/a-day-18/
END:VEVENT
BEGIN:VEVENT
DTSTART;TZID=America/New_York:20230307T151500
DTEND;TZID=America/New_York:20230307T164500
DTSTAMP:20260422T184855
CREATED:20230202T232957Z
LAST-MODIFIED:20230307T001515Z
UID:10009040-1678202100-1678207500@www.tcsatl.org
SUMMARY:Intramural Girls & Boys Basketball (3rd-5th Grade)
DESCRIPTION:Carpool 04:45 – 5:00 PM
URL:https://www.tcsatl.org/event/intramural-girls-boys-basketball-3rd-5th-grade-10/
END:VEVENT
BEGIN:VEVENT
DTSTART;TZID=America/New_York:20230307T151500
DTEND;TZID=America/New_York:20230307T163000
DTSTAMP:20260422T184855
CREATED:20230202T232957Z
LAST-MODIFIED:20230307T001515Z
UID:10009041-1678202100-1678206600@www.tcsatl.org
SUMMARY:MAAC Co-Ed Flag Football (5th- 8th Grade)
DESCRIPTION:Carpool 04:30 – 04:45 PM
URL:https://www.tcsatl.org/event/maac-co-ed-flag-football-5th-8th-grade-14/
END:VEVENT
BEGIN:VEVENT
DTSTART;TZID=America/New_York:20230307T151500
DTEND;TZID=America/New_York:20230307T163000
DTSTAMP:20260422T184855
CREATED:20220815T164334Z
LAST-MODIFIED:20230203T231457Z
UID:10008919-1678202100-1678206600@www.tcsatl.org
SUMMARY:TCS Jr. Voices
DESCRIPTION:
URL:https://www.tcsatl.org/event/tcs-jr-voices-27/
END:VEVENT
BEGIN:VEVENT
DTSTART;VALUE=DATE:20230307
DTEND;VALUE=DATE:20230308
DTSTAMP:20260422T184855
CREATED:20220907T181440Z
LAST-MODIFIED:20230307T234449Z
UID:10009611-1678147200-1678233599@www.tcsatl.org
SUMMARY:F Day
DESCRIPTION:
URL:https://www.tcsatl.org/event/f-day-18/
END:VEVENT
BEGIN:VEVENT
DTSTART;TZID=America/New_York:20230306T151500
DTEND;TZID=America/New_York:20230306T164500
DTSTAMP:20260422T184855
CREATED:20230202T232957Z
LAST-MODIFIED:20230306T001510Z
UID:10009035-1678115700-1678121100@www.tcsatl.org
SUMMARY:MAAC Girls & Boys Track & Field (6th to 8th Grade)
DESCRIPTION:Carpool 4:45-5:00 PM
URL:https://www.tcsatl.org/event/maac-girls-boys-track-field-6th-to-8th-grade-14/
END:VEVENT
BEGIN:VEVENT
DTSTART;TZID=America/New_York:20230306T151500
DTEND;TZID=America/New_York:20230306T164500
DTSTAMP:20260422T184855
CREATED:20230202T232957Z
LAST-MODIFIED:20230306T001510Z
UID:10009039-1678115700-1678121100@www.tcsatl.org
SUMMARY:Intramural Girl & Boys Track (3rd -5th Grade)
DESCRIPTION:
URL:https://www.tcsatl.org/event/intramural-girl-boys-track-3rd-5th-grade-10/
END:VEVENT
BEGIN:VEVENT
DTSTART;TZID=America/New_York:20230306T151500
DTEND;TZID=America/New_York:20230306T163000
DTSTAMP:20260422T184855
CREATED:20230202T232957Z
LAST-MODIFIED:20230306T001510Z
UID:10009037-1678115700-1678120200@www.tcsatl.org
SUMMARY:MAAC Boys & Girls Tennis (5th to 8th Grade)
DESCRIPTION:Carpool 4:30-4:45 PM
URL:https://www.tcsatl.org/event/maac-boys-girls-tennis-5th-to-8th-grade-15/
END:VEVENT
BEGIN:VEVENT
DTSTART;TZID=America/New_York:20230306T151500
DTEND;TZID=America/New_York:20230306T163000
DTSTAMP:20260422T184855
CREATED:20221128T203458Z
LAST-MODIFIED:20230203T231457Z
UID:10008950-1678115700-1678120200@www.tcsatl.org
SUMMARY:TCS Players
DESCRIPTION:
URL:https://www.tcsatl.org/event/tcs-players-156/
END:VEVENT
BEGIN:VEVENT
DTSTART;TZID=America/New_York:20230306T151500
DTEND;TZID=America/New_York:20230306T163000
DTSTAMP:20260422T184855
CREATED:20220815T164334Z
LAST-MODIFIED:20221120T194948Z
UID:10008917-1678115700-1678120200@www.tcsatl.org
SUMMARY:TCS Players
DESCRIPTION:
URL:https://www.tcsatl.org/event/tcs-players-104/
END:VEVENT
BEGIN:VEVENT
DTSTART;VALUE=DATE:20230306
DTEND;VALUE=DATE:20230307
DTSTAMP:20260422T184855
CREATED:20220907T181440Z
LAST-MODIFIED:20230306T233300Z
UID:10009610-1678060800-1678147199@www.tcsatl.org
SUMMARY:E Day
DESCRIPTION:
URL:https://www.tcsatl.org/event/e-day-19/
END:VEVENT
BEGIN:VEVENT
DTSTART;TZID=America/New_York:20230303T151500
DTEND;TZID=America/New_York:20230303T164500
DTSTAMP:20260422T184855
CREATED:20230202T232957Z
LAST-MODIFIED:20230303T000026Z
UID:10010102-1677856500-1677861900@www.tcsatl.org
SUMMARY:MAAC Girls & Boys Track & Field (6th to 8th Grade)
DESCRIPTION:Carpool 4:45-5:00 PM
URL:https://www.tcsatl.org/event/maac-girls-boys-track-field-6th-to-8th-grade-13/
END:VEVENT
BEGIN:VEVENT
DTSTART;TZID=America/New_York:20230303T151500
DTEND;TZID=America/New_York:20230303T163000
DTSTAMP:20260422T184855
CREATED:20230202T232957Z
LAST-MODIFIED:20230303T000026Z
UID:10010103-1677856500-1677861000@www.tcsatl.org
SUMMARY:MAAC Boys & Girls Tennis (5th to 8th Grade)
DESCRIPTION:Carpool 4:30-4:45 PM
URL:https://www.tcsatl.org/event/maac-boys-girls-tennis-5th-to-8th-grade-14/
END:VEVENT
BEGIN:VEVENT
DTSTART;TZID=America/New_York:20230303T151500
DTEND;TZID=America/New_York:20230303T163000
DTSTAMP:20260422T184855
CREATED:20230202T232957Z
LAST-MODIFIED:20230303T000026Z
UID:10010104-1677856500-1677861000@www.tcsatl.org
SUMMARY:MAAC Co-Ed Flag Football (5th- 8th Grade)
DESCRIPTION:Carpool 04:30 – 04:45 PM
URL:https://www.tcsatl.org/event/maac-co-ed-flag-football-5th-8th-grade-13/
END:VEVENT
BEGIN:VEVENT
DTSTART;VALUE=DATE:20230303
DTEND;VALUE=DATE:20230304
DTSTAMP:20260422T184855
CREATED:20220907T181440Z
LAST-MODIFIED:20230303T232957Z
UID:10009609-1677801600-1677887999@www.tcsatl.org
SUMMARY:D Day
DESCRIPTION:
URL:https://www.tcsatl.org/event/d-day-18/
END:VEVENT
BEGIN:VEVENT
DTSTART;TZID=America/New_York:20230302T160000
DTEND;TZID=America/New_York:20230302T170000
DTSTAMP:20260422T184855
CREATED:20230302T000007Z
LAST-MODIFIED:20230302T000007Z
UID:10009092-1677772800-1677776400@www.tcsatl.org
SUMMARY:AWAY GAME - TRACK & FIELD (6-8th Grade) - Davis Academy
DESCRIPTION:
URL:https://www.tcsatl.org/event/away-game-track-field-6-8th-grade-davis-academy-2/
LOCATION:The Davis Academy\, 7901 Roberts Dr\, Atlanta\, GA 30350\, USA
END:VEVENT
END:VCALENDAR