BEGIN:VCALENDAR
VERSION:2.0
PRODID:-//The Children&#039;s School - ECPv6.15.15//NONSGML v1.0//EN
CALSCALE:GREGORIAN
METHOD:PUBLISH
X-WR-CALNAME:The Children&#039;s School
X-ORIGINAL-URL:https://www.tcsatl.org
X-WR-CALDESC:Events for The Children&#039;s School
REFRESH-INTERVAL;VALUE=DURATION:PT1H
X-Robots-Tag:noindex
X-PUBLISHED-TTL:PT1H
BEGIN:VTIMEZONE
TZID:America/New_York
BEGIN:DAYLIGHT
TZOFFSETFROM:-0500
TZOFFSETTO:-0400
TZNAME:EDT
DTSTART:20240310T070000
END:DAYLIGHT
BEGIN:STANDARD
TZOFFSETFROM:-0400
TZOFFSETTO:-0500
TZNAME:EST
DTSTART:20241103T060000
END:STANDARD
BEGIN:DAYLIGHT
TZOFFSETFROM:-0500
TZOFFSETTO:-0400
TZNAME:EDT
DTSTART:20250309T070000
END:DAYLIGHT
BEGIN:STANDARD
TZOFFSETFROM:-0400
TZOFFSETTO:-0500
TZNAME:EST
DTSTART:20251102T060000
END:STANDARD
BEGIN:DAYLIGHT
TZOFFSETFROM:-0500
TZOFFSETTO:-0400
TZNAME:EDT
DTSTART:20260308T070000
END:DAYLIGHT
BEGIN:STANDARD
TZOFFSETFROM:-0400
TZOFFSETTO:-0500
TZNAME:EST
DTSTART:20261101T060000
END:STANDARD
END:VTIMEZONE
BEGIN:VEVENT
DTSTART;TZID=America/New_York:20250930T163000
DTEND;TZID=America/New_York:20250930T173000
DTSTAMP:20260420T203736
CREATED:20250812T141644Z
LAST-MODIFIED:20250930T140520Z
UID:10011525-1759249800-1759253400@www.tcsatl.org
SUMMARY:Percussion Ensemble
DESCRIPTION:Carpool: 5:30 PM
URL:https://www.tcsatl.org/event/percussion-ensemble-23/
END:VEVENT
BEGIN:VEVENT
DTSTART;TZID=America/New_York:20251001T141500
DTEND;TZID=America/New_York:20251001T151500
DTSTAMP:20260420T203736
CREATED:20250812T141644Z
LAST-MODIFIED:20251001T143514Z
UID:10011527-1759328100-1759331700@www.tcsatl.org
SUMMARY:LSASS Math Lab
DESCRIPTION:Carpool 03:15-3:45PM
URL:https://www.tcsatl.org/event/lsass-math-lab-5/
END:VEVENT
BEGIN:VEVENT
DTSTART;TZID=America/New_York:20251001T154500
DTEND;TZID=America/New_York:20251001T170000
DTSTAMP:20260420T203736
CREATED:20250812T141644Z
LAST-MODIFIED:20251001T143514Z
UID:10011528-1759333500-1759338000@www.tcsatl.org
SUMMARY:Intramural Co-Ed Soccer
DESCRIPTION:Carpool- 5:00pm-5:15 PM
URL:https://www.tcsatl.org/event/intramural-co-ed-soccer-5/
END:VEVENT
BEGIN:VEVENT
DTSTART;VALUE=DATE:20251002
DTEND;VALUE=DATE:20251003
DTSTAMP:20260420T203736
CREATED:20250430T180117Z
LAST-MODIFIED:20251002T201534Z
UID:10011460-1759363200-1759449599@www.tcsatl.org
SUMMARY:SCHOOL CLOSED - Yom Kippur
DESCRIPTION:
URL:https://www.tcsatl.org/event/school-closed-yom-kippur-3/
END:VEVENT
BEGIN:VEVENT
DTSTART;TZID=America/New_York:20251002T154500
DTEND;TZID=America/New_York:20251002T170000
DTSTAMP:20260420T203736
CREATED:20250812T141656Z
LAST-MODIFIED:20251002T145540Z
UID:10011530-1759419900-1759424400@www.tcsatl.org
SUMMARY:Intramural Co-Ed Cross Country
DESCRIPTION:Carpool 5:00-5:15
URL:https://www.tcsatl.org/event/intramural-co-ed-cross-country-10/
END:VEVENT
BEGIN:VEVENT
DTSTART;TZID=America/New_York:20251002T154500
DTEND;TZID=America/New_York:20251002T171500
DTSTAMP:20260420T203736
CREATED:20250812T141656Z
LAST-MODIFIED:20251002T145540Z
UID:10011529-1759419900-1759425300@www.tcsatl.org
SUMMARY:TCS Movers
DESCRIPTION:
URL:https://www.tcsatl.org/event/tcs-movers-5/
END:VEVENT
BEGIN:VEVENT
DTSTART;TZID=America/New_York:20251003T153000
DTEND;TZID=America/New_York:20251003T163000
DTSTAMP:20260420T203736
CREATED:20250812T141656Z
LAST-MODIFIED:20251003T151523Z
UID:10011532-1759505400-1759509000@www.tcsatl.org
SUMMARY:Yoga
DESCRIPTION:Carpool: 4:30pm-4:45 PM
URL:https://www.tcsatl.org/event/yoga-5/
END:VEVENT
BEGIN:VEVENT
DTSTART;TZID=America/New_York:20251003T153000
DTEND;TZID=America/New_York:20251003T163000
DTSTAMP:20260420T203736
CREATED:20250812T141657Z
LAST-MODIFIED:20251003T151523Z
UID:10011533-1759505400-1759509000@www.tcsatl.org
SUMMARY:Amazing Athletes
DESCRIPTION:Carpool- 4:30 pm – 4:45 pm
URL:https://www.tcsatl.org/event/amazing-athletes-63/
END:VEVENT
BEGIN:VEVENT
DTSTART;TZID=America/New_York:20251003T153000
DTEND;TZID=America/New_York:20251003T163000
DTSTAMP:20260420T203736
CREATED:20250812T141657Z
LAST-MODIFIED:20251003T151523Z
UID:10011534-1759505400-1759509000@www.tcsatl.org
SUMMARY:Pre-Ballet
DESCRIPTION:Carpool- 4:30 PM – 4:45 PM
URL:https://www.tcsatl.org/event/pre-ballet-5/
END:VEVENT
BEGIN:VEVENT
DTSTART;TZID=America/New_York:20251003T163000
DTEND;TZID=America/New_York:20251003T173000
DTSTAMP:20260420T203736
CREATED:20250812T141656Z
LAST-MODIFIED:20251003T151522Z
UID:10011531-1759509000-1759512600@www.tcsatl.org
SUMMARY:Tap-Ballet
DESCRIPTION:Carpool\n: 5:30
URL:https://www.tcsatl.org/event/tap-ballet-5/
END:VEVENT
BEGIN:VEVENT
DTSTART;TZID=America/New_York:20251007T153000
DTEND;TZID=America/New_York:20251007T163000
DTSTAMP:20260420T203736
CREATED:20250812T141657Z
LAST-MODIFIED:20251007T160515Z
UID:10011537-1759851000-1759854600@www.tcsatl.org
SUMMARY:Drums
DESCRIPTION:Carpool: 4:30-4:45pm
URL:https://www.tcsatl.org/event/drums-6/
END:VEVENT
BEGIN:VEVENT
DTSTART;TZID=America/New_York:20251007T154500
DTEND;TZID=America/New_York:20251007T170000
DTSTAMP:20260420T203736
CREATED:20250812T141657Z
LAST-MODIFIED:20251007T160516Z
UID:10011536-1759851900-1759856400@www.tcsatl.org
SUMMARY:Intramural Co-Ed Cross Country
DESCRIPTION:Carpool 5:00-5:15
URL:https://www.tcsatl.org/event/intramural-co-ed-cross-country-11/
END:VEVENT
BEGIN:VEVENT
DTSTART;TZID=America/New_York:20251007T163000
DTEND;TZID=America/New_York:20251007T173000
DTSTAMP:20260420T203736
CREATED:20250812T141657Z
LAST-MODIFIED:20251007T160516Z
UID:10011535-1759854600-1759858200@www.tcsatl.org
SUMMARY:Percussion Ensemble
DESCRIPTION:Carpool: 5:30 PM
URL:https://www.tcsatl.org/event/percussion-ensemble-24/
END:VEVENT
BEGIN:VEVENT
DTSTART;TZID=America/New_York:20251008T141500
DTEND;TZID=America/New_York:20251008T151500
DTSTAMP:20260420T203736
CREATED:20250812T141657Z
LAST-MODIFIED:20251008T162533Z
UID:10011538-1759932900-1759936500@www.tcsatl.org
SUMMARY:LSASS Math Lab
DESCRIPTION:Carpool 03:15-3:45PM
URL:https://www.tcsatl.org/event/lsass-math-lab-6/
END:VEVENT
BEGIN:VEVENT
DTSTART;TZID=America/New_York:20251008T154500
DTEND;TZID=America/New_York:20251008T170000
DTSTAMP:20260420T203736
CREATED:20250812T141709Z
LAST-MODIFIED:20251008T162534Z
UID:10011539-1759938300-1759942800@www.tcsatl.org
SUMMARY:Intramural Co-Ed Soccer
DESCRIPTION:Carpool- 5:00pm-5:15 PM
URL:https://www.tcsatl.org/event/intramural-co-ed-soccer-6/
END:VEVENT
BEGIN:VEVENT
DTSTART;VALUE=DATE:20251009
DTEND;VALUE=DATE:20251011
DTSTAMP:20260420T203736
CREATED:20250430T180118Z
LAST-MODIFIED:20251010T220516Z
UID:10011461-1759968000-1760140799@www.tcsatl.org
SUMMARY:Family Conferences - School Closed for Students
DESCRIPTION:
URL:https://www.tcsatl.org/event/family-conferences-school-closed-for-students/
END:VEVENT
BEGIN:VEVENT
DTSTART;TZID=America/New_York:20251009T154500
DTEND;TZID=America/New_York:20251009T170000
DTSTAMP:20260420T203736
CREATED:20250812T141709Z
LAST-MODIFIED:20251009T164030Z
UID:10011540-1760024700-1760029200@www.tcsatl.org
SUMMARY:Intramural Co-Ed Cross Country
DESCRIPTION:Carpool 5:00-5:15
URL:https://www.tcsatl.org/event/intramural-co-ed-cross-country-12/
END:VEVENT
BEGIN:VEVENT
DTSTART;TZID=America/New_York:20251009T154500
DTEND;TZID=America/New_York:20251009T171500
DTSTAMP:20260420T203736
CREATED:20250812T141709Z
LAST-MODIFIED:20251009T164030Z
UID:10011541-1760024700-1760030100@www.tcsatl.org
SUMMARY:TCS Movers
DESCRIPTION:
URL:https://www.tcsatl.org/event/tcs-movers-6/
END:VEVENT
BEGIN:VEVENT
DTSTART;TZID=America/New_York:20251010T153000
DTEND;TZID=America/New_York:20251010T163000
DTSTAMP:20260420T203736
CREATED:20250812T141709Z
LAST-MODIFIED:20251010T165523Z
UID:10011543-1760110200-1760113800@www.tcsatl.org
SUMMARY:Pre-Ballet
DESCRIPTION:Carpool- 4:30 PM – 4:45 PM
URL:https://www.tcsatl.org/event/pre-ballet-6/
END:VEVENT
BEGIN:VEVENT
DTSTART;TZID=America/New_York:20251010T153000
DTEND;TZID=America/New_York:20251010T163000
DTSTAMP:20260420T203736
CREATED:20250812T141709Z
LAST-MODIFIED:20251010T165523Z
UID:10011544-1760110200-1760113800@www.tcsatl.org
SUMMARY:Yoga
DESCRIPTION:Carpool: 4:30pm-4:45 PM
URL:https://www.tcsatl.org/event/yoga-6/
END:VEVENT
BEGIN:VEVENT
DTSTART;TZID=America/New_York:20251010T153000
DTEND;TZID=America/New_York:20251010T163000
DTSTAMP:20260420T203736
CREATED:20250812T141710Z
LAST-MODIFIED:20251010T165523Z
UID:10011545-1760110200-1760113800@www.tcsatl.org
SUMMARY:Amazing Athletes
DESCRIPTION:Carpool- 4:30 pm – 4:45 pm
URL:https://www.tcsatl.org/event/amazing-athletes-64/
END:VEVENT
BEGIN:VEVENT
DTSTART;TZID=America/New_York:20251010T163000
DTEND;TZID=America/New_York:20251010T173000
DTSTAMP:20260420T203736
CREATED:20250812T141709Z
LAST-MODIFIED:20251010T165523Z
UID:10011542-1760113800-1760117400@www.tcsatl.org
SUMMARY:Tap-Ballet
DESCRIPTION:Carpool\n: 5:30
URL:https://www.tcsatl.org/event/tap-ballet-6/
END:VEVENT
BEGIN:VEVENT
DTSTART;VALUE=DATE:20251013
DTEND;VALUE=DATE:20251014
DTSTAMP:20260420T203736
CREATED:20250430T180118Z
LAST-MODIFIED:20251013T224530Z
UID:10011462-1760313600-1760399999@www.tcsatl.org
SUMMARY:SCHOOL CLOSED - Fall Break
DESCRIPTION:
URL:https://www.tcsatl.org/event/school-closed-fall-break-2/
END:VEVENT
BEGIN:VEVENT
DTSTART;VALUE=DATE:20251014
DTEND;VALUE=DATE:20251015
DTSTAMP:20260420T203736
CREATED:20250430T180132Z
LAST-MODIFIED:20251014T231536Z
UID:10011463-1760400000-1760486399@www.tcsatl.org
SUMMARY:Students Return from Fall Break
DESCRIPTION:
URL:https://www.tcsatl.org/event/students-return-from-fall-break-6/
END:VEVENT
BEGIN:VEVENT
DTSTART;TZID=America/New_York:20251014T153000
DTEND;TZID=America/New_York:20251014T163000
DTSTAMP:20260420T203736
CREATED:20250812T141710Z
LAST-MODIFIED:20251014T182024Z
UID:10011546-1760455800-1760459400@www.tcsatl.org
SUMMARY:Drums
DESCRIPTION:Carpool: 4:30-4:45pm
URL:https://www.tcsatl.org/event/drums-7/
END:VEVENT
BEGIN:VEVENT
DTSTART;TZID=America/New_York:20251014T154500
DTEND;TZID=America/New_York:20251014T170000
DTSTAMP:20260420T203736
CREATED:20250812T141710Z
LAST-MODIFIED:20251014T182024Z
UID:10011547-1760456700-1760461200@www.tcsatl.org
SUMMARY:Intramural Co-Ed Cross Country
DESCRIPTION:Carpool 5:00-5:15
URL:https://www.tcsatl.org/event/intramural-co-ed-cross-country-13/
END:VEVENT
BEGIN:VEVENT
DTSTART;TZID=America/New_York:20251014T163000
DTEND;TZID=America/New_York:20251014T173000
DTSTAMP:20260420T203736
CREATED:20250812T141710Z
LAST-MODIFIED:20251014T182024Z
UID:10011548-1760459400-1760463000@www.tcsatl.org
SUMMARY:Percussion Ensemble
DESCRIPTION:Carpool: 5:30 PM
URL:https://www.tcsatl.org/event/percussion-ensemble-25/
END:VEVENT
BEGIN:VEVENT
DTSTART;TZID=America/New_York:20251015T141500
DTEND;TZID=America/New_York:20251015T151500
DTSTAMP:20260420T203736
CREATED:20250812T141722Z
LAST-MODIFIED:20251015T184514Z
UID:10011549-1760537700-1760541300@www.tcsatl.org
SUMMARY:LSASS Math Lab
DESCRIPTION:Carpool 03:15-3:45PM
URL:https://www.tcsatl.org/event/lsass-math-lab-7/
END:VEVENT
BEGIN:VEVENT
DTSTART;TZID=America/New_York:20251015T154500
DTEND;TZID=America/New_York:20251015T170000
DTSTAMP:20260420T203736
CREATED:20250812T141722Z
LAST-MODIFIED:20251015T184514Z
UID:10011550-1760543100-1760547600@www.tcsatl.org
SUMMARY:Intramural Co-Ed Soccer
DESCRIPTION:Carpool- 5:00pm-5:15 PM
URL:https://www.tcsatl.org/event/intramural-co-ed-soccer-7/
END:VEVENT
BEGIN:VEVENT
DTSTART;TZID=America/New_York:20251016T154500
DTEND;TZID=America/New_York:20251016T170000
DTSTAMP:20260420T203736
CREATED:20250812T141722Z
LAST-MODIFIED:20251016T185014Z
UID:10011552-1760629500-1760634000@www.tcsatl.org
SUMMARY:Intramural Co-Ed Cross Country
DESCRIPTION:Carpool 5:00-5:15
URL:https://www.tcsatl.org/event/intramural-co-ed-cross-country-14/
END:VEVENT
END:VCALENDAR