BEGIN:VCALENDAR
VERSION:2.0
PRODID:-//The Children&#039;s School - ECPv6.15.15//NONSGML v1.0//EN
CALSCALE:GREGORIAN
METHOD:PUBLISH
X-WR-CALNAME:The Children&#039;s School
X-ORIGINAL-URL:https://www.tcsatl.org
X-WR-CALDESC:Events for The Children&#039;s School
REFRESH-INTERVAL;VALUE=DURATION:PT1H
X-Robots-Tag:noindex
X-PUBLISHED-TTL:PT1H
BEGIN:VTIMEZONE
TZID:America/New_York
BEGIN:DAYLIGHT
TZOFFSETFROM:-0500
TZOFFSETTO:-0400
TZNAME:EDT
DTSTART:20230312T070000
END:DAYLIGHT
BEGIN:STANDARD
TZOFFSETFROM:-0400
TZOFFSETTO:-0500
TZNAME:EST
DTSTART:20231105T060000
END:STANDARD
BEGIN:DAYLIGHT
TZOFFSETFROM:-0500
TZOFFSETTO:-0400
TZNAME:EDT
DTSTART:20240310T070000
END:DAYLIGHT
BEGIN:STANDARD
TZOFFSETFROM:-0400
TZOFFSETTO:-0500
TZNAME:EST
DTSTART:20241103T060000
END:STANDARD
BEGIN:DAYLIGHT
TZOFFSETFROM:-0500
TZOFFSETTO:-0400
TZNAME:EDT
DTSTART:20250309T070000
END:DAYLIGHT
BEGIN:STANDARD
TZOFFSETFROM:-0400
TZOFFSETTO:-0500
TZNAME:EST
DTSTART:20251102T060000
END:STANDARD
END:VTIMEZONE
BEGIN:VEVENT
DTSTART;TZID=America/New_York:20241206T161500
DTEND;TZID=America/New_York:20241206T181500
DTSTAMP:20260421T135914
CREATED:20241106T224600Z
LAST-MODIFIED:20241206T184449Z
UID:10011399-1733501700-1733508900@www.tcsatl.org
SUMMARY:HOME GAME - MAAC GIRLS BASKETBALL GAME vs St. Benedict Episcopal School
DESCRIPTION:
URL:https://www.tcsatl.org/event/home-game-maac-girls-basketball-game-vs-st-benedict-episcopal-school/
END:VEVENT
BEGIN:VEVENT
DTSTART;TZID=America/New_York:20241206T154500
DTEND;TZID=America/New_York:20241206T170000
DTSTAMP:20260421T135914
CREATED:20240812T184529Z
LAST-MODIFIED:20241206T184449Z
UID:10010828-1733499900-1733504400@www.tcsatl.org
SUMMARY:MAAC Girls and Boys Cross Country
DESCRIPTION:Carpool 5:00-5:15 PM
URL:https://www.tcsatl.org/event/maac-girls-and-boys-cross-country-45/
END:VEVENT
BEGIN:VEVENT
DTSTART;TZID=America/New_York:20241206T151500
DTEND;TZID=America/New_York:20241206T170000
DTSTAMP:20260421T135914
CREATED:20240812T184529Z
LAST-MODIFIED:20241206T184449Z
UID:10010827-1733498100-1733504400@www.tcsatl.org
SUMMARY:MAAC Girls Basketball
DESCRIPTION:Carpool 5:00-5:15 PM
URL:https://www.tcsatl.org/event/maac-girls-basketball-21/
END:VEVENT
BEGIN:VEVENT
DTSTART;TZID=America/New_York:20241206T151500
DTEND;TZID=America/New_York:20241206T170000
DTSTAMP:20260421T135914
CREATED:20240812T184529Z
LAST-MODIFIED:20241206T184449Z
UID:10010829-1733498100-1733504400@www.tcsatl.org
SUMMARY:MAAC Boys Basketball
DESCRIPTION:
URL:https://www.tcsatl.org/event/maac-boys-basketball-84/
END:VEVENT
BEGIN:VEVENT
DTSTART;VALUE=DATE:20241206
DTEND;VALUE=DATE:20241207
DTSTAMP:20260421T135914
CREATED:20240829T171455Z
LAST-MODIFIED:20241206T211443Z
UID:10011238-1733443200-1733529599@www.tcsatl.org
SUMMARY:E Day
DESCRIPTION:
URL:https://www.tcsatl.org/event/e-day-39/
END:VEVENT
BEGIN:VEVENT
DTSTART;TZID=America/New_York:20241205T161500
DTEND;TZID=America/New_York:20241205T181500
DTSTAMP:20260421T135914
CREATED:20241106T224559Z
LAST-MODIFIED:20241205T182944Z
UID:10011398-1733415300-1733422500@www.tcsatl.org
SUMMARY:HOME GAME - MAAC BOYS BASKETBALL GAME vs St. Benedicts Episcopal School
DESCRIPTION:
URL:https://www.tcsatl.org/event/home-game-maac-boys-basketball-game-vs-st-benedicts-episcopal-school/
END:VEVENT
BEGIN:VEVENT
DTSTART;TZID=America/New_York:20241205T154500
DTEND;TZID=America/New_York:20241205T164500
DTSTAMP:20260421T135914
CREATED:20240812T184528Z
LAST-MODIFIED:20241205T182944Z
UID:10010825-1733413500-1733417100@www.tcsatl.org
SUMMARY:Intramural Co-Ed Ultimate Frisbee
DESCRIPTION:Carpool 4:45-5:00 PM
URL:https://www.tcsatl.org/event/intramural-co-ed-ultimate-frisbee-14/
END:VEVENT
BEGIN:VEVENT
DTSTART;TZID=America/New_York:20241205T151500
DTEND;TZID=America/New_York:20241205T170000
DTSTAMP:20260421T135914
CREATED:20240812T184529Z
LAST-MODIFIED:20241205T182944Z
UID:10010826-1733411700-1733418000@www.tcsatl.org
SUMMARY:MAAC Boys Basketball
DESCRIPTION:
URL:https://www.tcsatl.org/event/maac-boys-basketball-83/
END:VEVENT
BEGIN:VEVENT
DTSTART;VALUE=DATE:20241205
DTEND;VALUE=DATE:20241206
DTSTAMP:20260421T135914
CREATED:20240829T171454Z
LAST-MODIFIED:20241205T205944Z
UID:10011236-1733356800-1733443199@www.tcsatl.org
SUMMARY:D Day
DESCRIPTION:
URL:https://www.tcsatl.org/event/d-day-37/
END:VEVENT
BEGIN:VEVENT
DTSTART;TZID=America/New_York:20241204T154500
DTEND;TZID=America/New_York:20241204T170000
DTSTAMP:20260421T135915
CREATED:20240812T184528Z
LAST-MODIFIED:20241204T182946Z
UID:10010823-1733327100-1733331600@www.tcsatl.org
SUMMARY:MAAC Girls and Boys Cross Country
DESCRIPTION:Carpool 5:00-5:15 PM
URL:https://www.tcsatl.org/event/maac-girls-and-boys-cross-country-44/
END:VEVENT
BEGIN:VEVENT
DTSTART;TZID=America/New_York:20241204T151500
DTEND;TZID=America/New_York:20241204T163000
DTSTAMP:20260421T135915
CREATED:20240812T184528Z
LAST-MODIFIED:20241204T182947Z
UID:10010824-1733325300-1733329800@www.tcsatl.org
SUMMARY:Intramural Co-Ed Tennis
DESCRIPTION:Carpool 4:40 – 4:55 PM
URL:https://www.tcsatl.org/event/intramural-co-ed-tennis-32/
END:VEVENT
BEGIN:VEVENT
DTSTART;TZID=America/New_York:20241204T074500
DTEND;TZID=America/New_York:20241204T090000
DTSTAMP:20260421T135915
CREATED:20240812T184528Z
LAST-MODIFIED:20241203T181447Z
UID:10010822-1733298300-1733302800@www.tcsatl.org
SUMMARY:MAAC Girls Basketball
DESCRIPTION:
URL:https://www.tcsatl.org/event/maac-girls-basketball-20/
END:VEVENT
BEGIN:VEVENT
DTSTART;VALUE=DATE:20241204
DTEND;VALUE=DATE:20241205
DTSTAMP:20260421T135915
CREATED:20240829T171455Z
LAST-MODIFIED:20241204T205942Z
UID:10011237-1733270400-1733356799@www.tcsatl.org
SUMMARY:C Day
DESCRIPTION:
URL:https://www.tcsatl.org/event/c-day-40/
END:VEVENT
BEGIN:VEVENT
DTSTART;TZID=America/New_York:20241203T154500
DTEND;TZID=America/New_York:20241203T170000
DTSTAMP:20260421T135915
CREATED:20240812T184528Z
LAST-MODIFIED:20241203T181445Z
UID:10010820-1733240700-1733245200@www.tcsatl.org
SUMMARY:MAAC Girls and Boys Cross Country
DESCRIPTION:Carpool 5:00-5:15 PM
URL:https://www.tcsatl.org/event/maac-girls-and-boys-cross-country-43/
END:VEVENT
BEGIN:VEVENT
DTSTART;TZID=America/New_York:20241203T151500
DTEND;TZID=America/New_York:20241203T170000
DTSTAMP:20260421T135915
CREATED:20240812T184527Z
LAST-MODIFIED:20241203T181446Z
UID:10010819-1733238900-1733245200@www.tcsatl.org
SUMMARY:MAAC Girls Basketball
DESCRIPTION:Carpool 5:00-5:15 PM
URL:https://www.tcsatl.org/event/maac-girls-basketball-19/
END:VEVENT
BEGIN:VEVENT
DTSTART;TZID=America/New_York:20241203T151500
DTEND;TZID=America/New_York:20241203T163000
DTSTAMP:20260421T135915
CREATED:20240812T184528Z
LAST-MODIFIED:20241203T181447Z
UID:10010821-1733238900-1733243400@www.tcsatl.org
SUMMARY:Intramural Co-Ed Tennis
DESCRIPTION:Carpool 4:40 – 4:55 PM
URL:https://www.tcsatl.org/event/intramural-co-ed-tennis-31/
END:VEVENT
BEGIN:VEVENT
DTSTART;VALUE=DATE:20241203
DTEND;VALUE=DATE:20241204
DTSTAMP:20260421T135915
CREATED:20240829T171454Z
LAST-MODIFIED:20241203T204441Z
UID:10011235-1733184000-1733270399@www.tcsatl.org
SUMMARY:B Day
DESCRIPTION:
URL:https://www.tcsatl.org/event/b-day-39/
END:VEVENT
BEGIN:VEVENT
DTSTART;TZID=America/New_York:20241202T154500
DTEND;TZID=America/New_York:20241202T164500
DTSTAMP:20260421T135915
CREATED:20240812T184527Z
LAST-MODIFIED:20241202T180123Z
UID:10010817-1733154300-1733157900@www.tcsatl.org
SUMMARY:Intramural Co-Ed Ultimate Frisbee
DESCRIPTION:Carpool 4:45-5:00 PM
URL:https://www.tcsatl.org/event/intramural-co-ed-ultimate-frisbee-13/
END:VEVENT
BEGIN:VEVENT
DTSTART;TZID=America/New_York:20241202T151500
DTEND;TZID=America/New_York:20241202T170000
DTSTAMP:20260421T135915
CREATED:20240812T184527Z
LAST-MODIFIED:20241202T180123Z
UID:10010818-1733152500-1733158800@www.tcsatl.org
SUMMARY:MAAC Boys Basketball
DESCRIPTION:
URL:https://www.tcsatl.org/event/maac-boys-basketball-82/
END:VEVENT
BEGIN:VEVENT
DTSTART;VALUE=DATE:20241202
DTEND;VALUE=DATE:20241203
DTSTAMP:20260421T135915
CREATED:20240829T171454Z
LAST-MODIFIED:20241202T204442Z
UID:10011234-1733097600-1733183999@www.tcsatl.org
SUMMARY:A Day
DESCRIPTION:
URL:https://www.tcsatl.org/event/a-day-37/
END:VEVENT
BEGIN:VEVENT
DTSTART;VALUE=DATE:20241202
DTEND;VALUE=DATE:20241203
DTSTAMP:20260421T135915
CREATED:20240613T163301Z
LAST-MODIFIED:20241202T204441Z
UID:10009513-1733097600-1733183999@www.tcsatl.org
SUMMARY:Students Return from Thanksgiving Break
DESCRIPTION:
URL:https://www.tcsatl.org/event/students-return-from-thanksgiving-break-4/
END:VEVENT
BEGIN:VEVENT
DTSTART;TZID=America/New_York:20241129T154500
DTEND;TZID=America/New_York:20241129T170000
DTSTAMP:20260421T135915
CREATED:20240812T184527Z
LAST-MODIFIED:20241129T172946Z
UID:10010814-1732895100-1732899600@www.tcsatl.org
SUMMARY:MAAC Girls and Boys Cross Country
DESCRIPTION:Carpool 5:00-5:15 PM
URL:https://www.tcsatl.org/event/maac-girls-and-boys-cross-country-42/
END:VEVENT
BEGIN:VEVENT
DTSTART;TZID=America/New_York:20241129T151500
DTEND;TZID=America/New_York:20241129T170000
DTSTAMP:20260421T135915
CREATED:20240812T184527Z
LAST-MODIFIED:20241129T172946Z
UID:10010816-1732893300-1732899600@www.tcsatl.org
SUMMARY:MAAC Girls Basketball
DESCRIPTION:Carpool 5:00-5:15 PM
URL:https://www.tcsatl.org/event/maac-girls-basketball-18/
END:VEVENT
BEGIN:VEVENT
DTSTART;TZID=America/New_York:20241129T151500
DTEND;TZID=America/New_York:20241129T170000
DTSTAMP:20260421T135915
CREATED:20240812T184527Z
LAST-MODIFIED:20241129T172946Z
UID:10010815-1732893300-1732899600@www.tcsatl.org
SUMMARY:MAAC Boys Basketball
DESCRIPTION:
URL:https://www.tcsatl.org/event/maac-boys-basketball-81/
END:VEVENT
BEGIN:VEVENT
DTSTART;TZID=America/New_York:20241128T154500
DTEND;TZID=America/New_York:20241128T164500
DTSTAMP:20260421T135915
CREATED:20240812T184526Z
LAST-MODIFIED:20241128T171444Z
UID:10010813-1732808700-1732812300@www.tcsatl.org
SUMMARY:Intramural Co-Ed Ultimate Frisbee
DESCRIPTION:Carpool 4:45-5:00 PM
URL:https://www.tcsatl.org/event/intramural-co-ed-ultimate-frisbee-12/
END:VEVENT
BEGIN:VEVENT
DTSTART;TZID=America/New_York:20241128T151500
DTEND;TZID=America/New_York:20241128T170000
DTSTAMP:20260421T135915
CREATED:20240812T184526Z
LAST-MODIFIED:20241128T171443Z
UID:10010812-1732806900-1732813200@www.tcsatl.org
SUMMARY:MAAC Boys Basketball
DESCRIPTION:
URL:https://www.tcsatl.org/event/maac-boys-basketball-80/
END:VEVENT
BEGIN:VEVENT
DTSTART;TZID=America/New_York:20241127T154500
DTEND;TZID=America/New_York:20241127T170000
DTSTAMP:20260421T135915
CREATED:20240812T184526Z
LAST-MODIFIED:20241127T171447Z
UID:10010810-1732722300-1732726800@www.tcsatl.org
SUMMARY:MAAC Girls and Boys Cross Country
DESCRIPTION:Carpool 5:00-5:15 PM
URL:https://www.tcsatl.org/event/maac-girls-and-boys-cross-country-41/
END:VEVENT
BEGIN:VEVENT
DTSTART;TZID=America/New_York:20241127T151500
DTEND;TZID=America/New_York:20241127T163000
DTSTAMP:20260421T135915
CREATED:20240812T184526Z
LAST-MODIFIED:20241127T171446Z
UID:10010811-1732720500-1732725000@www.tcsatl.org
SUMMARY:Intramural Co-Ed Tennis
DESCRIPTION:Carpool 4:40 – 4:55 PM
URL:https://www.tcsatl.org/event/intramural-co-ed-tennis-30/
END:VEVENT
BEGIN:VEVENT
DTSTART;TZID=America/New_York:20241127T074500
DTEND;TZID=America/New_York:20241127T090000
DTSTAMP:20260421T135915
CREATED:20240812T184526Z
LAST-MODIFIED:20241126T165948Z
UID:10010809-1732693500-1732698000@www.tcsatl.org
SUMMARY:MAAC Girls Basketball
DESCRIPTION:
URL:https://www.tcsatl.org/event/maac-girls-basketball-17/
END:VEVENT
BEGIN:VEVENT
DTSTART;TZID=America/New_York:20241126T154500
DTEND;TZID=America/New_York:20241126T170000
DTSTAMP:20260421T135915
CREATED:20240812T184525Z
LAST-MODIFIED:20241126T165947Z
UID:10010806-1732635900-1732640400@www.tcsatl.org
SUMMARY:MAAC Girls and Boys Cross Country
DESCRIPTION:Carpool 5:00-5:15 PM
URL:https://www.tcsatl.org/event/maac-girls-and-boys-cross-country-40/
END:VEVENT
END:VCALENDAR