BEGIN:VCALENDAR
VERSION:2.0
PRODID:-//The Children&#039;s School - ECPv6.15.15//NONSGML v1.0//EN
CALSCALE:GREGORIAN
METHOD:PUBLISH
X-WR-CALNAME:The Children&#039;s School
X-ORIGINAL-URL:https://www.tcsatl.org
X-WR-CALDESC:Events for The Children&#039;s School
REFRESH-INTERVAL;VALUE=DURATION:PT1H
X-Robots-Tag:noindex
X-PUBLISHED-TTL:PT1H
BEGIN:VTIMEZONE
TZID:America/New_York
BEGIN:DAYLIGHT
TZOFFSETFROM:-0500
TZOFFSETTO:-0400
TZNAME:EDT
DTSTART:20220313T070000
END:DAYLIGHT
BEGIN:STANDARD
TZOFFSETFROM:-0400
TZOFFSETTO:-0500
TZNAME:EST
DTSTART:20221106T060000
END:STANDARD
BEGIN:DAYLIGHT
TZOFFSETFROM:-0500
TZOFFSETTO:-0400
TZNAME:EDT
DTSTART:20230312T070000
END:DAYLIGHT
BEGIN:STANDARD
TZOFFSETFROM:-0400
TZOFFSETTO:-0500
TZNAME:EST
DTSTART:20231105T060000
END:STANDARD
BEGIN:DAYLIGHT
TZOFFSETFROM:-0500
TZOFFSETTO:-0400
TZNAME:EDT
DTSTART:20240310T070000
END:DAYLIGHT
BEGIN:STANDARD
TZOFFSETFROM:-0400
TZOFFSETTO:-0500
TZNAME:EST
DTSTART:20241103T060000
END:STANDARD
END:VTIMEZONE
BEGIN:VEVENT
DTSTART;TZID=America/New_York:20230216T151500
DTEND;TZID=America/New_York:20230216T164500
DTSTAMP:20260422T184922
CREATED:20230202T232954Z
LAST-MODIFIED:20230216T000000Z
UID:10010084-1676560500-1676565900@www.tcsatl.org
SUMMARY:Intramural Girls & Boys Basketball (3rd-5th Grade)
DESCRIPTION:Carpool 04:45 – 5:00 PM
URL:https://www.tcsatl.org/event/intramural-girls-boys-basketball-3rd-5th-grade-5/
END:VEVENT
BEGIN:VEVENT
DTSTART;TZID=America/New_York:20230216T151500
DTEND;TZID=America/New_York:20230216T163000
DTSTAMP:20260422T184922
CREATED:20230202T232954Z
LAST-MODIFIED:20230215T235959Z
UID:10010085-1676560500-1676565000@www.tcsatl.org
SUMMARY:MAAC Co-Ed Flag Football (5th- 8th Grade)
DESCRIPTION:Carpool 04:30 – 04:45 PM
URL:https://www.tcsatl.org/event/maac-co-ed-flag-football-5th-8th-grade-6/
END:VEVENT
BEGIN:VEVENT
DTSTART;TZID=America/New_York:20230216T151500
DTEND;TZID=America/New_York:20230216T163000
DTSTAMP:20260422T184922
CREATED:20220815T164228Z
LAST-MODIFIED:20221213T215212Z
UID:10008894-1676560500-1676565000@www.tcsatl.org
SUMMARY:TCS Voices
DESCRIPTION:
URL:https://www.tcsatl.org/event/tcs-voices-54/
END:VEVENT
BEGIN:VEVENT
DTSTART;VALUE=DATE:20230216
DTEND;VALUE=DATE:20230218
DTSTAMP:20260422T184922
CREATED:20220728T163346Z
LAST-MODIFIED:20230217T231503Z
UID:10008547-1676505600-1676678399@www.tcsatl.org
SUMMARY:P/T Conferences - No School for Students
DESCRIPTION:
URL:https://www.tcsatl.org/event/p-t-conferences-no-school-for-students/
END:VEVENT
BEGIN:VEVENT
DTSTART;TZID=America/New_York:20230215T151500
DTEND;TZID=America/New_York:20230215T164500
DTSTAMP:20260422T184922
CREATED:20230202T232954Z
LAST-MODIFIED:20230214T235951Z
UID:10010082-1676474100-1676479500@www.tcsatl.org
SUMMARY:MAAC Girls & Boys Track & Field (6th to 8th Grade)
DESCRIPTION:Carpool 4:45-5:00 PM
URL:https://www.tcsatl.org/event/maac-girls-boys-track-field-6th-to-8th-grade-6/
END:VEVENT
BEGIN:VEVENT
DTSTART;TZID=America/New_York:20230215T151500
DTEND;TZID=America/New_York:20230215T164500
DTSTAMP:20260422T184922
CREATED:20230202T232954Z
LAST-MODIFIED:20230214T235951Z
UID:10010083-1676474100-1676479500@www.tcsatl.org
SUMMARY:Intramural Girl & Boys Track (3rd -5th Grade)
DESCRIPTION:
URL:https://www.tcsatl.org/event/intramural-girl-boys-track-3rd-5th-grade-5/
END:VEVENT
BEGIN:VEVENT
DTSTART;TZID=America/New_York:20230215T151500
DTEND;TZID=America/New_York:20230215T163000
DTSTAMP:20260422T184922
CREATED:20230202T232953Z
LAST-MODIFIED:20230214T235951Z
UID:10010081-1676474100-1676478600@www.tcsatl.org
SUMMARY:MAAC Boys & Girls Tennis (5th to 8th Grade)
DESCRIPTION:Carpool 4:30-4:45 PM
URL:https://www.tcsatl.org/event/maac-boys-girls-tennis-5th-to-8th-grade-7/
END:VEVENT
BEGIN:VEVENT
DTSTART;TZID=America/New_York:20230215T151500
DTEND;TZID=America/New_York:20230215T163000
DTSTAMP:20260422T184922
CREATED:20221128T203457Z
LAST-MODIFIED:20230203T231457Z
UID:10010014-1676474100-1676478600@www.tcsatl.org
SUMMARY:TCS Players
DESCRIPTION:
URL:https://www.tcsatl.org/event/tcs-players-151/
END:VEVENT
BEGIN:VEVENT
DTSTART;TZID=America/New_York:20230215T151500
DTEND;TZID=America/New_York:20230215T163000
DTSTAMP:20260422T184922
CREATED:20220815T164228Z
LAST-MODIFIED:20221120T194947Z
UID:10008893-1676474100-1676478600@www.tcsatl.org
SUMMARY:TCS Players
DESCRIPTION:
URL:https://www.tcsatl.org/event/tcs-players-99/
END:VEVENT
BEGIN:VEVENT
DTSTART;TZID=America/New_York:20230215T151500
DTEND;TZID=America/New_York:20230215T161500
DTSTAMP:20260422T184922
CREATED:20220815T164228Z
LAST-MODIFIED:20230203T231457Z
UID:10008891-1676474100-1676477700@www.tcsatl.org
SUMMARY:TCS Jr. Players
DESCRIPTION:
URL:https://www.tcsatl.org/event/tcs-jr-players-54/
END:VEVENT
BEGIN:VEVENT
DTSTART;VALUE=DATE:20230215
DTEND;VALUE=DATE:20230216
DTSTAMP:20260422T184922
CREATED:20220907T181439Z
LAST-MODIFIED:20230215T230020Z
UID:10009601-1676419200-1676505599@www.tcsatl.org
SUMMARY:B Day
DESCRIPTION:
URL:https://www.tcsatl.org/event/b-day-18/
END:VEVENT
BEGIN:VEVENT
DTSTART;TZID=America/New_York:20230214T151500
DTEND;TZID=America/New_York:20230214T164500
DTSTAMP:20260422T184922
CREATED:20230202T232953Z
LAST-MODIFIED:20230214T000037Z
UID:10010080-1676387700-1676393100@www.tcsatl.org
SUMMARY:Intramural Girls & Boys Basketball (3rd-5th Grade)
DESCRIPTION:Carpool 04:45 – 5:00 PM
URL:https://www.tcsatl.org/event/intramural-girls-boys-basketball-3rd-5th-grade-4/
END:VEVENT
BEGIN:VEVENT
DTSTART;TZID=America/New_York:20230214T151500
DTEND;TZID=America/New_York:20230214T163000
DTSTAMP:20260422T184922
CREATED:20230202T232953Z
LAST-MODIFIED:20230214T000037Z
UID:10010079-1676387700-1676392200@www.tcsatl.org
SUMMARY:MAAC Co-Ed Flag Football (5th- 8th Grade)
DESCRIPTION:Carpool 04:30 – 04:45 PM
URL:https://www.tcsatl.org/event/maac-co-ed-flag-football-5th-8th-grade-5/
END:VEVENT
BEGIN:VEVENT
DTSTART;TZID=America/New_York:20230214T151500
DTEND;TZID=America/New_York:20230214T163000
DTSTAMP:20260422T184922
CREATED:20220815T164228Z
LAST-MODIFIED:20230203T231457Z
UID:10008889-1676387700-1676392200@www.tcsatl.org
SUMMARY:TCS Jr. Voices
DESCRIPTION:
URL:https://www.tcsatl.org/event/tcs-jr-voices-24/
END:VEVENT
BEGIN:VEVENT
DTSTART;VALUE=DATE:20230214
DTEND;VALUE=DATE:20230215
DTSTAMP:20260422T184922
CREATED:20220907T181439Z
LAST-MODIFIED:20230214T224712Z
UID:10009600-1676332800-1676419199@www.tcsatl.org
SUMMARY:A Day
DESCRIPTION:
URL:https://www.tcsatl.org/event/a-day-16/
END:VEVENT
BEGIN:VEVENT
DTSTART;TZID=America/New_York:20230213T151500
DTEND;TZID=America/New_York:20230213T164500
DTSTAMP:20260422T184922
CREATED:20230202T232953Z
LAST-MODIFIED:20230213T000007Z
UID:10009018-1676301300-1676306700@www.tcsatl.org
SUMMARY:Intramural Girl & Boys Track (3rd -5th Grade)
DESCRIPTION:
URL:https://www.tcsatl.org/event/intramural-girl-boys-track-3rd-5th-grade-4/
END:VEVENT
BEGIN:VEVENT
DTSTART;TZID=America/New_York:20230213T151500
DTEND;TZID=America/New_York:20230213T164500
DTSTAMP:20260422T184922
CREATED:20230202T232953Z
LAST-MODIFIED:20230213T000007Z
UID:10010078-1676301300-1676306700@www.tcsatl.org
SUMMARY:MAAC Girls & Boys Track & Field (6th to 8th Grade)
DESCRIPTION:Carpool 4:45-5:00 PM
URL:https://www.tcsatl.org/event/maac-girls-boys-track-field-6th-to-8th-grade-5/
END:VEVENT
BEGIN:VEVENT
DTSTART;TZID=America/New_York:20230213T151500
DTEND;TZID=America/New_York:20230213T163000
DTSTAMP:20260422T184922
CREATED:20230202T232953Z
LAST-MODIFIED:20230213T000007Z
UID:10009019-1676301300-1676305800@www.tcsatl.org
SUMMARY:MAAC Boys & Girls Tennis (5th to 8th Grade)
DESCRIPTION:Carpool 4:30-4:45 PM
URL:https://www.tcsatl.org/event/maac-boys-girls-tennis-5th-to-8th-grade-6/
END:VEVENT
BEGIN:VEVENT
DTSTART;TZID=America/New_York:20230213T151500
DTEND;TZID=America/New_York:20230213T163000
DTSTAMP:20260422T184922
CREATED:20221128T203457Z
LAST-MODIFIED:20230203T231457Z
UID:10010013-1676301300-1676305800@www.tcsatl.org
SUMMARY:TCS Players
DESCRIPTION:
URL:https://www.tcsatl.org/event/tcs-players-150/
END:VEVENT
BEGIN:VEVENT
DTSTART;TZID=America/New_York:20230213T151500
DTEND;TZID=America/New_York:20230213T163000
DTSTAMP:20260422T184922
CREATED:20220815T164228Z
LAST-MODIFIED:20221120T194947Z
UID:10008886-1676301300-1676305800@www.tcsatl.org
SUMMARY:TCS Players
DESCRIPTION:
URL:https://www.tcsatl.org/event/tcs-players-98/
END:VEVENT
BEGIN:VEVENT
DTSTART;VALUE=DATE:20230213
DTEND;VALUE=DATE:20230214
DTSTAMP:20260422T184922
CREATED:20220907T181439Z
LAST-MODIFIED:20230213T224457Z
UID:10009599-1676246400-1676332799@www.tcsatl.org
SUMMARY:F Day
DESCRIPTION:
URL:https://www.tcsatl.org/event/f-day-16/
END:VEVENT
BEGIN:VEVENT
DTSTART;TZID=America/New_York:20230210T151500
DTEND;TZID=America/New_York:20230210T164500
DTSTAMP:20260422T184922
CREATED:20230202T232953Z
LAST-MODIFIED:20230210T000011Z
UID:10009016-1676042100-1676047500@www.tcsatl.org
SUMMARY:MAAC Girls & Boys Track & Field (6th to 8th Grade)
DESCRIPTION:Carpool 4:45-5:00 PM
URL:https://www.tcsatl.org/event/maac-girls-boys-track-field-6th-to-8th-grade-4/
END:VEVENT
BEGIN:VEVENT
DTSTART;TZID=America/New_York:20230210T151500
DTEND;TZID=America/New_York:20230210T163000
DTSTAMP:20260422T184922
CREATED:20230202T232953Z
LAST-MODIFIED:20230210T000011Z
UID:10009017-1676042100-1676046600@www.tcsatl.org
SUMMARY:MAAC Boys & Girls Tennis (5th to 8th Grade)
DESCRIPTION:Carpool 4:30-4:45 PM
URL:https://www.tcsatl.org/event/maac-boys-girls-tennis-5th-to-8th-grade-5/
END:VEVENT
BEGIN:VEVENT
DTSTART;TZID=America/New_York:20230210T151500
DTEND;TZID=America/New_York:20230210T163000
DTSTAMP:20260422T184922
CREATED:20230202T232952Z
LAST-MODIFIED:20230210T000011Z
UID:10009014-1676042100-1676046600@www.tcsatl.org
SUMMARY:MAAC Co-Ed Flag Football (5th- 8th Grade)
DESCRIPTION:Carpool 04:30 – 04:45 PM
URL:https://www.tcsatl.org/event/maac-co-ed-flag-football-5th-8th-grade-4/
END:VEVENT
BEGIN:VEVENT
DTSTART;TZID=America/New_York:20230210T120000
DTEND;TZID=America/New_York:20230210T130000
DTSTAMP:20260422T184922
CREATED:20230124T210357Z
LAST-MODIFIED:20230209T221443Z
UID:10010047-1676030400-1676034000@www.tcsatl.org
SUMMARY:Ages & Stages: 4s/5s via ZOOM
DESCRIPTION:https://tcsatl-org.zoom.us/j/82832946456?pwd=K1FFVXNXampjM1JPU0k0S2puZlB2dz09
URL:https://www.tcsatl.org/event/ages-stages-4s-5s-via-zoom/
END:VEVENT
BEGIN:VEVENT
DTSTART;TZID=America/New_York:20230210T000000
DTEND;TZID=America/New_York:20230211T000000
DTSTAMP:20260422T184922
CREATED:20230110T201649Z
LAST-MODIFIED:20230210T223219Z
UID:10008977-1675987200-1676073600@www.tcsatl.org
SUMMARY:Book Fair - Library
DESCRIPTION:
URL:https://www.tcsatl.org/event/book-fair-library-6/
LOCATION:Building G-1-TCS Library (50)
END:VEVENT
BEGIN:VEVENT
DTSTART;VALUE=DATE:20230210
DTEND;VALUE=DATE:20230211
DTSTAMP:20260422T184922
CREATED:20220907T181439Z
LAST-MODIFIED:20230210T223219Z
UID:10009598-1675987200-1676073599@www.tcsatl.org
SUMMARY:E Day
DESCRIPTION:
URL:https://www.tcsatl.org/event/e-day-17/
END:VEVENT
BEGIN:VEVENT
DTSTART;TZID=America/New_York:20230209T151500
DTEND;TZID=America/New_York:20230209T164500
DTSTAMP:20260422T184922
CREATED:20230202T232952Z
LAST-MODIFIED:20230208T234446Z
UID:10009012-1675955700-1675961100@www.tcsatl.org
SUMMARY:Intramural Girls & Boys Basketball (3rd-5th Grade)
DESCRIPTION:Carpool 04:45 – 5:00 PM
URL:https://www.tcsatl.org/event/intramural-girls-boys-basketball-3rd-5th-grade-3/
END:VEVENT
BEGIN:VEVENT
DTSTART;TZID=America/New_York:20230209T151500
DTEND;TZID=America/New_York:20230209T163000
DTSTAMP:20260422T184922
CREATED:20230202T232952Z
LAST-MODIFIED:20230208T234446Z
UID:10009009-1675955700-1675960200@www.tcsatl.org
SUMMARY:MAAC Co-Ed Flag Football (5th- 8th Grade)
DESCRIPTION:Carpool 04:30 – 04:45 PM
URL:https://www.tcsatl.org/event/maac-co-ed-flag-football-5th-8th-grade-3/
END:VEVENT
BEGIN:VEVENT
DTSTART;TZID=America/New_York:20230209T151500
DTEND;TZID=America/New_York:20230209T163000
DTSTAMP:20260422T184922
CREATED:20220815T164227Z
LAST-MODIFIED:20230203T231457Z
UID:10008884-1675955700-1675960200@www.tcsatl.org
SUMMARY:TCS Voices
DESCRIPTION:
URL:https://www.tcsatl.org/event/tcs-voices-53/
END:VEVENT
END:VCALENDAR