BEGIN:VCALENDAR
VERSION:2.0
PRODID:-//The Children&#039;s School - ECPv6.15.15//NONSGML v1.0//EN
CALSCALE:GREGORIAN
METHOD:PUBLISH
X-WR-CALNAME:The Children&#039;s School
X-ORIGINAL-URL:https://www.tcsatl.org
X-WR-CALDESC:Events for The Children&#039;s School
REFRESH-INTERVAL;VALUE=DURATION:PT1H
X-Robots-Tag:noindex
X-PUBLISHED-TTL:PT1H
BEGIN:VTIMEZONE
TZID:America/New_York
BEGIN:DAYLIGHT
TZOFFSETFROM:-0500
TZOFFSETTO:-0400
TZNAME:EDT
DTSTART:20220313T070000
END:DAYLIGHT
BEGIN:STANDARD
TZOFFSETFROM:-0400
TZOFFSETTO:-0500
TZNAME:EST
DTSTART:20221106T060000
END:STANDARD
BEGIN:DAYLIGHT
TZOFFSETFROM:-0500
TZOFFSETTO:-0400
TZNAME:EDT
DTSTART:20230312T070000
END:DAYLIGHT
BEGIN:STANDARD
TZOFFSETFROM:-0400
TZOFFSETTO:-0500
TZNAME:EST
DTSTART:20231105T060000
END:STANDARD
BEGIN:DAYLIGHT
TZOFFSETFROM:-0500
TZOFFSETTO:-0400
TZNAME:EDT
DTSTART:20240310T070000
END:DAYLIGHT
BEGIN:STANDARD
TZOFFSETFROM:-0400
TZOFFSETTO:-0500
TZNAME:EST
DTSTART:20241103T060000
END:STANDARD
END:VTIMEZONE
BEGIN:VEVENT
DTSTART;TZID=America/New_York:20230208T000000
DTEND;TZID=America/New_York:20230209T000000
DTSTAMP:20260422T185018
CREATED:20230110T201649Z
LAST-MODIFIED:20230208T221502Z
UID:10008976-1675814400-1675900800@www.tcsatl.org
SUMMARY:Book Fair - Library
DESCRIPTION:
URL:https://www.tcsatl.org/event/book-fair-library-5/
LOCATION:Building G-1-TCS Library (50)
END:VEVENT
BEGIN:VEVENT
DTSTART;VALUE=DATE:20230208
DTEND;VALUE=DATE:20230209
DTSTAMP:20260422T185018
CREATED:20220907T181438Z
LAST-MODIFIED:20230208T221501Z
UID:10009596-1675814400-1675900799@www.tcsatl.org
SUMMARY:C Day
DESCRIPTION:
URL:https://www.tcsatl.org/event/c-day-17/
END:VEVENT
BEGIN:VEVENT
DTSTART;TZID=America/New_York:20230207T151500
DTEND;TZID=America/New_York:20230207T164500
DTSTAMP:20260422T185018
CREATED:20230202T232952Z
LAST-MODIFIED:20230202T232952Z
UID:10010076-1675782900-1675788300@www.tcsatl.org
SUMMARY:Intramural Girls & Boys Basketball (3rd-5th Grade)
DESCRIPTION:Carpool 04:45 – 5:00 PM
URL:https://www.tcsatl.org/event/intramural-girls-boys-basketball-3rd-5th-grade-2/
END:VEVENT
BEGIN:VEVENT
DTSTART;TZID=America/New_York:20230207T151500
DTEND;TZID=America/New_York:20230207T164500
DTSTAMP:20260422T185018
CREATED:20230202T232952Z
LAST-MODIFIED:20230206T233108Z
UID:10010071-1675782900-1675788300@www.tcsatl.org
SUMMARY:Intramural Girls & Boys Basketball (3rd-5th Grade)
DESCRIPTION:Carpool 04:45 – 5:00 PM
URL:https://www.tcsatl.org/event/intramural-girls-boys-basketball-3rd-5th-grade/
END:VEVENT
BEGIN:VEVENT
DTSTART;TZID=America/New_York:20230207T151500
DTEND;TZID=America/New_York:20230207T163000
DTSTAMP:20260422T185018
CREATED:20230202T232952Z
LAST-MODIFIED:20230206T233108Z
UID:10010070-1675782900-1675787400@www.tcsatl.org
SUMMARY:MAAC Co-Ed Flag Football (5th- 8th Grade)
DESCRIPTION:Carpool 04:30 – 04:45 PM
URL:https://www.tcsatl.org/event/maac-co-ed-flag-football-5th-8th-grade/
END:VEVENT
BEGIN:VEVENT
DTSTART;TZID=America/New_York:20230207T151500
DTEND;TZID=America/New_York:20230207T163000
DTSTAMP:20260422T185018
CREATED:20230202T232952Z
LAST-MODIFIED:20230202T232952Z
UID:10010074-1675782900-1675787400@www.tcsatl.org
SUMMARY:MAAC Co-Ed Flag Football (5th- 8th Grade)
DESCRIPTION:Carpool 04:30 – 04:45 PM
URL:https://www.tcsatl.org/event/maac-co-ed-flag-football-5th-8th-grade-2/
END:VEVENT
BEGIN:VEVENT
DTSTART;TZID=America/New_York:20230207T151500
DTEND;TZID=America/New_York:20230207T163000
DTSTAMP:20260422T185018
CREATED:20220815T164227Z
LAST-MODIFIED:20230203T231456Z
UID:10008876-1675782900-1675787400@www.tcsatl.org
SUMMARY:TCS Jr. Voices
DESCRIPTION:
URL:https://www.tcsatl.org/event/tcs-jr-voices-23/
END:VEVENT
BEGIN:VEVENT
DTSTART;TZID=America/New_York:20230207T120000
DTEND;TZID=America/New_York:20230207T130000
DTSTAMP:20260422T185018
CREATED:20230124T210357Z
LAST-MODIFIED:20230206T221442Z
UID:10010046-1675771200-1675774800@www.tcsatl.org
SUMMARY:Ages & Stages: 5th Grade - via ZOOM
DESCRIPTION:https://tcsatl-org.zoom.us/j/82832946456?pwd=K1FFVXNXampjM1JPU0k0S2puZlB2dz09
URL:https://www.tcsatl.org/event/ages-stages-5th-grade-via-zoom/
END:VEVENT
BEGIN:VEVENT
DTSTART;TZID=America/New_York:20230207T000000
DTEND;TZID=America/New_York:20230208T000000
DTSTAMP:20260422T185018
CREATED:20230110T201648Z
LAST-MODIFIED:20230207T221444Z
UID:10008974-1675728000-1675814400@www.tcsatl.org
SUMMARY:Book Fair - Library
DESCRIPTION:
URL:https://www.tcsatl.org/event/book-fair-library-3/
LOCATION:Building G-1-TCS Library (50)
END:VEVENT
BEGIN:VEVENT
DTSTART;VALUE=DATE:20230207
DTEND;VALUE=DATE:20230208
DTSTAMP:20260422T185018
CREATED:20220907T181438Z
LAST-MODIFIED:20230207T221444Z
UID:10009595-1675728000-1675814399@www.tcsatl.org
SUMMARY:B Day
DESCRIPTION:
URL:https://www.tcsatl.org/event/b-day-17/
END:VEVENT
BEGIN:VEVENT
DTSTART;TZID=America/New_York:20230206T151500
DTEND;TZID=America/New_York:20230206T164500
DTSTAMP:20260422T185018
CREATED:20230202T232951Z
LAST-MODIFIED:20230205T233228Z
UID:10010068-1675696500-1675701900@www.tcsatl.org
SUMMARY:Intramural Girl & Boys Track (3rd -5th Grade)
DESCRIPTION:
URL:https://www.tcsatl.org/event/intramural-girl-boys-track-3rd-5th-grade/
END:VEVENT
BEGIN:VEVENT
DTSTART;TZID=America/New_York:20230206T151500
DTEND;TZID=America/New_York:20230206T164500
DTSTAMP:20260422T185018
CREATED:20230202T232951Z
LAST-MODIFIED:20230205T233228Z
UID:10010067-1675696500-1675701900@www.tcsatl.org
SUMMARY:MAAC Girls & Boys Track & Field (6th to 8th Grade)
DESCRIPTION:Carpool 4:45-5:00 PM
URL:https://www.tcsatl.org/event/maac-girls-boys-track-field-6th-to-8th-grade/
END:VEVENT
BEGIN:VEVENT
DTSTART;TZID=America/New_York:20230206T151500
DTEND;TZID=America/New_York:20230206T163000
DTSTAMP:20260422T185018
CREATED:20230202T232952Z
LAST-MODIFIED:20230205T233228Z
UID:10010069-1675696500-1675701000@www.tcsatl.org
SUMMARY:MAAC Boys & Girls Tennis (5th to 8th Grade)
DESCRIPTION:Carpool 4:30-4:45 PM
URL:https://www.tcsatl.org/event/maac-boys-girls-tennis-5th-to-8th-grade/
END:VEVENT
BEGIN:VEVENT
DTSTART;TZID=America/New_York:20230206T151500
DTEND;TZID=America/New_York:20230206T163000
DTSTAMP:20260422T185018
CREATED:20230202T232952Z
LAST-MODIFIED:20230202T232952Z
UID:10010072-1675696500-1675701000@www.tcsatl.org
SUMMARY:MAAC Boys & Girls Tennis (5th to 8th Grade)
DESCRIPTION:Carpool 4:30-4:45 PM
URL:https://www.tcsatl.org/event/maac-boys-girls-tennis-5th-to-8th-grade-2/
END:VEVENT
BEGIN:VEVENT
DTSTART;TZID=America/New_York:20230206T151500
DTEND;TZID=America/New_York:20230206T163000
DTSTAMP:20260422T185018
CREATED:20221128T203456Z
LAST-MODIFIED:20230203T231456Z
UID:10010011-1675696500-1675701000@www.tcsatl.org
SUMMARY:TCS Players
DESCRIPTION:
URL:https://www.tcsatl.org/event/tcs-players-148/
END:VEVENT
BEGIN:VEVENT
DTSTART;TZID=America/New_York:20230206T151500
DTEND;TZID=America/New_York:20230206T163000
DTSTAMP:20260422T185018
CREATED:20220815T164227Z
LAST-MODIFIED:20221120T194947Z
UID:10008875-1675696500-1675701000@www.tcsatl.org
SUMMARY:TCS Players
DESCRIPTION:
URL:https://www.tcsatl.org/event/tcs-players-96/
END:VEVENT
BEGIN:VEVENT
DTSTART;TZID=America/New_York:20230206T000000
DTEND;TZID=America/New_York:20230207T000000
DTSTAMP:20260422T185018
CREATED:20230110T201648Z
LAST-MODIFIED:20230206T221442Z
UID:10008973-1675641600-1675728000@www.tcsatl.org
SUMMARY:Book Fair - Library
DESCRIPTION:
URL:https://www.tcsatl.org/event/book-fair-library-2/
LOCATION:Building G-1-TCS Library (50)
END:VEVENT
BEGIN:VEVENT
DTSTART;VALUE=DATE:20230206
DTEND;VALUE=DATE:20230207
DTSTAMP:20260422T185018
CREATED:20220907T181438Z
LAST-MODIFIED:20230206T221441Z
UID:10009594-1675641600-1675727999@www.tcsatl.org
SUMMARY:A Day
DESCRIPTION:
URL:https://www.tcsatl.org/event/a-day-15/
END:VEVENT
BEGIN:VEVENT
DTSTART;TZID=America/New_York:20230203T000000
DTEND;TZID=America/New_York:20230204T000000
DTSTAMP:20260422T185018
CREATED:20230110T201647Z
LAST-MODIFIED:20230203T215957Z
UID:10008972-1675382400-1675468800@www.tcsatl.org
SUMMARY:Book Fair - Library
DESCRIPTION:
URL:https://www.tcsatl.org/event/book-fair-library/
LOCATION:Building G-1-TCS Library (50)
END:VEVENT
BEGIN:VEVENT
DTSTART;VALUE=DATE:20230203
DTEND;VALUE=DATE:20230204
DTSTAMP:20260422T185018
CREATED:20220907T181438Z
LAST-MODIFIED:20230203T215957Z
UID:10009592-1675382400-1675468799@www.tcsatl.org
SUMMARY:F Day
DESCRIPTION:
URL:https://www.tcsatl.org/event/f-day-15/
END:VEVENT
BEGIN:VEVENT
DTSTART;TZID=America/New_York:20230202T151500
DTEND;TZID=America/New_York:20230202T163000
DTSTAMP:20260422T185018
CREATED:20220815T164226Z
LAST-MODIFIED:20230201T225955Z
UID:10008874-1675350900-1675355400@www.tcsatl.org
SUMMARY:TCS Voices
DESCRIPTION:
URL:https://www.tcsatl.org/event/tcs-voices-52/
END:VEVENT
BEGIN:VEVENT
DTSTART;TZID=America/New_York:20230202T120000
DTEND;TZID=America/New_York:20230202T130000
DTSTAMP:20260422T185018
CREATED:20230124T210356Z
LAST-MODIFIED:20230201T214447Z
UID:10010045-1675339200-1675342800@www.tcsatl.org
SUMMARY:Ages & Stages: Kindergarten - via ZOOM
DESCRIPTION:https://tcsatl-org.zoom.us/j/82832946456?pwd=K1FFVXNXampjM1JPU0k0S2puZlB2dz09
URL:https://www.tcsatl.org/event/ages-stages-kindergarten-via-zoom/
END:VEVENT
BEGIN:VEVENT
DTSTART;VALUE=DATE:20230202
DTEND;VALUE=DATE:20230203
DTSTAMP:20260422T185018
CREATED:20220907T181438Z
LAST-MODIFIED:20230202T215951Z
UID:10009593-1675296000-1675382399@www.tcsatl.org
SUMMARY:E Day
DESCRIPTION:
URL:https://www.tcsatl.org/event/e-day-16/
END:VEVENT
BEGIN:VEVENT
DTSTART;TZID=America/New_York:20230201T151500
DTEND;TZID=America/New_York:20230201T163000
DTSTAMP:20260422T185018
CREATED:20221128T203456Z
LAST-MODIFIED:20230131T225941Z
UID:10010010-1675264500-1675269000@www.tcsatl.org
SUMMARY:TCS Players
DESCRIPTION:
URL:https://www.tcsatl.org/event/tcs-players-147/
END:VEVENT
BEGIN:VEVENT
DTSTART;TZID=America/New_York:20230201T151500
DTEND;TZID=America/New_York:20230201T163000
DTSTAMP:20260422T185018
CREATED:20220815T164226Z
LAST-MODIFIED:20221120T194946Z
UID:10008870-1675264500-1675269000@www.tcsatl.org
SUMMARY:TCS Players
DESCRIPTION:
URL:https://www.tcsatl.org/event/tcs-players-95/
END:VEVENT
BEGIN:VEVENT
DTSTART;TZID=America/New_York:20230201T151500
DTEND;TZID=America/New_York:20230201T161500
DTSTAMP:20260422T185018
CREATED:20220815T164226Z
LAST-MODIFIED:20230131T225941Z
UID:10008873-1675264500-1675268100@www.tcsatl.org
SUMMARY:TCS Jr. Players
DESCRIPTION:
URL:https://www.tcsatl.org/event/tcs-jr-players-52/
END:VEVENT
BEGIN:VEVENT
DTSTART;TZID=America/New_York:20230201T120000
DTEND;TZID=America/New_York:20230201T130000
DTSTAMP:20260422T185018
CREATED:20230124T210356Z
LAST-MODIFIED:20230124T210356Z
UID:10010044-1675252800-1675256400@www.tcsatl.org
SUMMARY:Ages & Stages: 3s/4s - via ZOOM
DESCRIPTION:Join Zoom Meetinghttps://tcsatl-org.zoom.us/j/82832946456?pwd=K1FFVXNXampjM1JPU0k0S2puZlB2dz09
URL:https://www.tcsatl.org/event/ages-stages-3s-4s-via-zoom-2/
END:VEVENT
BEGIN:VEVENT
DTSTART;TZID=America/New_York:20230201T120000
DTEND;TZID=America/New_York:20230201T130000
DTSTAMP:20260422T185018
CREATED:20230124T210355Z
LAST-MODIFIED:20230131T214451Z
UID:10010043-1675252800-1675256400@www.tcsatl.org
SUMMARY:Ages & Stages: 3s/4s - via ZOOM
DESCRIPTION:Join Zoom Meetinghttps://tcsatl-org.zoom.us/j/82832946456?pwd=K1FFVXNXampjM1JPU0k0S2puZlB2dz09
URL:https://www.tcsatl.org/event/ages-stages-3s-4s-via-zoom/
END:VEVENT
BEGIN:VEVENT
DTSTART;VALUE=DATE:20230201
DTEND;VALUE=DATE:20230202
DTSTAMP:20260422T185018
CREATED:20220907T181438Z
LAST-MODIFIED:20230201T214447Z
UID:10009591-1675209600-1675295999@www.tcsatl.org
SUMMARY:D Day
DESCRIPTION:
URL:https://www.tcsatl.org/event/d-day-15/
END:VEVENT
BEGIN:VEVENT
DTSTART;TZID=America/New_York:20230131T151500
DTEND;TZID=America/New_York:20230131T163000
DTSTAMP:20260422T185018
CREATED:20220815T164226Z
LAST-MODIFIED:20230130T225954Z
UID:10008868-1675178100-1675182600@www.tcsatl.org
SUMMARY:TCS Jr. Voices
DESCRIPTION:
URL:https://www.tcsatl.org/event/tcs-jr-voices-22/
END:VEVENT
END:VCALENDAR