BEGIN:VCALENDAR
VERSION:2.0
PRODID:-//The Children&#039;s School - ECPv6.15.15//NONSGML v1.0//EN
CALSCALE:GREGORIAN
METHOD:PUBLISH
X-ORIGINAL-URL:https://www.tcsatl.org
X-WR-CALDESC:Events for The Children&#039;s School
REFRESH-INTERVAL;VALUE=DURATION:PT1H
X-Robots-Tag:noindex
X-PUBLISHED-TTL:PT1H
BEGIN:VTIMEZONE
TZID:America/New_York
BEGIN:DAYLIGHT
TZOFFSETFROM:-0500
TZOFFSETTO:-0400
TZNAME:EDT
DTSTART:20240310T070000
END:DAYLIGHT
BEGIN:STANDARD
TZOFFSETFROM:-0400
TZOFFSETTO:-0500
TZNAME:EST
DTSTART:20241103T060000
END:STANDARD
BEGIN:DAYLIGHT
TZOFFSETFROM:-0500
TZOFFSETTO:-0400
TZNAME:EDT
DTSTART:20250309T070000
END:DAYLIGHT
BEGIN:STANDARD
TZOFFSETFROM:-0400
TZOFFSETTO:-0500
TZNAME:EST
DTSTART:20251102T060000
END:STANDARD
BEGIN:DAYLIGHT
TZOFFSETFROM:-0500
TZOFFSETTO:-0400
TZNAME:EDT
DTSTART:20260308T070000
END:DAYLIGHT
BEGIN:STANDARD
TZOFFSETFROM:-0400
TZOFFSETTO:-0500
TZNAME:EST
DTSTART:20261101T060000
END:STANDARD
END:VTIMEZONE
BEGIN:VEVENT
DTSTART;TZID=America/New_York:20251121T153000
DTEND;TZID=America/New_York:20251121T163000
DTSTAMP:20260420T172811
CREATED:20250812T141838Z
LAST-MODIFIED:20251121T152022Z
UID:10011609-1763739000-1763742600@www.tcsatl.org
SUMMARY:Pre-Ballet
DESCRIPTION:Carpool- 4:30 PM – 4:45 PM
URL:https://www.tcsatl.org/event/pre-ballet-12/
END:VEVENT
BEGIN:VEVENT
DTSTART;TZID=America/New_York:20251121T153000
DTEND;TZID=America/New_York:20251121T163000
DTSTAMP:20260420T172811
CREATED:20250812T141838Z
LAST-MODIFIED:20251121T152023Z
UID:10011611-1763739000-1763742600@www.tcsatl.org
SUMMARY:Yoga
DESCRIPTION:Carpool: 4:30pm-4:45 PM
URL:https://www.tcsatl.org/event/yoga-12/
END:VEVENT
BEGIN:VEVENT
DTSTART;TZID=America/New_York:20251121T163000
DTEND;TZID=America/New_York:20251121T173000
DTSTAMP:20260420T172811
CREATED:20250812T141838Z
LAST-MODIFIED:20251121T152023Z
UID:10011610-1763742600-1763746200@www.tcsatl.org
SUMMARY:Tap-Ballet
DESCRIPTION:Carpool\n: 5:30
URL:https://www.tcsatl.org/event/tap-ballet-12/
END:VEVENT
BEGIN:VEVENT
DTSTART;VALUE=DATE:20251124
DTEND;VALUE=DATE:20251129
DTSTAMP:20260420T172811
CREATED:20250613T041550Z
LAST-MODIFIED:20251128T102019Z
UID:10011467-1763942400-1764374399@www.tcsatl.org
SUMMARY:SCHOOL CLOSED- Thanksgiving Break
DESCRIPTION:
URL:https://www.tcsatl.org/event/school-closed-thanksgiving-break/
END:VEVENT
BEGIN:VEVENT
DTSTART;TZID=America/New_York:20251125T153000
DTEND;TZID=America/New_York:20251125T163000
DTSTAMP:20260420T172811
CREATED:20250812T141838Z
LAST-MODIFIED:20251125T162514Z
UID:10011613-1764084600-1764088200@www.tcsatl.org
SUMMARY:Drums
DESCRIPTION:Carpool: 4:30-4:45pm
URL:https://www.tcsatl.org/event/drums-13/
END:VEVENT
BEGIN:VEVENT
DTSTART;TZID=America/New_York:20251125T154500
DTEND;TZID=America/New_York:20251125T170000
DTSTAMP:20260420T172811
CREATED:20250812T141838Z
LAST-MODIFIED:20251125T162514Z
UID:10011612-1764085500-1764090000@www.tcsatl.org
SUMMARY:Intramural Co-Ed Cross Country
DESCRIPTION:Carpool 5:00-5:15
URL:https://www.tcsatl.org/event/intramural-co-ed-cross-country-25/
END:VEVENT
BEGIN:VEVENT
DTSTART;TZID=America/New_York:20251125T163000
DTEND;TZID=America/New_York:20251125T173000
DTSTAMP:20260420T172811
CREATED:20250812T141838Z
LAST-MODIFIED:20251125T162513Z
UID:10011614-1764088200-1764091800@www.tcsatl.org
SUMMARY:Percussion Ensemble
DESCRIPTION:Carpool: 5:30 PM
URL:https://www.tcsatl.org/event/percussion-ensemble-31/
END:VEVENT
BEGIN:VEVENT
DTSTART;TZID=America/New_York:20251126T141500
DTEND;TZID=America/New_York:20251126T151500
DTSTAMP:20260420T172811
CREATED:20250812T141839Z
LAST-MODIFIED:20251126T164028Z
UID:10011615-1764166500-1764170100@www.tcsatl.org
SUMMARY:LSASS Math Lab
DESCRIPTION:Carpool 03:15-3:45PM
URL:https://www.tcsatl.org/event/lsass-math-lab-13/
END:VEVENT
BEGIN:VEVENT
DTSTART;TZID=America/New_York:20251126T154500
DTEND;TZID=America/New_York:20251126T170000
DTSTAMP:20260420T172811
CREATED:20250812T141839Z
LAST-MODIFIED:20251126T164028Z
UID:10011616-1764171900-1764176400@www.tcsatl.org
SUMMARY:Intramural Co-Ed Soccer
DESCRIPTION:Carpool- 5:00pm-5:15 PM
URL:https://www.tcsatl.org/event/intramural-co-ed-soccer-13/
END:VEVENT
BEGIN:VEVENT
DTSTART;TZID=America/New_York:20251127T154500
DTEND;TZID=America/New_York:20251127T170000
DTSTAMP:20260420T172811
CREATED:20250812T141839Z
LAST-MODIFIED:20251127T165534Z
UID:10011617-1764258300-1764262800@www.tcsatl.org
SUMMARY:Intramural Co-Ed Cross Country
DESCRIPTION:Carpool 5:00-5:15
URL:https://www.tcsatl.org/event/intramural-co-ed-cross-country-26/
END:VEVENT
BEGIN:VEVENT
DTSTART;TZID=America/New_York:20251127T154500
DTEND;TZID=America/New_York:20251127T171500
DTSTAMP:20260420T172811
CREATED:20250812T141839Z
LAST-MODIFIED:20251127T165534Z
UID:10011618-1764258300-1764263700@www.tcsatl.org
SUMMARY:TCS Movers
DESCRIPTION:
URL:https://www.tcsatl.org/event/tcs-movers-13/
END:VEVENT
BEGIN:VEVENT
DTSTART;TZID=America/New_York:20251128T153000
DTEND;TZID=America/New_York:20251128T163000
DTSTAMP:20260420T172811
CREATED:20250812T141851Z
LAST-MODIFIED:20251128T170514Z
UID:10011619-1764343800-1764347400@www.tcsatl.org
SUMMARY:Yoga
DESCRIPTION:Carpool: 4:30pm-4:45 PM
URL:https://www.tcsatl.org/event/yoga-13/
END:VEVENT
BEGIN:VEVENT
DTSTART;TZID=America/New_York:20251128T153000
DTEND;TZID=America/New_York:20251128T163000
DTSTAMP:20260420T172811
CREATED:20250812T141851Z
LAST-MODIFIED:20251128T170514Z
UID:10011621-1764343800-1764347400@www.tcsatl.org
SUMMARY:Pre-Ballet
DESCRIPTION:Carpool- 4:30 PM – 4:45 PM
URL:https://www.tcsatl.org/event/pre-ballet-13/
END:VEVENT
BEGIN:VEVENT
DTSTART;TZID=America/New_York:20251128T153000
DTEND;TZID=America/New_York:20251128T163000
DTSTAMP:20260420T172811
CREATED:20250812T141851Z
LAST-MODIFIED:20251128T170515Z
UID:10011622-1764343800-1764347400@www.tcsatl.org
SUMMARY:Amazing Athletes
DESCRIPTION:Carpool- 4:30 pm – 4:45 pm
URL:https://www.tcsatl.org/event/amazing-athletes-71/
END:VEVENT
BEGIN:VEVENT
DTSTART;TZID=America/New_York:20251128T163000
DTEND;TZID=America/New_York:20251128T173000
DTSTAMP:20260420T172811
CREATED:20250812T141851Z
LAST-MODIFIED:20251128T170515Z
UID:10011620-1764347400-1764351000@www.tcsatl.org
SUMMARY:Tap-Ballet
DESCRIPTION:Carpool\n: 5:30
URL:https://www.tcsatl.org/event/tap-ballet-13/
END:VEVENT
BEGIN:VEVENT
DTSTART;TZID=America/New_York:20251202T153000
DTEND;TZID=America/New_York:20251202T163000
DTSTAMP:20260420T172811
CREATED:20250812T141851Z
LAST-MODIFIED:20251202T182512Z
UID:10011625-1764689400-1764693000@www.tcsatl.org
SUMMARY:Drums
DESCRIPTION:Carpool: 4:30-4:45pm
URL:https://www.tcsatl.org/event/drums-14/
END:VEVENT
BEGIN:VEVENT
DTSTART;TZID=America/New_York:20251202T154500
DTEND;TZID=America/New_York:20251202T170000
DTSTAMP:20260420T172811
CREATED:20250812T141851Z
LAST-MODIFIED:20251202T182512Z
UID:10011623-1764690300-1764694800@www.tcsatl.org
SUMMARY:Intramural Co-Ed Cross Country
DESCRIPTION:Carpool 5:00-5:15
URL:https://www.tcsatl.org/event/intramural-co-ed-cross-country-27/
END:VEVENT
BEGIN:VEVENT
DTSTART;TZID=America/New_York:20251202T163000
DTEND;TZID=America/New_York:20251202T173000
DTSTAMP:20260420T172811
CREATED:20250812T141851Z
LAST-MODIFIED:20251202T182512Z
UID:10011624-1764693000-1764696600@www.tcsatl.org
SUMMARY:Percussion Ensemble
DESCRIPTION:Carpool: 5:30 PM
URL:https://www.tcsatl.org/event/percussion-ensemble-32/
END:VEVENT
BEGIN:VEVENT
DTSTART;TZID=America/New_York:20251203T141500
DTEND;TZID=America/New_York:20251203T151500
DTSTAMP:20260420T172811
CREATED:20250812T141851Z
LAST-MODIFIED:20251203T184016Z
UID:10011626-1764771300-1764774900@www.tcsatl.org
SUMMARY:LSASS Math Lab
DESCRIPTION:Carpool 03:15-3:45PM
URL:https://www.tcsatl.org/event/lsass-math-lab-14/
END:VEVENT
BEGIN:VEVENT
DTSTART;TZID=America/New_York:20251203T154500
DTEND;TZID=America/New_York:20251203T170000
DTSTAMP:20260420T172811
CREATED:20250812T141852Z
LAST-MODIFIED:20251203T184016Z
UID:10011627-1764776700-1764781200@www.tcsatl.org
SUMMARY:Intramural Co-Ed Soccer
DESCRIPTION:Carpool- 5:00pm-5:15 PM
URL:https://www.tcsatl.org/event/intramural-co-ed-soccer-14/
END:VEVENT
BEGIN:VEVENT
DTSTART;TZID=America/New_York:20251204T154500
DTEND;TZID=America/New_York:20251204T170000
DTSTAMP:20260420T172811
CREATED:20250812T141852Z
LAST-MODIFIED:20251204T185518Z
UID:10011628-1764863100-1764867600@www.tcsatl.org
SUMMARY:Intramural Co-Ed Cross Country
DESCRIPTION:Carpool 5:00-5:15
URL:https://www.tcsatl.org/event/intramural-co-ed-cross-country-28/
END:VEVENT
BEGIN:VEVENT
DTSTART;TZID=America/New_York:20251204T154500
DTEND;TZID=America/New_York:20251204T171500
DTSTAMP:20260420T172811
CREATED:20250812T141903Z
LAST-MODIFIED:20251204T185518Z
UID:10011629-1764863100-1764868500@www.tcsatl.org
SUMMARY:TCS Movers
DESCRIPTION:
URL:https://www.tcsatl.org/event/tcs-movers-14/
END:VEVENT
BEGIN:VEVENT
DTSTART;TZID=America/New_York:20251205T153000
DTEND;TZID=America/New_York:20251205T163000
DTSTAMP:20260420T172811
CREATED:20250812T141903Z
LAST-MODIFIED:20251205T191516Z
UID:10011630-1764948600-1764952200@www.tcsatl.org
SUMMARY:Pre-Ballet
DESCRIPTION:Carpool- 4:30 PM – 4:45 PM
URL:https://www.tcsatl.org/event/pre-ballet-14/
END:VEVENT
BEGIN:VEVENT
DTSTART;TZID=America/New_York:20251205T153000
DTEND;TZID=America/New_York:20251205T163000
DTSTAMP:20260420T172811
CREATED:20250812T141904Z
LAST-MODIFIED:20251205T191516Z
UID:10011633-1764948600-1764952200@www.tcsatl.org
SUMMARY:Amazing Athletes
DESCRIPTION:Carpool- 4:30 pm – 4:45 pm
URL:https://www.tcsatl.org/event/amazing-athletes-72/
END:VEVENT
BEGIN:VEVENT
DTSTART;TZID=America/New_York:20251205T153000
DTEND;TZID=America/New_York:20251205T163000
DTSTAMP:20260420T172811
CREATED:20250812T141904Z
LAST-MODIFIED:20251205T191517Z
UID:10011631-1764948600-1764952200@www.tcsatl.org
SUMMARY:Yoga
DESCRIPTION:Carpool: 4:30pm-4:45 PM
URL:https://www.tcsatl.org/event/yoga-14/
END:VEVENT
BEGIN:VEVENT
DTSTART;TZID=America/New_York:20251205T163000
DTEND;TZID=America/New_York:20251205T173000
DTSTAMP:20260420T172811
CREATED:20250812T141904Z
LAST-MODIFIED:20251205T191516Z
UID:10011632-1764952200-1764955800@www.tcsatl.org
SUMMARY:Tap-Ballet
DESCRIPTION:Carpool\n: 5:30
URL:https://www.tcsatl.org/event/tap-ballet-14/
END:VEVENT
BEGIN:VEVENT
DTSTART;TZID=America/New_York:20251209T153000
DTEND;TZID=America/New_York:20251209T163000
DTSTAMP:20260420T172811
CREATED:20250812T141904Z
LAST-MODIFIED:20251209T200512Z
UID:10011636-1765294200-1765297800@www.tcsatl.org
SUMMARY:Drums
DESCRIPTION:Carpool: 4:30-4:45pm
URL:https://www.tcsatl.org/event/drums-15/
END:VEVENT
BEGIN:VEVENT
DTSTART;TZID=America/New_York:20251209T154500
DTEND;TZID=America/New_York:20251209T170000
DTSTAMP:20260420T172811
CREATED:20250812T141904Z
LAST-MODIFIED:20251209T200511Z
UID:10011635-1765295100-1765299600@www.tcsatl.org
SUMMARY:Intramural Co-Ed Cross Country
DESCRIPTION:Carpool 5:00-5:15
URL:https://www.tcsatl.org/event/intramural-co-ed-cross-country-29/
END:VEVENT
BEGIN:VEVENT
DTSTART;TZID=America/New_York:20251209T163000
DTEND;TZID=America/New_York:20251209T173000
DTSTAMP:20260420T172811
CREATED:20250812T141904Z
LAST-MODIFIED:20251209T200511Z
UID:10011634-1765297800-1765301400@www.tcsatl.org
SUMMARY:Percussion Ensemble
DESCRIPTION:Carpool: 5:30 PM
URL:https://www.tcsatl.org/event/percussion-ensemble-33/
END:VEVENT
BEGIN:VEVENT
DTSTART;TZID=America/New_York:20251210T141500
DTEND;TZID=America/New_York:20251210T151500
DTSTAMP:20260420T172811
CREATED:20250812T141904Z
LAST-MODIFIED:20251209T200512Z
UID:10011637-1765376100-1765379700@www.tcsatl.org
SUMMARY:LSASS Math Lab
DESCRIPTION:Carpool 03:15-3:45PM
URL:https://www.tcsatl.org/event/lsass-math-lab-15/
END:VEVENT
END:VCALENDAR