BEGIN:VCALENDAR
VERSION:2.0
PRODID:-//The Children&#039;s School - ECPv6.15.15//NONSGML v1.0//EN
CALSCALE:GREGORIAN
METHOD:PUBLISH
X-ORIGINAL-URL:https://www.tcsatl.org
X-WR-CALDESC:Events for The Children&#039;s School
REFRESH-INTERVAL;VALUE=DURATION:PT1H
X-Robots-Tag:noindex
X-PUBLISHED-TTL:PT1H
BEGIN:VTIMEZONE
TZID:America/New_York
BEGIN:DAYLIGHT
TZOFFSETFROM:-0500
TZOFFSETTO:-0400
TZNAME:EDT
DTSTART:20230312T070000
END:DAYLIGHT
BEGIN:STANDARD
TZOFFSETFROM:-0400
TZOFFSETTO:-0500
TZNAME:EST
DTSTART:20231105T060000
END:STANDARD
BEGIN:DAYLIGHT
TZOFFSETFROM:-0500
TZOFFSETTO:-0400
TZNAME:EDT
DTSTART:20240310T070000
END:DAYLIGHT
BEGIN:STANDARD
TZOFFSETFROM:-0400
TZOFFSETTO:-0500
TZNAME:EST
DTSTART:20241103T060000
END:STANDARD
BEGIN:DAYLIGHT
TZOFFSETFROM:-0500
TZOFFSETTO:-0400
TZNAME:EDT
DTSTART:20250309T070000
END:DAYLIGHT
BEGIN:STANDARD
TZOFFSETFROM:-0400
TZOFFSETTO:-0500
TZNAME:EST
DTSTART:20251102T060000
END:STANDARD
END:VTIMEZONE
BEGIN:VEVENT
DTSTART;TZID=America/New_York:20241023T151500
DTEND;TZID=America/New_York:20241023T163000
DTSTAMP:20260421T164105
CREATED:20240812T184515Z
LAST-MODIFIED:20241022T204444Z
UID:10010747-1729696500-1729701000@www.tcsatl.org
SUMMARY:Intramural Co-Ed Tennis
DESCRIPTION:Carpool 4:40 – 4:55 PM
URL:https://www.tcsatl.org/event/intramural-co-ed-tennis-20/
END:VEVENT
BEGIN:VEVENT
DTSTART;VALUE=DATE:20241024
DTEND;VALUE=DATE:20241025
DTSTAMP:20260421T164105
CREATED:20240829T171451Z
LAST-MODIFIED:20241024T174441Z
UID:10011215-1729728000-1729814399@www.tcsatl.org
SUMMARY:E Day
DESCRIPTION:
URL:https://www.tcsatl.org/event/e-day-35/
END:VEVENT
BEGIN:VEVENT
DTSTART;TZID=America/New_York:20241024T120000
DTEND;TZID=America/New_York:20241024T130000
DTSTAMP:20260421T164105
CREATED:20240904T175943Z
LAST-MODIFIED:20241023T174443Z
UID:10011347-1729771200-1729774800@www.tcsatl.org
SUMMARY:3's/4's Ages & Stages Virtual Event
DESCRIPTION:Join Head of School Roslyn Benjamin and members of program leadership and/or Learning Strategies and Academic Support Services (LSASS) for "Ages and Stages\," a virtual enrichment and community-building discussion.\nWe will discuss topics related to the grade-level's cognitive and social-emotional development. Connect with one another and share strategies you use at home for your child's specific age and stage.\nA Zoom link will be sent within 24 hours of the event.
URL:https://www.tcsatl.org/event/3s-4s-ages-stages-virtual-event/
END:VEVENT
BEGIN:VEVENT
DTSTART;TZID=America/New_York:20241024T151500
DTEND;TZID=America/New_York:20241024T170000
DTSTAMP:20260421T164105
CREATED:20240812T184515Z
LAST-MODIFIED:20241024T205948Z
UID:10010748-1729782900-1729789200@www.tcsatl.org
SUMMARY:MAAC Boys Basketball
DESCRIPTION:
URL:https://www.tcsatl.org/event/maac-boys-basketball-65/
END:VEVENT
BEGIN:VEVENT
DTSTART;TZID=America/New_York:20241024T154500
DTEND;TZID=America/New_York:20241024T164500
DTSTAMP:20260421T164105
CREATED:20240812T184515Z
LAST-MODIFIED:20241023T205944Z
UID:10010749-1729784700-1729788300@www.tcsatl.org
SUMMARY:Intramural Co-Ed Ultimate Frisbee
DESCRIPTION:Carpool 4:45-5:00 PM
URL:https://www.tcsatl.org/event/intramural-co-ed-ultimate-frisbee-2/
END:VEVENT
BEGIN:VEVENT
DTSTART;TZID=America/New_York:20241024T160000
DTEND;TZID=America/New_York:20241024T180000
DTSTAMP:20260421T164105
CREATED:20240916T232952Z
LAST-MODIFIED:20241024T205948Z
UID:10011362-1729785600-1729792800@www.tcsatl.org
SUMMARY:MAAC Girls and Boys Cross Country Championship
DESCRIPTION:
URL:https://www.tcsatl.org/event/maac-girls-and-boys-cross-country-championship/
LOCATION:Sweet Apple Park\, Roswell\, GA\, United States
GEO:34.055198;-84.370475
END:VEVENT
BEGIN:VEVENT
DTSTART;VALUE=DATE:20241025
DTEND;VALUE=DATE:20241026
DTSTAMP:20260421T164105
CREATED:20240829T171450Z
LAST-MODIFIED:20241025T175943Z
UID:10011214-1729814400-1729900799@www.tcsatl.org
SUMMARY:F Day
DESCRIPTION:
URL:https://www.tcsatl.org/event/f-day-33/
END:VEVENT
BEGIN:VEVENT
DTSTART;TZID=America/New_York:20241025T151500
DTEND;TZID=America/New_York:20241025T170000
DTSTAMP:20260421T164105
CREATED:20240812T184516Z
LAST-MODIFIED:20241024T205949Z
UID:10010750-1729869300-1729875600@www.tcsatl.org
SUMMARY:MAAC Boys Basketball
DESCRIPTION:
URL:https://www.tcsatl.org/event/maac-boys-basketball-66/
END:VEVENT
BEGIN:VEVENT
DTSTART;TZID=America/New_York:20241025T151500
DTEND;TZID=America/New_York:20241025T170000
DTSTAMP:20260421T164105
CREATED:20240812T184516Z
LAST-MODIFIED:20241024T205948Z
UID:10010751-1729869300-1729875600@www.tcsatl.org
SUMMARY:MAAC Girls Basketball
DESCRIPTION:Carpool 5:00-5:15 PM
URL:https://www.tcsatl.org/event/maac-girls-basketball-3/
END:VEVENT
BEGIN:VEVENT
DTSTART;VALUE=DATE:20241028
DTEND;VALUE=DATE:20241029
DTSTAMP:20260421T164105
CREATED:20240829T171451Z
LAST-MODIFIED:20241028T181445Z
UID:10011217-1730073600-1730159999@www.tcsatl.org
SUMMARY:A Day
DESCRIPTION:
URL:https://www.tcsatl.org/event/a-day-34/
END:VEVENT
BEGIN:VEVENT
DTSTART;TZID=America/New_York:20241028T151500
DTEND;TZID=America/New_York:20241028T170000
DTSTAMP:20260421T164105
CREATED:20240812T184516Z
LAST-MODIFIED:20241027T212944Z
UID:10010753-1730128500-1730134800@www.tcsatl.org
SUMMARY:MAAC Boys Basketball
DESCRIPTION:
URL:https://www.tcsatl.org/event/maac-boys-basketball-67/
END:VEVENT
BEGIN:VEVENT
DTSTART;TZID=America/New_York:20241028T154500
DTEND;TZID=America/New_York:20241028T164500
DTSTAMP:20260421T164105
CREATED:20240812T184516Z
LAST-MODIFIED:20241027T212944Z
UID:10010752-1730130300-1730133900@www.tcsatl.org
SUMMARY:Intramural Co-Ed Ultimate Frisbee
DESCRIPTION:Carpool 4:45-5:00 PM
URL:https://www.tcsatl.org/event/intramural-co-ed-ultimate-frisbee-3/
END:VEVENT
BEGIN:VEVENT
DTSTART;VALUE=DATE:20241029
DTEND;VALUE=DATE:20241030
DTSTAMP:20260421T164105
CREATED:20240829T171451Z
LAST-MODIFIED:20241029T181548Z
UID:10011216-1730160000-1730246399@www.tcsatl.org
SUMMARY:B Day
DESCRIPTION:
URL:https://www.tcsatl.org/event/b-day-36/
END:VEVENT
BEGIN:VEVENT
DTSTART;TZID=America/New_York:20241029T120000
DTEND;TZID=America/New_York:20241029T130000
DTSTAMP:20260421T164105
CREATED:20240904T175944Z
LAST-MODIFIED:20241028T181447Z
UID:10011348-1730203200-1730206800@www.tcsatl.org
SUMMARY:1st Grade Ages & Stages Virtual Event
DESCRIPTION:Join Head of School Roslyn Benjamin and members of program leadership and/or Learning Strategies and Academic Support Services (LSASS) for "Ages and Stages\," a virtual enrichment and community-building discussion.\nWe will discuss topics related to the grade-level's cognitive and social-emotional development. Connect with one another and share strategies you use at home for your child's specific age and stage.\nA Zoom link will be sent within 24 hours of the event.
URL:https://www.tcsatl.org/event/1st-grade-ages-stages-virtual-event/
END:VEVENT
BEGIN:VEVENT
DTSTART;TZID=America/New_York:20241029T151500
DTEND;TZID=America/New_York:20241029T163000
DTSTAMP:20260421T164105
CREATED:20240812T184516Z
LAST-MODIFIED:20241028T212946Z
UID:10010755-1730214900-1730219400@www.tcsatl.org
SUMMARY:Intramural Co-Ed Tennis
DESCRIPTION:Carpool 4:40 – 4:55 PM
URL:https://www.tcsatl.org/event/intramural-co-ed-tennis-21/
END:VEVENT
BEGIN:VEVENT
DTSTART;TZID=America/New_York:20241029T151500
DTEND;TZID=America/New_York:20241029T170000
DTSTAMP:20260421T164105
CREATED:20240812T184516Z
LAST-MODIFIED:20241028T212945Z
UID:10010754-1730214900-1730221200@www.tcsatl.org
SUMMARY:MAAC Girls Basketball
DESCRIPTION:Carpool 5:00-5:15 PM
URL:https://www.tcsatl.org/event/maac-girls-basketball-4/
END:VEVENT
BEGIN:VEVENT
DTSTART;TZID=America/New_York:20241029T154500
DTEND;TZID=America/New_York:20241029T170000
DTSTAMP:20260421T164105
CREATED:20240812T184517Z
LAST-MODIFIED:20241028T212945Z
UID:10010756-1730216700-1730221200@www.tcsatl.org
SUMMARY:MAAC Girls and Boys Cross Country
DESCRIPTION:Carpool 5:00-5:15 PM
URL:https://www.tcsatl.org/event/maac-girls-and-boys-cross-country-28/
END:VEVENT
BEGIN:VEVENT
DTSTART;TZID=America/New_York:20241029T180000
DTEND;TZID=America/New_York:20241029T190000
DTSTAMP:20260421T164105
CREATED:20240924T141505Z
LAST-MODIFIED:20241029T181546Z
UID:10011369-1730224800-1730228400@www.tcsatl.org
SUMMARY:Math Night
DESCRIPTION:Join us for “Math Night” on Tues.\, Oct. 29\, 6:00 – 7:00 p.m.\, in the TCS Gym! \nLearn more about TCS’s math curriculum and experience the TCS math journey when students from 2nd\, 4th\, 5th and 8th grades showcase their math skills! \nRSVP Today! \nPlease click here to RSVP.
URL:https://www.tcsatl.org/event/math-night/
LOCATION:TCS Gym
END:VEVENT
BEGIN:VEVENT
DTSTART;VALUE=DATE:20241030
DTEND;VALUE=DATE:20241031
DTSTAMP:20260421T164105
CREATED:20240829T171451Z
LAST-MODIFIED:20241030T181445Z
UID:10011219-1730246400-1730332799@www.tcsatl.org
SUMMARY:C Day
DESCRIPTION:
URL:https://www.tcsatl.org/event/c-day-37/
END:VEVENT
BEGIN:VEVENT
DTSTART;TZID=America/New_York:20241030T074500
DTEND;TZID=America/New_York:20241030T090000
DTSTAMP:20260421T164105
CREATED:20240812T184517Z
LAST-MODIFIED:20241029T214448Z
UID:10010757-1730274300-1730278800@www.tcsatl.org
SUMMARY:MAAC Girls Basketball
DESCRIPTION:
URL:https://www.tcsatl.org/event/maac-girls-basketball-5/
END:VEVENT
BEGIN:VEVENT
DTSTART;TZID=America/New_York:20241030T151500
DTEND;TZID=America/New_York:20241030T163000
DTSTAMP:20260421T164105
CREATED:20240812T184517Z
LAST-MODIFIED:20241029T214448Z
UID:10010758-1730301300-1730305800@www.tcsatl.org
SUMMARY:Intramural Co-Ed Tennis
DESCRIPTION:Carpool 4:40 – 4:55 PM
URL:https://www.tcsatl.org/event/intramural-co-ed-tennis-22/
END:VEVENT
BEGIN:VEVENT
DTSTART;TZID=America/New_York:20241030T154500
DTEND;TZID=America/New_York:20241030T170000
DTSTAMP:20260421T164105
CREATED:20240812T184517Z
LAST-MODIFIED:20241029T214448Z
UID:10010759-1730303100-1730307600@www.tcsatl.org
SUMMARY:MAAC Girls and Boys Cross Country
DESCRIPTION:Carpool 5:00-5:15 PM
URL:https://www.tcsatl.org/event/maac-girls-and-boys-cross-country-29/
END:VEVENT
BEGIN:VEVENT
DTSTART;VALUE=DATE:20241031
DTEND;VALUE=DATE:20241101
DTSTAMP:20260421T164105
CREATED:20240829T171451Z
LAST-MODIFIED:20241031T183014Z
UID:10011218-1730332800-1730419199@www.tcsatl.org
SUMMARY:D Day
DESCRIPTION:
URL:https://www.tcsatl.org/event/d-day-34/
END:VEVENT
BEGIN:VEVENT
DTSTART;TZID=America/New_York:20241031T090000
DTEND;TZID=America/New_York:20241031T093000
DTSTAMP:20260421T164105
CREATED:20241003T151454Z
LAST-MODIFIED:20241030T181445Z
UID:10011373-1730365200-1730367000@www.tcsatl.org
SUMMARY:TCS Pack Parade
DESCRIPTION:
URL:https://www.tcsatl.org/event/tcs-pack-parade/
END:VEVENT
BEGIN:VEVENT
DTSTART;TZID=America/New_York:20241031T151500
DTEND;TZID=America/New_York:20241031T170000
DTSTAMP:20260421T164105
CREATED:20240812T184517Z
LAST-MODIFIED:20241030T220828Z
UID:10010760-1730387700-1730394000@www.tcsatl.org
SUMMARY:MAAC Boys Basketball
DESCRIPTION:
URL:https://www.tcsatl.org/event/maac-boys-basketball-68/
END:VEVENT
BEGIN:VEVENT
DTSTART;TZID=America/New_York:20241031T154500
DTEND;TZID=America/New_York:20241031T164500
DTSTAMP:20260421T164105
CREATED:20240812T184517Z
LAST-MODIFIED:20241030T220829Z
UID:10010761-1730389500-1730393100@www.tcsatl.org
SUMMARY:Intramural Co-Ed Ultimate Frisbee
DESCRIPTION:Carpool 4:45-5:00 PM
URL:https://www.tcsatl.org/event/intramural-co-ed-ultimate-frisbee-4/
END:VEVENT
BEGIN:VEVENT
DTSTART;VALUE=DATE:20241101
DTEND;VALUE=DATE:20241102
DTSTAMP:20260421T164105
CREATED:20240613T163259Z
LAST-MODIFIED:20241101T184441Z
UID:10010578-1730419200-1730505599@www.tcsatl.org
SUMMARY:TCS School Closed for Students - Report Writing Day - TCS
DESCRIPTION:
URL:https://www.tcsatl.org/event/school-closed-for-students-report-writing-day-tcs/
END:VEVENT
BEGIN:VEVENT
DTSTART;TZID=America/New_York:20241101T151500
DTEND;TZID=America/New_York:20241101T170000
DTSTAMP:20260421T164105
CREATED:20240812T184518Z
LAST-MODIFIED:20241031T221445Z
UID:10010762-1730474100-1730480400@www.tcsatl.org
SUMMARY:MAAC Boys Basketball
DESCRIPTION:
URL:https://www.tcsatl.org/event/maac-boys-basketball-69/
END:VEVENT
BEGIN:VEVENT
DTSTART;TZID=America/New_York:20241101T151500
DTEND;TZID=America/New_York:20241101T170000
DTSTAMP:20260421T164105
CREATED:20240812T184518Z
LAST-MODIFIED:20241031T221444Z
UID:10010764-1730474100-1730480400@www.tcsatl.org
SUMMARY:MAAC Girls Basketball
DESCRIPTION:Carpool 5:00-5:15 PM
URL:https://www.tcsatl.org/event/maac-girls-basketball-6/
END:VEVENT
BEGIN:VEVENT
DTSTART;TZID=America/New_York:20241101T154500
DTEND;TZID=America/New_York:20241101T170000
DTSTAMP:20260421T164105
CREATED:20240812T184518Z
LAST-MODIFIED:20241031T221444Z
UID:10010763-1730475900-1730480400@www.tcsatl.org
SUMMARY:MAAC Girls and Boys Cross Country
DESCRIPTION:Carpool 5:00-5:15 PM
URL:https://www.tcsatl.org/event/maac-girls-and-boys-cross-country-30/
END:VEVENT
END:VCALENDAR