BEGIN:VCALENDAR
VERSION:2.0
PRODID:-//The Children&#039;s School - ECPv6.15.15//NONSGML v1.0//EN
CALSCALE:GREGORIAN
METHOD:PUBLISH
X-ORIGINAL-URL:https://www.tcsatl.org
X-WR-CALDESC:Events for The Children&#039;s School
REFRESH-INTERVAL;VALUE=DURATION:PT1H
X-Robots-Tag:noindex
X-PUBLISHED-TTL:PT1H
BEGIN:VTIMEZONE
TZID:America/New_York
BEGIN:DAYLIGHT
TZOFFSETFROM:-0500
TZOFFSETTO:-0400
TZNAME:EDT
DTSTART:20210314T070000
END:DAYLIGHT
BEGIN:STANDARD
TZOFFSETFROM:-0400
TZOFFSETTO:-0500
TZNAME:EST
DTSTART:20211107T060000
END:STANDARD
BEGIN:DAYLIGHT
TZOFFSETFROM:-0500
TZOFFSETTO:-0400
TZNAME:EDT
DTSTART:20220313T070000
END:DAYLIGHT
BEGIN:STANDARD
TZOFFSETFROM:-0400
TZOFFSETTO:-0500
TZNAME:EST
DTSTART:20221106T060000
END:STANDARD
BEGIN:DAYLIGHT
TZOFFSETFROM:-0500
TZOFFSETTO:-0400
TZNAME:EDT
DTSTART:20230312T070000
END:DAYLIGHT
BEGIN:STANDARD
TZOFFSETFROM:-0400
TZOFFSETTO:-0500
TZNAME:EST
DTSTART:20231105T060000
END:STANDARD
END:VTIMEZONE
BEGIN:VEVENT
DTSTART;TZID=America/New_York:20221012T151500
DTEND;TZID=America/New_York:20221012T163000
DTSTAMP:20260423T023316
CREATED:20220815T164201Z
LAST-MODIFIED:20221011T202805Z
UID:10008693-1665587700-1665592200@www.tcsatl.org
SUMMARY:TCS Players
DESCRIPTION:
URL:https://www.tcsatl.org/event/tcs-players-63/
END:VEVENT
BEGIN:VEVENT
DTSTART;TZID=America/New_York:20221012T151500
DTEND;TZID=America/New_York:20221012T163000
DTSTAMP:20260423T023316
CREATED:20220815T171221Z
LAST-MODIFIED:20221012T195825Z
UID:10009432-1665587700-1665592200@www.tcsatl.org
SUMMARY:MAAC Boys & Girls Cross Country (6th-8th)
DESCRIPTION:
URL:https://www.tcsatl.org/event/maac-boys-girls-cross-country-6th-8th-26/
END:VEVENT
BEGIN:VEVENT
DTSTART;TZID=America/New_York:20221012T151500
DTEND;TZID=America/New_York:20221012T163000
DTSTAMP:20260423T023316
CREATED:20220815T171221Z
LAST-MODIFIED:20221012T195825Z
UID:10009434-1665587700-1665592200@www.tcsatl.org
SUMMARY:Intramural Co-Ed Tennis (3rd-5th)
DESCRIPTION:
URL:https://www.tcsatl.org/event/intramural-co-ed-tennis-3rd-5th-18/
END:VEVENT
BEGIN:VEVENT
DTSTART;VALUE=DATE:20221013
DTEND;VALUE=DATE:20221014
DTSTAMP:20260423T023316
CREATED:20220907T181431Z
LAST-MODIFIED:20221013T211548Z
UID:10009531-1665619200-1665705599@www.tcsatl.org
SUMMARY:D Day
DESCRIPTION:
URL:https://www.tcsatl.org/event/d-day-5/
END:VEVENT
BEGIN:VEVENT
DTSTART;TZID=America/New_York:20221013T151500
DTEND;TZID=America/New_York:20221013T161500
DTSTAMP:20260423T023316
CREATED:20220815T164201Z
LAST-MODIFIED:20221012T203127Z
UID:10008696-1665674100-1665677700@www.tcsatl.org
SUMMARY:Gymnastics Level II
DESCRIPTION:
URL:https://www.tcsatl.org/event/gymnastics-level-ii-10/
END:VEVENT
BEGIN:VEVENT
DTSTART;TZID=America/New_York:20221013T151500
DTEND;TZID=America/New_York:20221013T163000
DTSTAMP:20260423T023316
CREATED:20220815T164201Z
LAST-MODIFIED:20221013T202801Z
UID:10008695-1665674100-1665678600@www.tcsatl.org
SUMMARY:TCS Voices
DESCRIPTION:
URL:https://www.tcsatl.org/event/tcs-voices-36/
END:VEVENT
BEGIN:VEVENT
DTSTART;TZID=America/New_York:20221013T151500
DTEND;TZID=America/New_York:20221013T163000
DTSTAMP:20260423T023316
CREATED:20220815T171221Z
LAST-MODIFIED:20221013T195800Z
UID:10009436-1665674100-1665678600@www.tcsatl.org
SUMMARY:Intramural Boys & Girls Cross Country (3rd-5th)
DESCRIPTION:
URL:https://www.tcsatl.org/event/intramural-boys-girls-cross-country-3rd-5th-18/
END:VEVENT
BEGIN:VEVENT
DTSTART;TZID=America/New_York:20221013T151500
DTEND;TZID=America/New_York:20221013T163000
DTSTAMP:20260423T023316
CREATED:20220815T171221Z
LAST-MODIFIED:20221013T195800Z
UID:10009445-1665674100-1665678600@www.tcsatl.org
SUMMARY:MAAC Girls Volleyball (6th - 8th)
DESCRIPTION:
URL:https://www.tcsatl.org/event/maac-girls-volleyball-6th-8th-26/
END:VEVENT
BEGIN:VEVENT
DTSTART;TZID=America/New_York:20221013T151500
DTEND;TZID=America/New_York:20221013T164500
DTSTAMP:20260423T023316
CREATED:20220815T164202Z
LAST-MODIFIED:20221013T202801Z
UID:10008697-1665674100-1665679500@www.tcsatl.org
SUMMARY:Kids TV - Video & Film Production Class
DESCRIPTION:
URL:https://www.tcsatl.org/event/kids-tv-video-film-production-class-10/
END:VEVENT
BEGIN:VEVENT
DTSTART;TZID=America/New_York:20221013T161500
DTEND;TZID=America/New_York:20221013T171500
DTSTAMP:20260423T023316
CREATED:20220815T164201Z
LAST-MODIFIED:20221013T202801Z
UID:10008694-1665677700-1665681300@www.tcsatl.org
SUMMARY:Ballet/Tap Level II
DESCRIPTION:
URL:https://www.tcsatl.org/event/ballet-tap-level-ii-10/
END:VEVENT
BEGIN:VEVENT
DTSTART;VALUE=DATE:20221014
DTEND;VALUE=DATE:20221015
DTSTAMP:20260423T023316
CREATED:20220907T181431Z
LAST-MODIFIED:20221014T212945Z
UID:10009532-1665705600-1665791999@www.tcsatl.org
SUMMARY:E Day
DESCRIPTION:
URL:https://www.tcsatl.org/event/e-day-6/
END:VEVENT
BEGIN:VEVENT
DTSTART;TZID=America/New_York:20221014T151500
DTEND;TZID=America/New_York:20221014T161500
DTSTAMP:20260423T023317
CREATED:20220815T164202Z
LAST-MODIFIED:20221013T202801Z
UID:10008698-1665760500-1665764100@www.tcsatl.org
SUMMARY:Amazing Athletes
DESCRIPTION:
URL:https://www.tcsatl.org/event/amazing-athletes-33/
END:VEVENT
BEGIN:VEVENT
DTSTART;TZID=America/New_York:20221014T151500
DTEND;TZID=America/New_York:20221014T163000
DTSTAMP:20260423T023317
CREATED:20220815T171222Z
LAST-MODIFIED:20221014T195914Z
UID:10009447-1665760500-1665765000@www.tcsatl.org
SUMMARY:MAAC Boys & Girls Cross Country (6th-8th)
DESCRIPTION:
URL:https://www.tcsatl.org/event/maac-boys-girls-cross-country-6th-8th-27/
END:VEVENT
BEGIN:VEVENT
DTSTART;TZID=America/New_York:20221014T161500
DTEND;TZID=America/New_York:20221014T171500
DTSTAMP:20260423T023317
CREATED:20220815T164202Z
LAST-MODIFIED:20221014T202936Z
UID:10008699-1665764100-1665767700@www.tcsatl.org
SUMMARY:Intro to Ballet/Tap
DESCRIPTION:
URL:https://www.tcsatl.org/event/intro-to-ballet-tap-9/
END:VEVENT
BEGIN:VEVENT
DTSTART;VALUE=DATE:20221017
DTEND;VALUE=DATE:20221018
DTSTAMP:20260423T023317
CREATED:20220907T181431Z
LAST-MODIFIED:20221017T214340Z
UID:10009537-1665964800-1666051199@www.tcsatl.org
SUMMARY:F Day
DESCRIPTION:
URL:https://www.tcsatl.org/event/f-day-5/
END:VEVENT
BEGIN:VEVENT
DTSTART;TZID=America/New_York:20221017T151500
DTEND;TZID=America/New_York:20221017T161500
DTSTAMP:20260423T023317
CREATED:20220815T164202Z
LAST-MODIFIED:20221016T204248Z
UID:10008700-1666019700-1666023300@www.tcsatl.org
SUMMARY:Bricks4Kidz
DESCRIPTION:
URL:https://www.tcsatl.org/event/bricks4kidz-11/
END:VEVENT
BEGIN:VEVENT
DTSTART;TZID=America/New_York:20221017T151500
DTEND;TZID=America/New_York:20221017T163000
DTSTAMP:20260423T023317
CREATED:20220815T164202Z
LAST-MODIFIED:20221016T204248Z
UID:10008701-1666019700-1666024200@www.tcsatl.org
SUMMARY:TCS Players
DESCRIPTION:
URL:https://www.tcsatl.org/event/tcs-players-64/
END:VEVENT
BEGIN:VEVENT
DTSTART;VALUE=DATE:20221018
DTEND;VALUE=DATE:20221019
DTSTAMP:20260423T023317
CREATED:20220907T181431Z
LAST-MODIFIED:20221018T214546Z
UID:10009536-1666051200-1666137599@www.tcsatl.org
SUMMARY:A Day
DESCRIPTION:
URL:https://www.tcsatl.org/event/a-day-5/
END:VEVENT
BEGIN:VEVENT
DTSTART;TZID=America/New_York:20221018T151500
DTEND;TZID=America/New_York:20221018T161500
DTSTAMP:20260423T023317
CREATED:20220815T164203Z
LAST-MODIFIED:20221017T204312Z
UID:10008703-1666106100-1666109700@www.tcsatl.org
SUMMARY:Percussion Ensemble
DESCRIPTION:
URL:https://www.tcsatl.org/event/percussion-ensemble-11/
END:VEVENT
BEGIN:VEVENT
DTSTART;TZID=America/New_York:20221018T151500
DTEND;TZID=America/New_York:20221018T163000
DTSTAMP:20260423T023317
CREATED:20220815T164203Z
LAST-MODIFIED:20221017T204311Z
UID:10008702-1666106100-1666110600@www.tcsatl.org
SUMMARY:TCS Jr. Voices
DESCRIPTION:
URL:https://www.tcsatl.org/event/tcs-jr-voices-7/
END:VEVENT
BEGIN:VEVENT
DTSTART;TZID=America/New_York:20221018T161500
DTEND;TZID=America/New_York:20221018T171500
DTSTAMP:20260423T023317
CREATED:20220815T164203Z
LAST-MODIFIED:20221018T204305Z
UID:10008704-1666109700-1666113300@www.tcsatl.org
SUMMARY:Intro to Drums
DESCRIPTION:
URL:https://www.tcsatl.org/event/intro-to-drums-11/
END:VEVENT
BEGIN:VEVENT
DTSTART;VALUE=DATE:20221019
DTEND;VALUE=DATE:20221020
DTSTAMP:20260423T023317
CREATED:20220907T181431Z
LAST-MODIFIED:20221019T214339Z
UID:10009535-1666137600-1666223999@www.tcsatl.org
SUMMARY:B Day
DESCRIPTION:
URL:https://www.tcsatl.org/event/b-day-7/
END:VEVENT
BEGIN:VEVENT
DTSTART;TZID=America/New_York:20221019T120000
DTEND;TZID=America/New_York:20221019T130000
DTSTAMP:20260423T023317
CREATED:20220901T181247Z
LAST-MODIFIED:20221018T214546Z
UID:10009459-1666180800-1666184400@www.tcsatl.org
SUMMARY:PA Meeting - via ZOOM
DESCRIPTION:Book Club with Roz
URL:https://www.tcsatl.org/event/pa-meeting-via-zoom-2/
END:VEVENT
BEGIN:VEVENT
DTSTART;TZID=America/New_York:20221019T151500
DTEND;TZID=America/New_York:20221019T161500
DTSTAMP:20260423T023317
CREATED:20220815T164203Z
LAST-MODIFIED:20221018T204305Z
UID:10008705-1666192500-1666196100@www.tcsatl.org
SUMMARY:TCS Jr. Players
DESCRIPTION:
URL:https://www.tcsatl.org/event/tcs-jr-players-37/
END:VEVENT
BEGIN:VEVENT
DTSTART;TZID=America/New_York:20221019T151500
DTEND;TZID=America/New_York:20221019T163000
DTSTAMP:20260423T023317
CREATED:20220815T164203Z
LAST-MODIFIED:20221018T204305Z
UID:10008706-1666192500-1666197000@www.tcsatl.org
SUMMARY:TCS Players
DESCRIPTION:
URL:https://www.tcsatl.org/event/tcs-players-65/
END:VEVENT
BEGIN:VEVENT
DTSTART;TZID=America/New_York:20221019T160000
DTEND;TZID=America/New_York:20221019T180000
DTSTAMP:20260423T023317
CREATED:20220809T171146Z
LAST-MODIFIED:20221019T195805Z
UID:10008580-1666195200-1666202400@www.tcsatl.org
SUMMARY:MAAC Girls Volleyball Championship - Location TBD
DESCRIPTION:
URL:https://www.tcsatl.org/event/maac-girls-volleyball-championship-location-tbd/
END:VEVENT
BEGIN:VEVENT
DTSTART;VALUE=DATE:20221020
DTEND;VALUE=DATE:20221021
DTSTAMP:20260423T023317
CREATED:20220907T181431Z
LAST-MODIFIED:20221020T214349Z
UID:10009534-1666224000-1666310399@www.tcsatl.org
SUMMARY:C Day
DESCRIPTION:
URL:https://www.tcsatl.org/event/c-day-7/
END:VEVENT
BEGIN:VEVENT
DTSTART;TZID=America/New_York:20221020T151500
DTEND;TZID=America/New_York:20221020T161500
DTSTAMP:20260423T023317
CREATED:20220815T164203Z
LAST-MODIFIED:20221019T204252Z
UID:10008708-1666278900-1666282500@www.tcsatl.org
SUMMARY:Gymnastics Level II
DESCRIPTION:
URL:https://www.tcsatl.org/event/gymnastics-level-ii-11/
END:VEVENT
BEGIN:VEVENT
DTSTART;TZID=America/New_York:20221020T151500
DTEND;TZID=America/New_York:20221020T163000
DTSTAMP:20260423T023317
CREATED:20220815T164204Z
LAST-MODIFIED:20221019T204252Z
UID:10008709-1666278900-1666283400@www.tcsatl.org
SUMMARY:TCS Voices
DESCRIPTION:
URL:https://www.tcsatl.org/event/tcs-voices-37/
END:VEVENT
BEGIN:VEVENT
DTSTART;TZID=America/New_York:20221020T151500
DTEND;TZID=America/New_York:20221020T164500
DTSTAMP:20260423T023317
CREATED:20220815T164204Z
LAST-MODIFIED:20221020T204326Z
UID:10008710-1666278900-1666284300@www.tcsatl.org
SUMMARY:Kids TV - Video & Film Production Class
DESCRIPTION:
URL:https://www.tcsatl.org/event/kids-tv-video-film-production-class-11/
END:VEVENT
END:VCALENDAR