BEGIN:VCALENDAR
VERSION:2.0
PRODID:-//The Children&#039;s School - ECPv6.15.15//NONSGML v1.0//EN
CALSCALE:GREGORIAN
METHOD:PUBLISH
X-ORIGINAL-URL:https://www.tcsatl.org
X-WR-CALDESC:Events for The Children&#039;s School
REFRESH-INTERVAL;VALUE=DURATION:PT1H
X-Robots-Tag:noindex
X-PUBLISHED-TTL:PT1H
BEGIN:VTIMEZONE
TZID:America/New_York
BEGIN:DAYLIGHT
TZOFFSETFROM:-0500
TZOFFSETTO:-0400
TZNAME:EDT
DTSTART:20210314T070000
END:DAYLIGHT
BEGIN:STANDARD
TZOFFSETFROM:-0400
TZOFFSETTO:-0500
TZNAME:EST
DTSTART:20211107T060000
END:STANDARD
BEGIN:DAYLIGHT
TZOFFSETFROM:-0500
TZOFFSETTO:-0400
TZNAME:EDT
DTSTART:20220313T070000
END:DAYLIGHT
BEGIN:STANDARD
TZOFFSETFROM:-0400
TZOFFSETTO:-0500
TZNAME:EST
DTSTART:20221106T060000
END:STANDARD
BEGIN:DAYLIGHT
TZOFFSETFROM:-0500
TZOFFSETTO:-0400
TZNAME:EDT
DTSTART:20230312T070000
END:DAYLIGHT
BEGIN:STANDARD
TZOFFSETFROM:-0400
TZOFFSETTO:-0500
TZNAME:EST
DTSTART:20231105T060000
END:STANDARD
END:VTIMEZONE
BEGIN:VEVENT
DTSTART;TZID=America/New_York:20220831T151500
DTEND;TZID=America/New_York:20220831T163000
DTSTAMP:20260423T051446
CREATED:20220815T171208Z
LAST-MODIFIED:20220831T175823Z
UID:10009193-1661958900-1661963400@www.tcsatl.org
SUMMARY:MAAC Boys & Girls Cross Country (6th-8th)
DESCRIPTION:
URL:https://www.tcsatl.org/event/maac-boys-girls-cross-country-6th-8th-8/
END:VEVENT
BEGIN:VEVENT
DTSTART;TZID=America/New_York:20220901T151500
DTEND;TZID=America/New_York:20220901T161500
DTSTAMP:20260423T051446
CREATED:20220815T164150Z
LAST-MODIFIED:20220901T181256Z
UID:10008617-1662045300-1662048900@www.tcsatl.org
SUMMARY:Gymnastics Level II
DESCRIPTION:
URL:https://www.tcsatl.org/event/gymnastics-level-ii-4/
END:VEVENT
BEGIN:VEVENT
DTSTART;TZID=America/New_York:20220901T151500
DTEND;TZID=America/New_York:20220901T163000
DTSTAMP:20260423T051446
CREATED:20220815T171208Z
LAST-MODIFIED:20220901T175800Z
UID:10009194-1662045300-1662049800@www.tcsatl.org
SUMMARY:Intramural Boys & Girls Cross Country (3rd-5th)
DESCRIPTION:
URL:https://www.tcsatl.org/event/intramural-boys-girls-cross-country-3rd-5th-6/
END:VEVENT
BEGIN:VEVENT
DTSTART;TZID=America/New_York:20220901T151500
DTEND;TZID=America/New_York:20220901T163000
DTSTAMP:20260423T051446
CREATED:20220815T171209Z
LAST-MODIFIED:20220901T175759Z
UID:10009195-1662045300-1662049800@www.tcsatl.org
SUMMARY:MAAC Girls Volleyball (6th - 8th)
DESCRIPTION:
URL:https://www.tcsatl.org/event/maac-girls-volleyball-6th-8th-8/
END:VEVENT
BEGIN:VEVENT
DTSTART;TZID=America/New_York:20220901T151500
DTEND;TZID=America/New_York:20220901T164500
DTSTAMP:20260423T051446
CREATED:20220815T164150Z
LAST-MODIFIED:20220901T181256Z
UID:10008618-1662045300-1662050700@www.tcsatl.org
SUMMARY:Kids TV - Video & Film Production Class
DESCRIPTION:
URL:https://www.tcsatl.org/event/kids-tv-video-film-production-class-4/
END:VEVENT
BEGIN:VEVENT
DTSTART;TZID=America/New_York:20220901T161500
DTEND;TZID=America/New_York:20220901T171500
DTSTAMP:20260423T051446
CREATED:20220815T164151Z
LAST-MODIFIED:20220901T181256Z
UID:10008619-1662048900-1662052500@www.tcsatl.org
SUMMARY:Ballet/Tap Level II
DESCRIPTION:
URL:https://www.tcsatl.org/event/ballet-tap-level-ii-4/
END:VEVENT
BEGIN:VEVENT
DTSTART;TZID=America/New_York:20220902T151500
DTEND;TZID=America/New_York:20220902T161500
DTSTAMP:20260423T051446
CREATED:20220815T164151Z
LAST-MODIFIED:20220902T182759Z
UID:10008621-1662131700-1662135300@www.tcsatl.org
SUMMARY:Amazing Athletes
DESCRIPTION:
URL:https://www.tcsatl.org/event/amazing-athletes-27/
END:VEVENT
BEGIN:VEVENT
DTSTART;TZID=America/New_York:20220902T151500
DTEND;TZID=America/New_York:20220902T163000
DTSTAMP:20260423T051446
CREATED:20220815T171209Z
LAST-MODIFIED:20220902T175752Z
UID:10009211-1662131700-1662136200@www.tcsatl.org
SUMMARY:MAAC Girls Volleyball (6th - 8th)
DESCRIPTION:
URL:https://www.tcsatl.org/event/maac-girls-volleyball-6th-8th-9/
END:VEVENT
BEGIN:VEVENT
DTSTART;TZID=America/New_York:20220902T151500
DTEND;TZID=America/New_York:20220902T163000
DTSTAMP:20260423T051446
CREATED:20220815T171209Z
LAST-MODIFIED:20220902T175752Z
UID:10009213-1662131700-1662136200@www.tcsatl.org
SUMMARY:MAAC Boys & Girls Cross Country (6th-8th)
DESCRIPTION:
URL:https://www.tcsatl.org/event/maac-boys-girls-cross-country-6th-8th-9/
END:VEVENT
BEGIN:VEVENT
DTSTART;TZID=America/New_York:20220902T161500
DTEND;TZID=America/New_York:20220902T171500
DTSTAMP:20260423T051446
CREATED:20220815T164151Z
LAST-MODIFIED:20220902T182759Z
UID:10008620-1662135300-1662138900@www.tcsatl.org
SUMMARY:Intro to Ballet/Tap
DESCRIPTION:
URL:https://www.tcsatl.org/event/intro-to-ballet-tap-3/
END:VEVENT
BEGIN:VEVENT
DTSTART;VALUE=DATE:20220905
DTEND;VALUE=DATE:20220906
DTSTAMP:20260423T051446
CREATED:20220728T163343Z
LAST-MODIFIED:20220905T181256Z
UID:10008524-1662336000-1662422399@www.tcsatl.org
SUMMARY:Labor Day - School Closed
DESCRIPTION:
URL:https://www.tcsatl.org/event/labor-day-school-closed-2/
END:VEVENT
BEGIN:VEVENT
DTSTART;TZID=America/New_York:20220905T151500
DTEND;TZID=America/New_York:20220905T161500
DTSTAMP:20260423T051446
CREATED:20220815T164151Z
LAST-MODIFIED:20220905T182755Z
UID:10008622-1662390900-1662394500@www.tcsatl.org
SUMMARY:Bricks4Kidz
DESCRIPTION:
URL:https://www.tcsatl.org/event/bricks4kidz-5/
END:VEVENT
BEGIN:VEVENT
DTSTART;TZID=America/New_York:20220905T151500
DTEND;TZID=America/New_York:20220905T163000
DTSTAMP:20260423T051446
CREATED:20220815T164151Z
LAST-MODIFIED:20220905T182755Z
UID:10008623-1662390900-1662395400@www.tcsatl.org
SUMMARY:TCS Players
DESCRIPTION:
URL:https://www.tcsatl.org/event/tcs-players-52/
END:VEVENT
BEGIN:VEVENT
DTSTART;TZID=America/New_York:20220905T151500
DTEND;TZID=America/New_York:20220905T163000
DTSTAMP:20260423T051446
CREATED:20220815T171209Z
LAST-MODIFIED:20220905T175746Z
UID:10009221-1662390900-1662395400@www.tcsatl.org
SUMMARY:MAAC Girls Volleyball (6th - 8th)
DESCRIPTION:
URL:https://www.tcsatl.org/event/maac-girls-volleyball-6th-8th-10/
END:VEVENT
BEGIN:VEVENT
DTSTART;TZID=America/New_York:20220905T151500
DTEND;TZID=America/New_York:20220905T163000
DTSTAMP:20260423T051446
CREATED:20220815T171209Z
LAST-MODIFIED:20220905T175746Z
UID:10009223-1662390900-1662395400@www.tcsatl.org
SUMMARY:Intramural Boys & Girls Cross Country (3rd-5th)
DESCRIPTION:
URL:https://www.tcsatl.org/event/intramural-boys-girls-cross-country-3rd-5th-7/
END:VEVENT
BEGIN:VEVENT
DTSTART;TZID=America/New_York:20220906T151500
DTEND;TZID=America/New_York:20220906T161500
DTSTAMP:20260423T051446
CREATED:20220815T164151Z
LAST-MODIFIED:20220906T184245Z
UID:10008626-1662477300-1662480900@www.tcsatl.org
SUMMARY:Percussion Ensemble
DESCRIPTION:
URL:https://www.tcsatl.org/event/percussion-ensemble-5/
END:VEVENT
BEGIN:VEVENT
DTSTART;TZID=America/New_York:20220906T151500
DTEND;TZID=America/New_York:20220906T163000
DTSTAMP:20260423T051446
CREATED:20220815T164151Z
LAST-MODIFIED:20220906T184245Z
UID:10008625-1662477300-1662481800@www.tcsatl.org
SUMMARY:TCS Jr. Voices
DESCRIPTION:
URL:https://www.tcsatl.org/event/tcs-jr-voices/
END:VEVENT
BEGIN:VEVENT
DTSTART;TZID=America/New_York:20220906T151500
DTEND;TZID=America/New_York:20220906T163000
DTSTAMP:20260423T051446
CREATED:20220815T171209Z
LAST-MODIFIED:20220906T175858Z
UID:10009226-1662477300-1662481800@www.tcsatl.org
SUMMARY:Intramural Co-Ed Tennis (3rd-5th)
DESCRIPTION:
URL:https://www.tcsatl.org/event/intramural-co-ed-tennis-3rd-5th-7/
END:VEVENT
BEGIN:VEVENT
DTSTART;TZID=America/New_York:20220906T151500
DTEND;TZID=America/New_York:20220906T163000
DTSTAMP:20260423T051446
CREATED:20220815T171210Z
LAST-MODIFIED:20220906T175858Z
UID:10009232-1662477300-1662481800@www.tcsatl.org
SUMMARY:Intramural Co-Ed Volleyball (3rd-5th)
DESCRIPTION:
URL:https://www.tcsatl.org/event/intramural-co-ed-volleyball-3rd-5th-7/
END:VEVENT
BEGIN:VEVENT
DTSTART;TZID=America/New_York:20220906T151500
DTEND;TZID=America/New_York:20220906T163000
DTSTAMP:20260423T051446
CREATED:20220815T171210Z
LAST-MODIFIED:20220906T175858Z
UID:10009229-1662477300-1662481800@www.tcsatl.org
SUMMARY:MAAC Boys & Girls Cross Country (6th-8th)
DESCRIPTION:
URL:https://www.tcsatl.org/event/maac-boys-girls-cross-country-6th-8th-10/
END:VEVENT
BEGIN:VEVENT
DTSTART;TZID=America/New_York:20220906T161500
DTEND;TZID=America/New_York:20220906T171500
DTSTAMP:20260423T051446
CREATED:20220815T164151Z
LAST-MODIFIED:20220906T184245Z
UID:10008624-1662480900-1662484500@www.tcsatl.org
SUMMARY:Intro to Drums
DESCRIPTION:
URL:https://www.tcsatl.org/event/intro-to-drums-5/
END:VEVENT
BEGIN:VEVENT
DTSTART;VALUE=DATE:20220907
DTEND;VALUE=DATE:20220908
DTSTAMP:20260423T051446
CREATED:20220907T181428Z
LAST-MODIFIED:20220907T181428Z
UID:10009474-1662508800-1662595199@www.tcsatl.org
SUMMARY:B Day
DESCRIPTION:
URL:https://www.tcsatl.org/event/b-day-2/
END:VEVENT
BEGIN:VEVENT
DTSTART;VALUE=DATE:20220907
DTEND;VALUE=DATE:20220908
DTSTAMP:20260423T051446
CREATED:20220907T181428Z
LAST-MODIFIED:20220907T181428Z
UID:10009470-1662508800-1662595199@www.tcsatl.org
SUMMARY:B Day
DESCRIPTION:
URL:https://www.tcsatl.org/event/b-day/
END:VEVENT
BEGIN:VEVENT
DTSTART;TZID=America/New_York:20220907T074500
DTEND;TZID=America/New_York:20220907T090000
DTSTAMP:20260423T051446
CREATED:20220815T171210Z
LAST-MODIFIED:20220906T175858Z
UID:10009234-1662536700-1662541200@www.tcsatl.org
SUMMARY:Intramural Co-Ed Volleyball (3rd - 5th)
DESCRIPTION:
URL:https://www.tcsatl.org/event/intramural-co-ed-volleyball-3rd-5th-8/
END:VEVENT
BEGIN:VEVENT
DTSTART;TZID=America/New_York:20220907T120000
DTEND;TZID=America/New_York:20220907T130000
DTSTAMP:20260423T051446
CREATED:20220901T181246Z
LAST-MODIFIED:20220906T181252Z
UID:10009449-1662552000-1662555600@www.tcsatl.org
SUMMARY:PA Meeting - via ZOOM
DESCRIPTION:
URL:https://www.tcsatl.org/event/pa-meeting-via-zoom/
END:VEVENT
BEGIN:VEVENT
DTSTART;TZID=America/New_York:20220907T151500
DTEND;TZID=America/New_York:20220907T161500
DTSTAMP:20260423T051446
CREATED:20220815T164152Z
LAST-MODIFIED:20220907T184244Z
UID:10008627-1662563700-1662567300@www.tcsatl.org
SUMMARY:TCS Jr. Players
DESCRIPTION:
URL:https://www.tcsatl.org/event/tcs-jr-players-31/
END:VEVENT
BEGIN:VEVENT
DTSTART;TZID=America/New_York:20220907T151500
DTEND;TZID=America/New_York:20220907T163000
DTSTAMP:20260423T051446
CREATED:20220815T164152Z
LAST-MODIFIED:20220907T184244Z
UID:10008628-1662563700-1662568200@www.tcsatl.org
SUMMARY:TCS Players
DESCRIPTION:
URL:https://www.tcsatl.org/event/tcs-players-53/
END:VEVENT
BEGIN:VEVENT
DTSTART;TZID=America/New_York:20220907T151500
DTEND;TZID=America/New_York:20220907T163000
DTSTAMP:20260423T051446
CREATED:20220815T171210Z
LAST-MODIFIED:20220907T175904Z
UID:10009237-1662563700-1662568200@www.tcsatl.org
SUMMARY:Intramural Co-Ed Tennis (3rd-5th)
DESCRIPTION:
URL:https://www.tcsatl.org/event/intramural-co-ed-tennis-3rd-5th-8/
END:VEVENT
BEGIN:VEVENT
DTSTART;TZID=America/New_York:20220907T151500
DTEND;TZID=America/New_York:20220907T163000
DTSTAMP:20260423T051446
CREATED:20220815T171210Z
LAST-MODIFIED:20220907T175904Z
UID:10009238-1662563700-1662568200@www.tcsatl.org
SUMMARY:MAAC Boys & Girls Cross Country (6th-8th)
DESCRIPTION:
URL:https://www.tcsatl.org/event/maac-boys-girls-cross-country-6th-8th-11/
END:VEVENT
BEGIN:VEVENT
DTSTART;VALUE=DATE:20220908
DTEND;VALUE=DATE:20220909
DTSTAMP:20260423T051446
CREATED:20220907T181427Z
LAST-MODIFIED:20220908T182807Z
UID:10009466-1662595200-1662681599@www.tcsatl.org
SUMMARY:C Day
DESCRIPTION:
URL:https://www.tcsatl.org/event/c-day/
END:VEVENT
END:VCALENDAR