BEGIN:VCALENDAR
VERSION:2.0
PRODID:-//The Children&#039;s School - ECPv6.15.15//NONSGML v1.0//EN
CALSCALE:GREGORIAN
METHOD:PUBLISH
X-WR-CALNAME:The Children&#039;s School
X-ORIGINAL-URL:https://www.tcsatl.org
X-WR-CALDESC:Events for The Children&#039;s School
REFRESH-INTERVAL;VALUE=DURATION:PT1H
X-Robots-Tag:noindex
X-PUBLISHED-TTL:PT1H
BEGIN:VTIMEZONE
TZID:America/New_York
BEGIN:DAYLIGHT
TZOFFSETFROM:-0500
TZOFFSETTO:-0400
TZNAME:EDT
DTSTART:20240310T070000
END:DAYLIGHT
BEGIN:STANDARD
TZOFFSETFROM:-0400
TZOFFSETTO:-0500
TZNAME:EST
DTSTART:20241103T060000
END:STANDARD
BEGIN:DAYLIGHT
TZOFFSETFROM:-0500
TZOFFSETTO:-0400
TZNAME:EDT
DTSTART:20250309T070000
END:DAYLIGHT
BEGIN:STANDARD
TZOFFSETFROM:-0400
TZOFFSETTO:-0500
TZNAME:EST
DTSTART:20251102T060000
END:STANDARD
BEGIN:DAYLIGHT
TZOFFSETFROM:-0500
TZOFFSETTO:-0400
TZNAME:EDT
DTSTART:20260308T070000
END:DAYLIGHT
BEGIN:STANDARD
TZOFFSETFROM:-0400
TZOFFSETTO:-0500
TZNAME:EST
DTSTART:20261101T060000
END:STANDARD
END:VTIMEZONE
BEGIN:VEVENT
DTSTART;TZID=America/New_York:20250507T154500
DTEND;TZID=America/New_York:20250507T170000
DTSTAMP:20260421T011328
CREATED:20240812T184600Z
LAST-MODIFIED:20250112T161617Z
UID:10010964-1746632700-1746637200@www.tcsatl.org
SUMMARY:MAAC Girls and Boys Cross Country
DESCRIPTION:Carpool 5:00-5:15 PM
URL:https://www.tcsatl.org/event/maac-girls-and-boys-cross-country-110/
END:VEVENT
BEGIN:VEVENT
DTSTART;VALUE=DATE:20250508
DTEND;VALUE=DATE:20250509
DTSTAMP:20260421T011328
CREATED:20240829T171518Z
LAST-MODIFIED:20250508T200518Z
UID:10011323-1746662400-1746748799@www.tcsatl.org
SUMMARY:E Day
DESCRIPTION:
URL:https://www.tcsatl.org/event/e-day-53/
END:VEVENT
BEGIN:VEVENT
DTSTART;VALUE=DATE:20250509
DTEND;VALUE=DATE:20250510
DTSTAMP:20260421T011328
CREATED:20240829T171518Z
LAST-MODIFIED:20250509T202009Z
UID:10011322-1746748800-1746835199@www.tcsatl.org
SUMMARY:F Day
DESCRIPTION:
URL:https://www.tcsatl.org/event/f-day-51/
END:VEVENT
BEGIN:VEVENT
DTSTART;TZID=America/New_York:20250509T154500
DTEND;TZID=America/New_York:20250509T170000
DTSTAMP:20260421T011328
CREATED:20240812T184600Z
LAST-MODIFIED:20250112T161617Z
UID:10010965-1746805500-1746810000@www.tcsatl.org
SUMMARY:MAAC Girls and Boys Cross Country
DESCRIPTION:Carpool 5:00-5:15 PM
URL:https://www.tcsatl.org/event/maac-girls-and-boys-cross-country-111/
END:VEVENT
BEGIN:VEVENT
DTSTART;VALUE=DATE:20250512
DTEND;VALUE=DATE:20250513
DTSTAMP:20260421T011328
CREATED:20240829T171518Z
LAST-MODIFIED:20250512T211512Z
UID:10011325-1747008000-1747094399@www.tcsatl.org
SUMMARY:A Day
DESCRIPTION:
URL:https://www.tcsatl.org/event/a-day-52/
END:VEVENT
BEGIN:VEVENT
DTSTART;VALUE=DATE:20250513
DTEND;VALUE=DATE:20250514
DTSTAMP:20260421T011328
CREATED:20240829T171518Z
LAST-MODIFIED:20250513T213022Z
UID:10011324-1747094400-1747180799@www.tcsatl.org
SUMMARY:B Day
DESCRIPTION:
URL:https://www.tcsatl.org/event/b-day-54/
END:VEVENT
BEGIN:VEVENT
DTSTART;TZID=America/New_York:20250513T154500
DTEND;TZID=America/New_York:20250513T170000
DTSTAMP:20260421T011328
CREATED:20240812T184601Z
LAST-MODIFIED:20250112T161618Z
UID:10010966-1747151100-1747155600@www.tcsatl.org
SUMMARY:MAAC Girls and Boys Cross Country
DESCRIPTION:Carpool 5:00-5:15 PM
URL:https://www.tcsatl.org/event/maac-girls-and-boys-cross-country-112/
END:VEVENT
BEGIN:VEVENT
DTSTART;TZID=America/New_York:20250513T183000
DTEND;TZID=America/New_York:20250513T200000
DTSTAMP:20260421T011328
CREATED:20250404T120114Z
LAST-MODIFIED:20250513T213021Z
UID:10011452-1747161000-1747166400@www.tcsatl.org
SUMMARY:7th Grade High School Counseling Session - via ZOOM
DESCRIPTION:
URL:https://www.tcsatl.org/event/7th-grade-high-school-counseling-session-via-zoom/
END:VEVENT
BEGIN:VEVENT
DTSTART;VALUE=DATE:20250514
DTEND;VALUE=DATE:20250515
DTSTAMP:20260421T011328
CREATED:20240829T171518Z
LAST-MODIFIED:20250514T214027Z
UID:10011326-1747180800-1747267199@www.tcsatl.org
SUMMARY:C Day
DESCRIPTION:
URL:https://www.tcsatl.org/event/c-day-55/
END:VEVENT
BEGIN:VEVENT
DTSTART;TZID=America/New_York:20250514T154500
DTEND;TZID=America/New_York:20250514T170000
DTSTAMP:20260421T011328
CREATED:20240812T184601Z
LAST-MODIFIED:20250112T161629Z
UID:10010967-1747237500-1747242000@www.tcsatl.org
SUMMARY:MAAC Girls and Boys Cross Country
DESCRIPTION:Carpool 5:00-5:15 PM
URL:https://www.tcsatl.org/event/maac-girls-and-boys-cross-country-113/
END:VEVENT
BEGIN:VEVENT
DTSTART;VALUE=DATE:20250515
DTEND;VALUE=DATE:20250516
DTSTAMP:20260421T011328
CREATED:20240829T171519Z
LAST-MODIFIED:20250515T215528Z
UID:10011328-1747267200-1747353599@www.tcsatl.org
SUMMARY:D Day
DESCRIPTION:
URL:https://www.tcsatl.org/event/d-day-52/
END:VEVENT
BEGIN:VEVENT
DTSTART;VALUE=DATE:20250516
DTEND;VALUE=DATE:20250517
DTSTAMP:20260421T011328
CREATED:20240829T171518Z
LAST-MODIFIED:20250516T220516Z
UID:10011327-1747353600-1747439999@www.tcsatl.org
SUMMARY:E Day
DESCRIPTION:
URL:https://www.tcsatl.org/event/e-day-54/
END:VEVENT
BEGIN:VEVENT
DTSTART;TZID=America/New_York:20250516T154500
DTEND;TZID=America/New_York:20250516T170000
DTSTAMP:20260421T011328
CREATED:20240812T184602Z
LAST-MODIFIED:20250112T161629Z
UID:10010968-1747410300-1747414800@www.tcsatl.org
SUMMARY:MAAC Girls and Boys Cross Country
DESCRIPTION:Carpool 5:00-5:15 PM
URL:https://www.tcsatl.org/event/maac-girls-and-boys-cross-country-114/
END:VEVENT
BEGIN:VEVENT
DTSTART;VALUE=DATE:20250519
DTEND;VALUE=DATE:20250520
DTSTAMP:20260421T011328
CREATED:20240829T171519Z
LAST-MODIFIED:20250519T225520Z
UID:10011330-1747612800-1747699199@www.tcsatl.org
SUMMARY:F Day
DESCRIPTION:
URL:https://www.tcsatl.org/event/f-day-52/
END:VEVENT
BEGIN:VEVENT
DTSTART;VALUE=DATE:20250520
DTEND;VALUE=DATE:20250521
DTSTAMP:20260421T011328
CREATED:20240829T171519Z
LAST-MODIFIED:20250520T230527Z
UID:10011329-1747699200-1747785599@www.tcsatl.org
SUMMARY:A Day
DESCRIPTION:
URL:https://www.tcsatl.org/event/a-day-53/
END:VEVENT
BEGIN:VEVENT
DTSTART;TZID=America/New_York:20250520T154500
DTEND;TZID=America/New_York:20250520T170000
DTSTAMP:20260421T011328
CREATED:20240812T184602Z
LAST-MODIFIED:20250112T161629Z
UID:10010969-1747755900-1747760400@www.tcsatl.org
SUMMARY:MAAC Girls and Boys Cross Country
DESCRIPTION:Carpool 5:00-5:15 PM
URL:https://www.tcsatl.org/event/maac-girls-and-boys-cross-country-115/
END:VEVENT
BEGIN:VEVENT
DTSTART;VALUE=DATE:20250521
DTEND;VALUE=DATE:20250522
DTSTAMP:20260421T011328
CREATED:20240829T171519Z
LAST-MODIFIED:20250521T232026Z
UID:10011331-1747785600-1747871999@www.tcsatl.org
SUMMARY:B Day
DESCRIPTION:
URL:https://www.tcsatl.org/event/b-day-55/
END:VEVENT
BEGIN:VEVENT
DTSTART;TZID=America/New_York:20250521T154500
DTEND;TZID=America/New_York:20250521T170000
DTSTAMP:20260421T011328
CREATED:20240812T184603Z
LAST-MODIFIED:20250112T161629Z
UID:10010970-1747842300-1747846800@www.tcsatl.org
SUMMARY:MAAC Girls and Boys Cross Country
DESCRIPTION:Carpool 5:00-5:15 PM
URL:https://www.tcsatl.org/event/maac-girls-and-boys-cross-country-116/
END:VEVENT
BEGIN:VEVENT
DTSTART;TZID=America/New_York:20250522T120000
DTEND;TZID=America/New_York:20250522T170000
DTSTAMP:20260421T011328
CREATED:20240613T163306Z
LAST-MODIFIED:20250521T232027Z
UID:10010585-1747915200-1747933200@www.tcsatl.org
SUMMARY:Early Dismissal - NO DISCOVERY\, EPIC\, SPORTS\, ENRICHMENT - TCS
DESCRIPTION:
URL:https://www.tcsatl.org/event/early-dismissal-no-discovery-epic-sports-enrichment-tcs/
END:VEVENT
BEGIN:VEVENT
DTSTART;TZID=America/New_York:20250522T133000
DTEND;TZID=America/New_York:20250522T160000
DTSTAMP:20260421T011328
CREATED:20250405T121636Z
LAST-MODIFIED:20250521T232027Z
UID:10011453-1747920600-1747929600@www.tcsatl.org
SUMMARY:Class of 2025 Graduation
DESCRIPTION:
URL:https://www.tcsatl.org/event/class-of-2025-graduation/
END:VEVENT
BEGIN:VEVENT
DTSTART;VALUE=DATE:20250523
DTEND;VALUE=DATE:20250524
DTSTAMP:20260421T011328
CREATED:20240613T163306Z
LAST-MODIFIED:20250523T235530Z
UID:10010586-1747958400-1748044799@www.tcsatl.org
SUMMARY:Last Day of School - TCS
DESCRIPTION:
URL:https://www.tcsatl.org/event/last-day-of-school-tcs/
END:VEVENT
BEGIN:VEVENT
DTSTART;TZID=America/New_York:20250523T120000
DTEND;TZID=America/New_York:20250523T170000
DTSTAMP:20260421T011328
CREATED:20240613T163307Z
LAST-MODIFIED:20250522T234530Z
UID:10010587-1748001600-1748019600@www.tcsatl.org
SUMMARY:Early Dismissal - NO DISCOVERY\, EPIC\, SPORTS\, ENRICHMENTS - TCS
DESCRIPTION:
URL:https://www.tcsatl.org/event/early-dismissal-no-discovery-epic-sports-enrichments-tcs/
END:VEVENT
BEGIN:VEVENT
DTSTART;TZID=America/New_York:20250523T154500
DTEND;TZID=America/New_York:20250523T170000
DTSTAMP:20260421T011328
CREATED:20240812T184603Z
LAST-MODIFIED:20250112T161629Z
UID:10010971-1748015100-1748019600@www.tcsatl.org
SUMMARY:MAAC Girls and Boys Cross Country
DESCRIPTION:Carpool 5:00-5:15 PM
URL:https://www.tcsatl.org/event/maac-girls-and-boys-cross-country-117/
END:VEVENT
BEGIN:VEVENT
DTSTART;TZID=America/New_York:20250527T154500
DTEND;TZID=America/New_York:20250527T170000
DTSTAMP:20260421T011328
CREATED:20240812T184603Z
LAST-MODIFIED:20250112T161629Z
UID:10010972-1748360700-1748365200@www.tcsatl.org
SUMMARY:MAAC Girls and Boys Cross Country
DESCRIPTION:Carpool 5:00-5:15 PM
URL:https://www.tcsatl.org/event/maac-girls-and-boys-cross-country-118/
END:VEVENT
BEGIN:VEVENT
DTSTART;TZID=America/New_York:20250528T154500
DTEND;TZID=America/New_York:20250528T170000
DTSTAMP:20260421T011328
CREATED:20240812T184604Z
LAST-MODIFIED:20250112T161629Z
UID:10010973-1748447100-1748451600@www.tcsatl.org
SUMMARY:MAAC Girls and Boys Cross Country
DESCRIPTION:Carpool 5:00-5:15 PM
URL:https://www.tcsatl.org/event/maac-girls-and-boys-cross-country-119/
END:VEVENT
BEGIN:VEVENT
DTSTART;TZID=America/New_York:20250530T154500
DTEND;TZID=America/New_York:20250530T170000
DTSTAMP:20260421T011328
CREATED:20240812T184605Z
LAST-MODIFIED:20250112T161629Z
UID:10010974-1748619900-1748624400@www.tcsatl.org
SUMMARY:MAAC Girls and Boys Cross Country
DESCRIPTION:Carpool 5:00-5:15 PM
URL:https://www.tcsatl.org/event/maac-girls-and-boys-cross-country-120/
END:VEVENT
BEGIN:VEVENT
DTSTART;VALUE=DATE:20250812
DTEND;VALUE=DATE:20250813
DTSTAMP:20260421T011328
CREATED:20250430T180117Z
LAST-MODIFIED:20250812T072541Z
UID:10011455-1754956800-1755043199@www.tcsatl.org
SUMMARY:Class Visit Day
DESCRIPTION:
URL:https://www.tcsatl.org/event/class-visit-day-2/
END:VEVENT
BEGIN:VEVENT
DTSTART;VALUE=DATE:20250813
DTEND;VALUE=DATE:20250814
DTSTAMP:20260421T011328
CREATED:20250430T180117Z
LAST-MODIFIED:20250813T073521Z
UID:10011456-1755043200-1755129599@www.tcsatl.org
SUMMARY:First Day of School
DESCRIPTION:
URL:https://www.tcsatl.org/event/first-day-of-school-10/
END:VEVENT
BEGIN:VEVENT
DTSTART;TZID=America/New_York:20250828T180000
DTEND;TZID=America/New_York:20250828T200000
DTSTAMP:20260421T011328
CREATED:20250430T180117Z
LAST-MODIFIED:20250828T112025Z
UID:10011457-1756404000-1756411200@www.tcsatl.org
SUMMARY:Back to School Night (Grades 3-8)
DESCRIPTION:
URL:https://www.tcsatl.org/event/back-to-school-night-grades-3-8/
END:VEVENT
BEGIN:VEVENT
DTSTART;VALUE=DATE:20250901
DTEND;VALUE=DATE:20250902
DTSTAMP:20260421T011328
CREATED:20250430T180117Z
LAST-MODIFIED:20250901T120509Z
UID:10011458-1756684800-1756771199@www.tcsatl.org
SUMMARY:SCHOOL CLOSED - LABOR DAY
DESCRIPTION:
URL:https://www.tcsatl.org/event/school-closed-labor-day-4/
END:VEVENT
END:VCALENDAR