BEGIN:VCALENDAR
VERSION:2.0
PRODID:-//The Children&#039;s School - ECPv6.15.15//NONSGML v1.0//EN
CALSCALE:GREGORIAN
METHOD:PUBLISH
X-WR-CALNAME:The Children&#039;s School
X-ORIGINAL-URL:https://www.tcsatl.org
X-WR-CALDESC:Events for The Children&#039;s School
REFRESH-INTERVAL;VALUE=DURATION:PT1H
X-Robots-Tag:noindex
X-PUBLISHED-TTL:PT1H
BEGIN:VTIMEZONE
TZID:America/New_York
BEGIN:DAYLIGHT
TZOFFSETFROM:-0500
TZOFFSETTO:-0400
TZNAME:EDT
DTSTART:20230312T070000
END:DAYLIGHT
BEGIN:STANDARD
TZOFFSETFROM:-0400
TZOFFSETTO:-0500
TZNAME:EST
DTSTART:20231105T060000
END:STANDARD
BEGIN:DAYLIGHT
TZOFFSETFROM:-0500
TZOFFSETTO:-0400
TZNAME:EDT
DTSTART:20240310T070000
END:DAYLIGHT
BEGIN:STANDARD
TZOFFSETFROM:-0400
TZOFFSETTO:-0500
TZNAME:EST
DTSTART:20241103T060000
END:STANDARD
BEGIN:DAYLIGHT
TZOFFSETFROM:-0500
TZOFFSETTO:-0400
TZNAME:EDT
DTSTART:20250309T070000
END:DAYLIGHT
BEGIN:STANDARD
TZOFFSETFROM:-0400
TZOFFSETTO:-0500
TZNAME:EST
DTSTART:20251102T060000
END:STANDARD
BEGIN:DAYLIGHT
TZOFFSETFROM:-0500
TZOFFSETTO:-0400
TZNAME:EDT
DTSTART:20260308T070000
END:DAYLIGHT
BEGIN:STANDARD
TZOFFSETFROM:-0400
TZOFFSETTO:-0500
TZNAME:EST
DTSTART:20261101T060000
END:STANDARD
END:VTIMEZONE
BEGIN:VEVENT
DTSTART;TZID=America/New_York:20241224T151500
DTEND;TZID=America/New_York:20241224T163000
DTSTAMP:20260421T085028
CREATED:20240812T184535Z
LAST-MODIFIED:20241223T215948Z
UID:10010859-1735053300-1735057800@www.tcsatl.org
SUMMARY:Intramural Co-Ed Tennis
DESCRIPTION:Carpool 4:40 – 4:55 PM
URL:https://www.tcsatl.org/event/intramural-co-ed-tennis-37/
END:VEVENT
BEGIN:VEVENT
DTSTART;TZID=America/New_York:20241224T151500
DTEND;TZID=America/New_York:20241224T170000
DTSTAMP:20260421T085028
CREATED:20240812T184535Z
LAST-MODIFIED:20241223T215948Z
UID:10010858-1735053300-1735059600@www.tcsatl.org
SUMMARY:MAAC Girls Basketball
DESCRIPTION:Carpool 5:00-5:15 PM
URL:https://www.tcsatl.org/event/maac-girls-basketball-28/
END:VEVENT
BEGIN:VEVENT
DTSTART;TZID=America/New_York:20241224T154500
DTEND;TZID=America/New_York:20241224T170000
DTSTAMP:20260421T085028
CREATED:20240812T184535Z
LAST-MODIFIED:20241223T215949Z
UID:10010860-1735055100-1735059600@www.tcsatl.org
SUMMARY:MAAC Girls and Boys Cross Country
DESCRIPTION:Carpool 5:00-5:15 PM
URL:https://www.tcsatl.org/event/maac-girls-and-boys-cross-country-52/
END:VEVENT
BEGIN:VEVENT
DTSTART;TZID=America/New_York:20241225T074500
DTEND;TZID=America/New_York:20241225T090000
DTSTAMP:20260421T085028
CREATED:20240812T184536Z
LAST-MODIFIED:20241224T221443Z
UID:10010861-1735112700-1735117200@www.tcsatl.org
SUMMARY:MAAC Girls Basketball
DESCRIPTION:
URL:https://www.tcsatl.org/event/maac-girls-basketball-29/
END:VEVENT
BEGIN:VEVENT
DTSTART;TZID=America/New_York:20241225T151500
DTEND;TZID=America/New_York:20241225T163000
DTSTAMP:20260421T085028
CREATED:20240812T184536Z
LAST-MODIFIED:20241224T221443Z
UID:10010863-1735139700-1735144200@www.tcsatl.org
SUMMARY:Intramural Co-Ed Tennis
DESCRIPTION:Carpool 4:40 – 4:55 PM
URL:https://www.tcsatl.org/event/intramural-co-ed-tennis-38/
END:VEVENT
BEGIN:VEVENT
DTSTART;TZID=America/New_York:20241225T154500
DTEND;TZID=America/New_York:20241225T170000
DTSTAMP:20260421T085028
CREATED:20240812T184536Z
LAST-MODIFIED:20241224T221443Z
UID:10010862-1735141500-1735146000@www.tcsatl.org
SUMMARY:MAAC Girls and Boys Cross Country
DESCRIPTION:Carpool 5:00-5:15 PM
URL:https://www.tcsatl.org/event/maac-girls-and-boys-cross-country-53/
END:VEVENT
BEGIN:VEVENT
DTSTART;TZID=America/New_York:20241226T151500
DTEND;TZID=America/New_York:20241226T170000
DTSTAMP:20260421T085028
CREATED:20240812T184536Z
LAST-MODIFIED:20241225T221604Z
UID:10010865-1735226100-1735232400@www.tcsatl.org
SUMMARY:MAAC Boys Basketball
DESCRIPTION:
URL:https://www.tcsatl.org/event/maac-boys-basketball-92/
END:VEVENT
BEGIN:VEVENT
DTSTART;TZID=America/New_York:20241226T154500
DTEND;TZID=America/New_York:20241226T164500
DTSTAMP:20260421T085028
CREATED:20240812T184536Z
LAST-MODIFIED:20241225T221604Z
UID:10010864-1735227900-1735231500@www.tcsatl.org
SUMMARY:Intramural Co-Ed Ultimate Frisbee
DESCRIPTION:Carpool 4:45-5:00 PM
URL:https://www.tcsatl.org/event/intramural-co-ed-ultimate-frisbee-20/
END:VEVENT
BEGIN:VEVENT
DTSTART;TZID=America/New_York:20241227T151500
DTEND;TZID=America/New_York:20241227T170000
DTSTAMP:20260421T085028
CREATED:20240812T184537Z
LAST-MODIFIED:20241226T222945Z
UID:10010867-1735312500-1735318800@www.tcsatl.org
SUMMARY:MAAC Boys Basketball
DESCRIPTION:
URL:https://www.tcsatl.org/event/maac-boys-basketball-93/
END:VEVENT
BEGIN:VEVENT
DTSTART;TZID=America/New_York:20241227T151500
DTEND;TZID=America/New_York:20241227T170000
DTSTAMP:20260421T085028
CREATED:20240812T184537Z
LAST-MODIFIED:20241226T222946Z
UID:10010868-1735312500-1735318800@www.tcsatl.org
SUMMARY:MAAC Girls Basketball
DESCRIPTION:Carpool 5:00-5:15 PM
URL:https://www.tcsatl.org/event/maac-girls-basketball-30/
END:VEVENT
BEGIN:VEVENT
DTSTART;TZID=America/New_York:20241227T154500
DTEND;TZID=America/New_York:20241227T170000
DTSTAMP:20260421T085028
CREATED:20240812T184536Z
LAST-MODIFIED:20241226T222945Z
UID:10010866-1735314300-1735318800@www.tcsatl.org
SUMMARY:MAAC Girls and Boys Cross Country
DESCRIPTION:Carpool 5:00-5:15 PM
URL:https://www.tcsatl.org/event/maac-girls-and-boys-cross-country-54/
END:VEVENT
BEGIN:VEVENT
DTSTART;TZID=America/New_York:20241230T151500
DTEND;TZID=America/New_York:20241230T170000
DTSTAMP:20260421T085028
CREATED:20240812T184537Z
LAST-MODIFIED:20241229T231542Z
UID:10010869-1735571700-1735578000@www.tcsatl.org
SUMMARY:MAAC Boys Basketball
DESCRIPTION:
URL:https://www.tcsatl.org/event/maac-boys-basketball-94/
END:VEVENT
BEGIN:VEVENT
DTSTART;TZID=America/New_York:20241230T154500
DTEND;TZID=America/New_York:20241230T164500
DTSTAMP:20260421T085028
CREATED:20240812T184537Z
LAST-MODIFIED:20241229T231542Z
UID:10010870-1735573500-1735577100@www.tcsatl.org
SUMMARY:Intramural Co-Ed Ultimate Frisbee
DESCRIPTION:Carpool 4:45-5:00 PM
URL:https://www.tcsatl.org/event/intramural-co-ed-ultimate-frisbee-21/
END:VEVENT
BEGIN:VEVENT
DTSTART;TZID=America/New_York:20241231T151500
DTEND;TZID=America/New_York:20241231T163000
DTSTAMP:20260421T085028
CREATED:20240812T184538Z
LAST-MODIFIED:20241230T232943Z
UID:10010873-1735658100-1735662600@www.tcsatl.org
SUMMARY:Intramural Co-Ed Tennis
DESCRIPTION:Carpool 4:40 – 4:55 PM
URL:https://www.tcsatl.org/event/intramural-co-ed-tennis-39/
END:VEVENT
BEGIN:VEVENT
DTSTART;TZID=America/New_York:20241231T151500
DTEND;TZID=America/New_York:20241231T170000
DTSTAMP:20260421T085028
CREATED:20240812T184538Z
LAST-MODIFIED:20241230T232943Z
UID:10010872-1735658100-1735664400@www.tcsatl.org
SUMMARY:MAAC Girls Basketball
DESCRIPTION:Carpool 5:00-5:15 PM
URL:https://www.tcsatl.org/event/maac-girls-basketball-31/
END:VEVENT
BEGIN:VEVENT
DTSTART;TZID=America/New_York:20241231T154500
DTEND;TZID=America/New_York:20241231T170000
DTSTAMP:20260421T085028
CREATED:20240812T184537Z
LAST-MODIFIED:20241230T232943Z
UID:10010871-1735659900-1735664400@www.tcsatl.org
SUMMARY:MAAC Girls and Boys Cross Country
DESCRIPTION:Carpool 5:00-5:15 PM
URL:https://www.tcsatl.org/event/maac-girls-and-boys-cross-country-55/
END:VEVENT
BEGIN:VEVENT
DTSTART;TZID=America/New_York:20250101T074500
DTEND;TZID=America/New_York:20250101T090000
DTSTAMP:20260421T085028
CREATED:20240812T184538Z
LAST-MODIFIED:20241231T232943Z
UID:10010874-1735717500-1735722000@www.tcsatl.org
SUMMARY:MAAC Girls Basketball
DESCRIPTION:
URL:https://www.tcsatl.org/event/maac-girls-basketball-32/
END:VEVENT
BEGIN:VEVENT
DTSTART;TZID=America/New_York:20250101T151500
DTEND;TZID=America/New_York:20250101T163000
DTSTAMP:20260421T085028
CREATED:20240812T184538Z
LAST-MODIFIED:20241231T232943Z
UID:10010875-1735744500-1735749000@www.tcsatl.org
SUMMARY:Intramural Co-Ed Tennis
DESCRIPTION:Carpool 4:40 – 4:55 PM
URL:https://www.tcsatl.org/event/intramural-co-ed-tennis-40/
END:VEVENT
BEGIN:VEVENT
DTSTART;TZID=America/New_York:20250101T154500
DTEND;TZID=America/New_York:20250101T170000
DTSTAMP:20260421T085028
CREATED:20240812T184538Z
LAST-MODIFIED:20241231T232943Z
UID:10010876-1735746300-1735750800@www.tcsatl.org
SUMMARY:MAAC Girls and Boys Cross Country
DESCRIPTION:Carpool 5:00-5:15 PM
URL:https://www.tcsatl.org/event/maac-girls-and-boys-cross-country-56/
END:VEVENT
BEGIN:VEVENT
DTSTART;TZID=America/New_York:20250102T151500
DTEND;TZID=America/New_York:20250102T170000
DTSTAMP:20260421T085028
CREATED:20240812T184538Z
LAST-MODIFIED:20250101T234444Z
UID:10010877-1735830900-1735837200@www.tcsatl.org
SUMMARY:MAAC Boys Basketball
DESCRIPTION:
URL:https://www.tcsatl.org/event/maac-boys-basketball-95/
END:VEVENT
BEGIN:VEVENT
DTSTART;TZID=America/New_York:20250102T154500
DTEND;TZID=America/New_York:20250102T164500
DTSTAMP:20260421T085028
CREATED:20240812T184539Z
LAST-MODIFIED:20250101T234445Z
UID:10010878-1735832700-1735836300@www.tcsatl.org
SUMMARY:Intramural Co-Ed Ultimate Frisbee
DESCRIPTION:Carpool 4:45-5:00 PM
URL:https://www.tcsatl.org/event/intramural-co-ed-ultimate-frisbee-22/
END:VEVENT
BEGIN:VEVENT
DTSTART;TZID=America/New_York:20250103T151500
DTEND;TZID=America/New_York:20250103T170000
DTSTAMP:20260421T085028
CREATED:20240812T184539Z
LAST-MODIFIED:20250102T234447Z
UID:10010879-1735917300-1735923600@www.tcsatl.org
SUMMARY:MAAC Boys Basketball
DESCRIPTION:
URL:https://www.tcsatl.org/event/maac-boys-basketball-96/
END:VEVENT
BEGIN:VEVENT
DTSTART;TZID=America/New_York:20250103T151500
DTEND;TZID=America/New_York:20250103T170000
DTSTAMP:20260421T085028
CREATED:20240812T184539Z
LAST-MODIFIED:20250102T234448Z
UID:10010880-1735917300-1735923600@www.tcsatl.org
SUMMARY:MAAC Girls Basketball
DESCRIPTION:Carpool 5:00-5:15 PM
URL:https://www.tcsatl.org/event/maac-girls-basketball-33/
END:VEVENT
BEGIN:VEVENT
DTSTART;TZID=America/New_York:20250103T154500
DTEND;TZID=America/New_York:20250103T170000
DTSTAMP:20260421T085028
CREATED:20240812T184539Z
LAST-MODIFIED:20250102T234448Z
UID:10010881-1735919100-1735923600@www.tcsatl.org
SUMMARY:MAAC Girls and Boys Cross Country
DESCRIPTION:Carpool 5:00-5:15 PM
URL:https://www.tcsatl.org/event/maac-girls-and-boys-cross-country-57/
END:VEVENT
BEGIN:VEVENT
DTSTART;VALUE=DATE:20250106
DTEND;VALUE=DATE:20250107
DTSTAMP:20260421T085028
CREATED:20240613T163302Z
LAST-MODIFIED:20250106T001448Z
UID:10009515-1736121600-1736207999@www.tcsatl.org
SUMMARY:School Closed for Students - Professional Development Day - TCS
DESCRIPTION:
URL:https://www.tcsatl.org/event/school-closed-for-students-professional-development-day-tcs/
END:VEVENT
BEGIN:VEVENT
DTSTART;TZID=America/New_York:20250106T151500
DTEND;TZID=America/New_York:20250106T170000
DTSTAMP:20260421T085028
CREATED:20240812T184540Z
LAST-MODIFIED:20250106T151445Z
UID:10010883-1736176500-1736182800@www.tcsatl.org
SUMMARY:MAAC Boys Basketball
DESCRIPTION:
URL:https://www.tcsatl.org/event/maac-boys-basketball-97/
END:VEVENT
BEGIN:VEVENT
DTSTART;TZID=America/New_York:20250106T154500
DTEND;TZID=America/New_York:20250106T164500
DTSTAMP:20260421T085028
CREATED:20240812T184539Z
LAST-MODIFIED:20250106T151445Z
UID:10010882-1736178300-1736181900@www.tcsatl.org
SUMMARY:Intramural Co-Ed Ultimate Frisbee
DESCRIPTION:Carpool 4:45-5:00 PM
URL:https://www.tcsatl.org/event/intramural-co-ed-ultimate-frisbee-23/
END:VEVENT
BEGIN:VEVENT
DTSTART;VALUE=DATE:20250107
DTEND;VALUE=DATE:20250108
DTSTAMP:20260421T085028
CREATED:20240613T163302Z
LAST-MODIFIED:20250107T001447Z
UID:10009516-1736208000-1736294399@www.tcsatl.org
SUMMARY:Students Return from Winter Break
DESCRIPTION:
URL:https://www.tcsatl.org/event/students-return-from-winter-break-6/
END:VEVENT
BEGIN:VEVENT
DTSTART;VALUE=DATE:20250107
DTEND;VALUE=DATE:20250108
DTSTAMP:20260421T085028
CREATED:20240829T171457Z
LAST-MODIFIED:20250107T001448Z
UID:10011248-1736208000-1736294399@www.tcsatl.org
SUMMARY:C Day
DESCRIPTION:
URL:https://www.tcsatl.org/event/c-day-42/
END:VEVENT
BEGIN:VEVENT
DTSTART;TZID=America/New_York:20250107T151500
DTEND;TZID=America/New_York:20250107T163000
DTSTAMP:20260421T085028
CREATED:20240812T184540Z
LAST-MODIFIED:20250107T152946Z
UID:10010884-1736262900-1736267400@www.tcsatl.org
SUMMARY:Intramural Co-Ed Tennis
DESCRIPTION:Carpool 4:40 – 4:55 PM
URL:https://www.tcsatl.org/event/intramural-co-ed-tennis-41/
END:VEVENT
END:VCALENDAR