BEGIN:VCALENDAR
VERSION:2.0
PRODID:-//The Children&#039;s School - ECPv6.15.15//NONSGML v1.0//EN
CALSCALE:GREGORIAN
METHOD:PUBLISH
X-WR-CALNAME:The Children&#039;s School
X-ORIGINAL-URL:https://www.tcsatl.org
X-WR-CALDESC:Events for The Children&#039;s School
REFRESH-INTERVAL;VALUE=DURATION:PT1H
X-Robots-Tag:noindex
X-PUBLISHED-TTL:PT1H
BEGIN:VTIMEZONE
TZID:America/New_York
BEGIN:DAYLIGHT
TZOFFSETFROM:-0500
TZOFFSETTO:-0400
TZNAME:EDT
DTSTART:20220313T070000
END:DAYLIGHT
BEGIN:STANDARD
TZOFFSETFROM:-0400
TZOFFSETTO:-0500
TZNAME:EST
DTSTART:20221106T060000
END:STANDARD
BEGIN:DAYLIGHT
TZOFFSETFROM:-0500
TZOFFSETTO:-0400
TZNAME:EDT
DTSTART:20230312T070000
END:DAYLIGHT
BEGIN:STANDARD
TZOFFSETFROM:-0400
TZOFFSETTO:-0500
TZNAME:EST
DTSTART:20231105T060000
END:STANDARD
BEGIN:DAYLIGHT
TZOFFSETFROM:-0500
TZOFFSETTO:-0400
TZNAME:EDT
DTSTART:20240310T070000
END:DAYLIGHT
BEGIN:STANDARD
TZOFFSETFROM:-0400
TZOFFSETTO:-0500
TZNAME:EST
DTSTART:20241103T060000
END:STANDARD
END:VTIMEZONE
BEGIN:VEVENT
DTSTART;TZID=America/New_York:20230118T151500
DTEND;TZID=America/New_York:20230118T161500
DTSTAMP:20260422T232456
CREATED:20220815T164224Z
LAST-MODIFIED:20230117T223347Z
UID:10008841-1674054900-1674058500@www.tcsatl.org
SUMMARY:TCS Jr. Players
DESCRIPTION:
URL:https://www.tcsatl.org/event/tcs-jr-players-50/
END:VEVENT
BEGIN:VEVENT
DTSTART;TZID=America/New_York:20230118T151500
DTEND;TZID=America/New_York:20230118T163000
DTSTAMP:20260422T232456
CREATED:20220815T164225Z
LAST-MODIFIED:20221120T194946Z
UID:10008845-1674054900-1674059400@www.tcsatl.org
SUMMARY:TCS Players
DESCRIPTION:
URL:https://www.tcsatl.org/event/tcs-players-91/
END:VEVENT
BEGIN:VEVENT
DTSTART;TZID=America/New_York:20230118T151500
DTEND;TZID=America/New_York:20230118T163000
DTSTAMP:20260422T232456
CREATED:20221128T200353Z
LAST-MODIFIED:20230117T224936Z
UID:10009758-1674054900-1674059400@www.tcsatl.org
SUMMARY:Intramural Co-Ed Tennis (3rd-5th)
DESCRIPTION:
URL:https://www.tcsatl.org/event/intramural-co-ed-tennis-3rd-5th-34/
END:VEVENT
BEGIN:VEVENT
DTSTART;TZID=America/New_York:20230118T151500
DTEND;TZID=America/New_York:20230118T163000
DTSTAMP:20260422T232456
CREATED:20221128T203455Z
LAST-MODIFIED:20230117T223346Z
UID:10010006-1674054900-1674059400@www.tcsatl.org
SUMMARY:TCS Players
DESCRIPTION:
URL:https://www.tcsatl.org/event/tcs-players-143/
END:VEVENT
BEGIN:VEVENT
DTSTART;VALUE=DATE:20230119
DTEND;VALUE=DATE:20230120
DTSTAMP:20260422T232456
CREATED:20220907T181437Z
LAST-MODIFIED:20230119T203347Z
UID:10009582-1674086400-1674172799@www.tcsatl.org
SUMMARY:A Day
DESCRIPTION:
URL:https://www.tcsatl.org/event/a-day-13/
END:VEVENT
BEGIN:VEVENT
DTSTART;TZID=America/New_York:20230119T151500
DTEND;TZID=America/New_York:20230119T163000
DTSTAMP:20260422T232456
CREATED:20220815T164225Z
LAST-MODIFIED:20230118T223551Z
UID:10008848-1674141300-1674145800@www.tcsatl.org
SUMMARY:TCS Voices
DESCRIPTION:
URL:https://www.tcsatl.org/event/tcs-voices-50/
END:VEVENT
BEGIN:VEVENT
DTSTART;TZID=America/New_York:20230119T151500
DTEND;TZID=America/New_York:20230119T163000
DTSTAMP:20260422T232456
CREATED:20221128T200353Z
LAST-MODIFIED:20230118T224949Z
UID:10009759-1674141300-1674145800@www.tcsatl.org
SUMMARY:MAAC Boys Basketball (5th - 8th Grade)
DESCRIPTION:
URL:https://www.tcsatl.org/event/maac-boys-basketball-5th-8th-grade-23/
END:VEVENT
BEGIN:VEVENT
DTSTART;TZID=America/New_York:20230119T160000
DTEND;TZID=America/New_York:20230119T173000
DTSTAMP:20260422T232456
CREATED:20230111T224907Z
LAST-MODIFIED:20230118T224949Z
UID:10008979-1674144000-1674149400@www.tcsatl.org
SUMMARY:AWAY GAME - MAAC Girls Basketball vs Epstein Academy - Epstein Academy
DESCRIPTION:
URL:https://www.tcsatl.org/event/away-game-maac-girls-basketball-vs-epstein-academy-epstein-academy/
END:VEVENT
BEGIN:VEVENT
DTSTART;TZID=America/New_York:20230119T164500
DTEND;TZID=America/New_York:20230119T181500
DTSTAMP:20260422T232456
CREATED:20230111T224907Z
LAST-MODIFIED:20230119T224847Z
UID:10010039-1674146700-1674152100@www.tcsatl.org
SUMMARY:AWAY GAME - MAAC Boys Basketball vs Epstein School - Epstein School
DESCRIPTION:
URL:https://www.tcsatl.org/event/away-game-maac-boys-basketball-vs-epstein-school-epstein-school/
END:VEVENT
BEGIN:VEVENT
DTSTART;VALUE=DATE:20230120
DTEND;VALUE=DATE:20230121
DTSTAMP:20260422T232456
CREATED:20220907T181437Z
LAST-MODIFIED:20230120T203345Z
UID:10009583-1674172800-1674259199@www.tcsatl.org
SUMMARY:B Day
DESCRIPTION:
URL:https://www.tcsatl.org/event/b-day-15/
END:VEVENT
BEGIN:VEVENT
DTSTART;TZID=America/New_York:20230120T151500
DTEND;TZID=America/New_York:20230120T163000
DTSTAMP:20260422T232456
CREATED:20221128T200353Z
LAST-MODIFIED:20230119T224847Z
UID:10009763-1674227700-1674232200@www.tcsatl.org
SUMMARY:MAAC Boys Basketball (5th - 8th Grade)
DESCRIPTION:
URL:https://www.tcsatl.org/event/maac-boys-basketball-5th-8th-grade-24/
END:VEVENT
BEGIN:VEVENT
DTSTART;TZID=America/New_York:20230120T153000
DTEND;TZID=America/New_York:20230120T163000
DTSTAMP:20260422T232456
CREATED:20221128T200353Z
LAST-MODIFIED:20230119T224847Z
UID:10009762-1674228600-1674232200@www.tcsatl.org
SUMMARY:MAAC Girls Basketball (5th-8th Grade)
DESCRIPTION:
URL:https://www.tcsatl.org/event/maac-girls-basketball-5th-8th-grade-24/
END:VEVENT
BEGIN:VEVENT
DTSTART;TZID=America/New_York:20230120T153000
DTEND;TZID=America/New_York:20230120T180000
DTSTAMP:20260422T232456
CREATED:20230111T224908Z
LAST-MODIFIED:20230120T224954Z
UID:10010040-1674228600-1674237600@www.tcsatl.org
SUMMARY:AWAY GAME - MAAC Boys Basketball vs Intown Community School - Mt. Moriah Church
DESCRIPTION:
URL:https://www.tcsatl.org/event/away-game-maac-boys-basketball-vs-intown-community-school-mt-moriah-church/
END:VEVENT
BEGIN:VEVENT
DTSTART;VALUE=DATE:20230123
DTEND;VALUE=DATE:20230124
DTSTAMP:20260422T232456
CREATED:20220907T181437Z
LAST-MODIFIED:20230123T210414Z
UID:10009584-1674432000-1674518399@www.tcsatl.org
SUMMARY:C Day
DESCRIPTION:
URL:https://www.tcsatl.org/event/c-day-15/
END:VEVENT
BEGIN:VEVENT
DTSTART;TZID=America/New_York:20230123T151500
DTEND;TZID=America/New_York:20230123T163000
DTSTAMP:20260422T232456
CREATED:20220815T164225Z
LAST-MODIFIED:20221120T194946Z
UID:10008855-1674486900-1674491400@www.tcsatl.org
SUMMARY:TCS Players
DESCRIPTION:
URL:https://www.tcsatl.org/event/tcs-players-92/
END:VEVENT
BEGIN:VEVENT
DTSTART;TZID=America/New_York:20230123T151500
DTEND;TZID=America/New_York:20230123T163000
DTSTAMP:20260422T232456
CREATED:20221128T200353Z
LAST-MODIFIED:20230122T224914Z
UID:10009764-1674486900-1674491400@www.tcsatl.org
SUMMARY:MAAC Boys Basketball (5th - 8th Grade)
DESCRIPTION:
URL:https://www.tcsatl.org/event/maac-boys-basketball-5th-8th-grade-25/
END:VEVENT
BEGIN:VEVENT
DTSTART;TZID=America/New_York:20230123T151500
DTEND;TZID=America/New_York:20230123T163000
DTSTAMP:20260422T232456
CREATED:20221128T203455Z
LAST-MODIFIED:20230122T223436Z
UID:10010007-1674486900-1674491400@www.tcsatl.org
SUMMARY:TCS Players
DESCRIPTION:
URL:https://www.tcsatl.org/event/tcs-players-144/
END:VEVENT
BEGIN:VEVENT
DTSTART;VALUE=DATE:20230124
DTEND;VALUE=DATE:20230125
DTSTAMP:20260422T232456
CREATED:20220907T181437Z
LAST-MODIFIED:20230124T210355Z
UID:10009585-1674518400-1674604799@www.tcsatl.org
SUMMARY:D Day
DESCRIPTION:
URL:https://www.tcsatl.org/event/d-day-14/
END:VEVENT
BEGIN:VEVENT
DTSTART;TZID=America/New_York:20230124T151500
DTEND;TZID=America/New_York:20230124T163000
DTSTAMP:20260422T232456
CREATED:20220815T164225Z
LAST-MODIFIED:20230123T223437Z
UID:10008856-1674573300-1674577800@www.tcsatl.org
SUMMARY:TCS Jr. Voices
DESCRIPTION:
URL:https://www.tcsatl.org/event/tcs-jr-voices-21/
END:VEVENT
BEGIN:VEVENT
DTSTART;VALUE=DATE:20230125
DTEND;VALUE=DATE:20230126
DTSTAMP:20260422T232456
CREATED:20220907T181437Z
LAST-MODIFIED:20230125T210403Z
UID:10009586-1674604800-1674691199@www.tcsatl.org
SUMMARY:E Day
DESCRIPTION:
URL:https://www.tcsatl.org/event/e-day-15/
END:VEVENT
BEGIN:VEVENT
DTSTART;TZID=America/New_York:20230125T151500
DTEND;TZID=America/New_York:20230125T161500
DTSTAMP:20260422T232456
CREATED:20220815T164225Z
LAST-MODIFIED:20230124T223353Z
UID:10008860-1674659700-1674663300@www.tcsatl.org
SUMMARY:TCS Jr. Players
DESCRIPTION:
URL:https://www.tcsatl.org/event/tcs-jr-players-51/
END:VEVENT
BEGIN:VEVENT
DTSTART;TZID=America/New_York:20230125T151500
DTEND;TZID=America/New_York:20230125T163000
DTSTAMP:20260422T232456
CREATED:20220815T164225Z
LAST-MODIFIED:20221120T194946Z
UID:10008858-1674659700-1674664200@www.tcsatl.org
SUMMARY:TCS Players
DESCRIPTION:
URL:https://www.tcsatl.org/event/tcs-players-93/
END:VEVENT
BEGIN:VEVENT
DTSTART;TZID=America/New_York:20230125T151500
DTEND;TZID=America/New_York:20230125T163000
DTSTAMP:20260422T232456
CREATED:20221128T203455Z
LAST-MODIFIED:20230124T223353Z
UID:10010008-1674659700-1674664200@www.tcsatl.org
SUMMARY:TCS Players
DESCRIPTION:
URL:https://www.tcsatl.org/event/tcs-players-145/
END:VEVENT
BEGIN:VEVENT
DTSTART;VALUE=DATE:20230126
DTEND;VALUE=DATE:20230127
DTSTAMP:20260422T232456
CREATED:20220907T181437Z
LAST-MODIFIED:20230126T210505Z
UID:10009587-1674691200-1674777599@www.tcsatl.org
SUMMARY:F Day
DESCRIPTION:
URL:https://www.tcsatl.org/event/f-day-14/
END:VEVENT
BEGIN:VEVENT
DTSTART;TZID=America/New_York:20230126T151500
DTEND;TZID=America/New_York:20230126T163000
DTSTAMP:20260422T232456
CREATED:20220815T164226Z
LAST-MODIFIED:20230125T223413Z
UID:10008863-1674746100-1674750600@www.tcsatl.org
SUMMARY:TCS Voices
DESCRIPTION:
URL:https://www.tcsatl.org/event/tcs-voices-51/
END:VEVENT
BEGIN:VEVENT
DTSTART;TZID=America/New_York:20230126T153000
DTEND;TZID=America/New_York:20230126T180000
DTSTAMP:20260422T232456
CREATED:20230111T224909Z
LAST-MODIFIED:20230126T224853Z
UID:10010041-1674747000-1674756000@www.tcsatl.org
SUMMARY:AWAY GAME- MAAC Boys Basketball vs. Galloway - Galloway
DESCRIPTION:
URL:https://www.tcsatl.org/event/away-game-maac-boys-basketball-vs-galloway-galloway/
END:VEVENT
BEGIN:VEVENT
DTSTART;VALUE=DATE:20230127
DTEND;VALUE=DATE:20230128
DTSTAMP:20260422T232456
CREATED:20220907T181438Z
LAST-MODIFIED:20230127T210457Z
UID:10009588-1674777600-1674863999@www.tcsatl.org
SUMMARY:A Day
DESCRIPTION:
URL:https://www.tcsatl.org/event/a-day-14/
END:VEVENT
BEGIN:VEVENT
DTSTART;TZID=America/New_York:20230129T160000
DTEND;TZID=America/New_York:20230129T180000
DTSTAMP:20260422T232456
CREATED:20221212T200417Z
LAST-MODIFIED:20230129T211710Z
UID:10010038-1675008000-1675015200@www.tcsatl.org
SUMMARY:Bingo and Dinner at TCS- Gym
DESCRIPTION:
URL:https://www.tcsatl.org/event/bingo-and-dinner-at-tcs-gym/
LOCATION:Building D-2-TCS Gym (500)
END:VEVENT
BEGIN:VEVENT
DTSTART;VALUE=DATE:20230130
DTEND;VALUE=DATE:20230131
DTSTAMP:20260422T232456
CREATED:20220907T181438Z
LAST-MODIFIED:20230130T212944Z
UID:10009589-1675036800-1675123199@www.tcsatl.org
SUMMARY:B Day
DESCRIPTION:
URL:https://www.tcsatl.org/event/b-day-16/
END:VEVENT
BEGIN:VEVENT
DTSTART;VALUE=DATE:20230130
DTEND;VALUE=DATE:20230204
DTSTAMP:20260422T232456
CREATED:20230111T224909Z
LAST-MODIFIED:20230203T233044Z
UID:10010042-1675036800-1675468799@www.tcsatl.org
SUMMARY:MAAC Boys Basketball Championship
DESCRIPTION:
URL:https://www.tcsatl.org/event/maac-boys-basketball-championship/
END:VEVENT
END:VCALENDAR