BEGIN:VCALENDAR
VERSION:2.0
PRODID:-//The Children&#039;s School - ECPv6.15.15//NONSGML v1.0//EN
CALSCALE:GREGORIAN
METHOD:PUBLISH
X-WR-CALNAME:The Children&#039;s School
X-ORIGINAL-URL:https://www.tcsatl.org
X-WR-CALDESC:Events for The Children&#039;s School
REFRESH-INTERVAL;VALUE=DURATION:PT1H
X-Robots-Tag:noindex
X-PUBLISHED-TTL:PT1H
BEGIN:VTIMEZONE
TZID:America/New_York
BEGIN:DAYLIGHT
TZOFFSETFROM:-0500
TZOFFSETTO:-0400
TZNAME:EDT
DTSTART:20210314T070000
END:DAYLIGHT
BEGIN:STANDARD
TZOFFSETFROM:-0400
TZOFFSETTO:-0500
TZNAME:EST
DTSTART:20211107T060000
END:STANDARD
BEGIN:DAYLIGHT
TZOFFSETFROM:-0500
TZOFFSETTO:-0400
TZNAME:EDT
DTSTART:20220313T070000
END:DAYLIGHT
BEGIN:STANDARD
TZOFFSETFROM:-0400
TZOFFSETTO:-0500
TZNAME:EST
DTSTART:20221106T060000
END:STANDARD
BEGIN:DAYLIGHT
TZOFFSETFROM:-0500
TZOFFSETTO:-0400
TZNAME:EDT
DTSTART:20230312T070000
END:DAYLIGHT
BEGIN:STANDARD
TZOFFSETFROM:-0400
TZOFFSETTO:-0500
TZNAME:EST
DTSTART:20231105T060000
END:STANDARD
END:VTIMEZONE
BEGIN:VEVENT
DTSTART;TZID=America/New_York:20220816T161500
DTEND;TZID=America/New_York:20220816T171500
DTSTAMP:20260423T065556
CREATED:20220815T164148Z
LAST-MODIFIED:20220816T165628Z
UID:10008589-1660666500-1660670100@www.tcsatl.org
SUMMARY:Intro to Drums
DESCRIPTION:
URL:https://www.tcsatl.org/event/intro-to-drums/
END:VEVENT
BEGIN:VEVENT
DTSTART;TZID=America/New_York:20220816T161500
DTEND;TZID=America/New_York:20220816T171500
DTSTAMP:20260423T065556
CREATED:20220815T164148Z
LAST-MODIFIED:20220815T164148Z
UID:10008590-1660666500-1660670100@www.tcsatl.org
SUMMARY:Intro to Drums
DESCRIPTION:
URL:https://www.tcsatl.org/event/intro-to-drums-2/
END:VEVENT
BEGIN:VEVENT
DTSTART;TZID=America/New_York:20220817T074500
DTEND;TZID=America/New_York:20220817T090000
DTSTAMP:20260423T065556
CREATED:20220815T171155Z
LAST-MODIFIED:20220816T171240Z
UID:10009115-1660722300-1660726800@www.tcsatl.org
SUMMARY:Intramural Co-Ed Volleyball (3rd - 5th)
DESCRIPTION:
URL:https://www.tcsatl.org/event/intramural-co-ed-volleyball-3rd-5th-2/
END:VEVENT
BEGIN:VEVENT
DTSTART;TZID=America/New_York:20220817T151500
DTEND;TZID=America/New_York:20220817T163000
DTSTAMP:20260423T065556
CREATED:20220815T171155Z
LAST-MODIFIED:20220817T171137Z
UID:10009117-1660749300-1660753800@www.tcsatl.org
SUMMARY:MAAC Boys & Girls Cross Country (6th-8th)
DESCRIPTION:
URL:https://www.tcsatl.org/event/maac-boys-girls-cross-country-6th-8th-2/
END:VEVENT
BEGIN:VEVENT
DTSTART;TZID=America/New_York:20220817T151500
DTEND;TZID=America/New_York:20220817T163000
DTSTAMP:20260423T065556
CREATED:20220815T171155Z
LAST-MODIFIED:20220817T171136Z
UID:10009119-1660749300-1660753800@www.tcsatl.org
SUMMARY:Intramural Co-Ed Tennis (3rd-5th)
DESCRIPTION:
URL:https://www.tcsatl.org/event/intramural-co-ed-tennis-3rd-5th-2/
END:VEVENT
BEGIN:VEVENT
DTSTART;TZID=America/New_York:20220818T151500
DTEND;TZID=America/New_York:20220818T161500
DTSTAMP:20260423T065556
CREATED:20220815T164148Z
LAST-MODIFIED:20220818T171119Z
UID:10008599-1660835700-1660839300@www.tcsatl.org
SUMMARY:Tonchu Martial Arts
DESCRIPTION:
URL:https://www.tcsatl.org/event/tonchu-martial-arts/
END:VEVENT
BEGIN:VEVENT
DTSTART;TZID=America/New_York:20220818T151500
DTEND;TZID=America/New_York:20220818T161500
DTSTAMP:20260423T065556
CREATED:20220815T164148Z
LAST-MODIFIED:20220818T171119Z
UID:10008600-1660835700-1660839300@www.tcsatl.org
SUMMARY:Gymnastics Level II
DESCRIPTION:
URL:https://www.tcsatl.org/event/gymnastics-level-ii/
END:VEVENT
BEGIN:VEVENT
DTSTART;TZID=America/New_York:20220818T151500
DTEND;TZID=America/New_York:20220818T161500
DTSTAMP:20260423T065556
CREATED:20220815T164148Z
LAST-MODIFIED:20220818T171119Z
UID:10008593-1660835700-1660839300@www.tcsatl.org
SUMMARY:Drums (All Levels)
DESCRIPTION:
URL:https://www.tcsatl.org/event/drums-all-levels/
END:VEVENT
BEGIN:VEVENT
DTSTART;TZID=America/New_York:20220818T151500
DTEND;TZID=America/New_York:20220818T161500
DTSTAMP:20260423T065556
CREATED:20220815T164148Z
LAST-MODIFIED:20220815T164148Z
UID:10008594-1660835700-1660839300@www.tcsatl.org
SUMMARY:Drums (All Levels)
DESCRIPTION:
URL:https://www.tcsatl.org/event/drums-all-levels-2/
END:VEVENT
BEGIN:VEVENT
DTSTART;TZID=America/New_York:20220818T151500
DTEND;TZID=America/New_York:20220818T161500
DTSTAMP:20260423T065556
CREATED:20220815T164149Z
LAST-MODIFIED:20220815T164149Z
UID:10008602-1660835700-1660839300@www.tcsatl.org
SUMMARY:Gymnastics Level II
DESCRIPTION:
URL:https://www.tcsatl.org/event/gymnastics-level-ii-2/
END:VEVENT
BEGIN:VEVENT
DTSTART;TZID=America/New_York:20220818T151500
DTEND;TZID=America/New_York:20220818T163000
DTSTAMP:20260423T065556
CREATED:20220815T171155Z
LAST-MODIFIED:20220818T171103Z
UID:10009124-1660835700-1660840200@www.tcsatl.org
SUMMARY:Intramural Boys & Girls Cross Country (3rd-5th)
DESCRIPTION:
URL:https://www.tcsatl.org/event/intramural-boys-girls-cross-country-3rd-5th-2/
END:VEVENT
BEGIN:VEVENT
DTSTART;TZID=America/New_York:20220818T151500
DTEND;TZID=America/New_York:20220818T163000
DTSTAMP:20260423T065556
CREATED:20220815T171205Z
LAST-MODIFIED:20220818T171103Z
UID:10009127-1660835700-1660840200@www.tcsatl.org
SUMMARY:MAAC Girls Volleyball (6th - 8th)
DESCRIPTION:
URL:https://www.tcsatl.org/event/maac-girls-volleyball-6th-8th-2/
END:VEVENT
BEGIN:VEVENT
DTSTART;TZID=America/New_York:20220818T151500
DTEND;TZID=America/New_York:20220818T164500
DTSTAMP:20260423T065556
CREATED:20220815T164148Z
LAST-MODIFIED:20220818T171119Z
UID:10008595-1660835700-1660841100@www.tcsatl.org
SUMMARY:Kids TV - Video & Film Production Class
DESCRIPTION:
URL:https://www.tcsatl.org/event/kids-tv-video-film-production-class/
END:VEVENT
BEGIN:VEVENT
DTSTART;TZID=America/New_York:20220818T151500
DTEND;TZID=America/New_York:20220818T164500
DTSTAMP:20260423T065556
CREATED:20220815T164148Z
LAST-MODIFIED:20220815T164148Z
UID:10008596-1660835700-1660841100@www.tcsatl.org
SUMMARY:Kids TV - Video & Film Production Class
DESCRIPTION:
URL:https://www.tcsatl.org/event/kids-tv-video-film-production-class-2/
END:VEVENT
BEGIN:VEVENT
DTSTART;TZID=America/New_York:20220818T161500
DTEND;TZID=America/New_York:20220818T171500
DTSTAMP:20260423T065556
CREATED:20220815T164148Z
LAST-MODIFIED:20220818T171119Z
UID:10008597-1660839300-1660842900@www.tcsatl.org
SUMMARY:Ballet/Tap Level II
DESCRIPTION:
URL:https://www.tcsatl.org/event/ballet-tap-level-ii/
END:VEVENT
BEGIN:VEVENT
DTSTART;TZID=America/New_York:20220818T161500
DTEND;TZID=America/New_York:20220818T171500
DTSTAMP:20260423T065556
CREATED:20220815T164148Z
LAST-MODIFIED:20220815T164148Z
UID:10008598-1660839300-1660842900@www.tcsatl.org
SUMMARY:Ballet/Tap Level II
DESCRIPTION:
URL:https://www.tcsatl.org/event/ballet-tap-level-ii-2/
END:VEVENT
BEGIN:VEVENT
DTSTART;TZID=America/New_York:20220819T151500
DTEND;TZID=America/New_York:20220819T161500
DTSTAMP:20260423T065556
CREATED:20220815T164149Z
LAST-MODIFIED:20220819T171146Z
UID:10008605-1660922100-1660925700@www.tcsatl.org
SUMMARY:Amazing Athletes
DESCRIPTION:
URL:https://www.tcsatl.org/event/amazing-athletes-25/
END:VEVENT
BEGIN:VEVENT
DTSTART;TZID=America/New_York:20220819T151500
DTEND;TZID=America/New_York:20220819T161500
DTSTAMP:20260423T065556
CREATED:20220815T164149Z
LAST-MODIFIED:20220819T171146Z
UID:10008603-1660922100-1660925700@www.tcsatl.org
SUMMARY:Intro to Gymnastics
DESCRIPTION:
URL:https://www.tcsatl.org/event/intro-to-gymnastics/
END:VEVENT
BEGIN:VEVENT
DTSTART;TZID=America/New_York:20220819T151500
DTEND;TZID=America/New_York:20220819T161500
DTSTAMP:20260423T065556
CREATED:20220815T164149Z
LAST-MODIFIED:20220815T164149Z
UID:10008604-1660922100-1660925700@www.tcsatl.org
SUMMARY:Intro to Gymnastics
DESCRIPTION:
URL:https://www.tcsatl.org/event/intro-to-gymnastics-2/
END:VEVENT
BEGIN:VEVENT
DTSTART;TZID=America/New_York:20220819T151500
DTEND;TZID=America/New_York:20220819T163000
DTSTAMP:20260423T065556
CREATED:20220815T171205Z
LAST-MODIFIED:20220819T171123Z
UID:10009131-1660922100-1660926600@www.tcsatl.org
SUMMARY:MAAC Boys & Girls Cross Country (6th-8th)
DESCRIPTION:
URL:https://www.tcsatl.org/event/maac-boys-girls-cross-country-6th-8th-3/
END:VEVENT
BEGIN:VEVENT
DTSTART;TZID=America/New_York:20220819T151500
DTEND;TZID=America/New_York:20220819T163000
DTSTAMP:20260423T065556
CREATED:20220815T171205Z
LAST-MODIFIED:20220819T171123Z
UID:10009133-1660922100-1660926600@www.tcsatl.org
SUMMARY:MAAC Girls Volleyball (6th - 8th)
DESCRIPTION:
URL:https://www.tcsatl.org/event/maac-girls-volleyball-6th-8th-3/
END:VEVENT
BEGIN:VEVENT
DTSTART;TZID=America/New_York:20220819T161500
DTEND;TZID=America/New_York:20220819T171500
DTSTAMP:20260423T065556
CREATED:20220815T164149Z
LAST-MODIFIED:20220819T171146Z
UID:10008601-1660925700-1660929300@www.tcsatl.org
SUMMARY:Intro to Ballet/Tap
DESCRIPTION:
URL:https://www.tcsatl.org/event/intro-to-ballet-tap/
END:VEVENT
BEGIN:VEVENT
DTSTART;TZID=America/New_York:20220822T151500
DTEND;TZID=America/New_York:20220822T161500
DTSTAMP:20260423T065556
CREATED:20220815T164149Z
LAST-MODIFIED:20220822T172629Z
UID:10008606-1661181300-1661184900@www.tcsatl.org
SUMMARY:Bricks4Kidz
DESCRIPTION:
URL:https://www.tcsatl.org/event/bricks4kidz-3/
END:VEVENT
BEGIN:VEVENT
DTSTART;TZID=America/New_York:20220822T151500
DTEND;TZID=America/New_York:20220822T163000
DTSTAMP:20260423T065556
CREATED:20220815T171206Z
LAST-MODIFIED:20220822T172616Z
UID:10009135-1661181300-1661185800@www.tcsatl.org
SUMMARY:Intramural Boys & Girls Cross Country (3rd-5th)
DESCRIPTION:
URL:https://www.tcsatl.org/event/intramural-boys-girls-cross-country-3rd-5th-3/
END:VEVENT
BEGIN:VEVENT
DTSTART;TZID=America/New_York:20220822T151500
DTEND;TZID=America/New_York:20220822T163000
DTSTAMP:20260423T065556
CREATED:20220815T171206Z
LAST-MODIFIED:20220822T172615Z
UID:10009145-1661181300-1661185800@www.tcsatl.org
SUMMARY:MAAC Girls Volleyball (6th - 8th)
DESCRIPTION:
URL:https://www.tcsatl.org/event/maac-girls-volleyball-6th-8th-4/
END:VEVENT
BEGIN:VEVENT
DTSTART;TZID=America/New_York:20220823T151500
DTEND;TZID=America/New_York:20220823T161500
DTSTAMP:20260423T065556
CREATED:20220815T164149Z
LAST-MODIFIED:20220823T172815Z
UID:10008607-1661267700-1661271300@www.tcsatl.org
SUMMARY:Percussion Ensemble
DESCRIPTION:
URL:https://www.tcsatl.org/event/percussion-ensemble-3/
END:VEVENT
BEGIN:VEVENT
DTSTART;TZID=America/New_York:20220823T151500
DTEND;TZID=America/New_York:20220823T163000
DTSTAMP:20260423T065556
CREATED:20220815T171206Z
LAST-MODIFIED:20220823T172759Z
UID:10009154-1661267700-1661272200@www.tcsatl.org
SUMMARY:MAAC Boys & Girls Cross Country (6th-8th)
DESCRIPTION:
URL:https://www.tcsatl.org/event/maac-boys-girls-cross-country-6th-8th-4/
END:VEVENT
BEGIN:VEVENT
DTSTART;TZID=America/New_York:20220823T151500
DTEND;TZID=America/New_York:20220823T163000
DTSTAMP:20260423T065556
CREATED:20220815T171206Z
LAST-MODIFIED:20220823T172800Z
UID:10009147-1661267700-1661272200@www.tcsatl.org
SUMMARY:Intramural Co-Ed Volleyball (3rd-5th)
DESCRIPTION:
URL:https://www.tcsatl.org/event/intramural-co-ed-volleyball-3rd-5th-3/
END:VEVENT
BEGIN:VEVENT
DTSTART;TZID=America/New_York:20220823T151500
DTEND;TZID=America/New_York:20220823T163000
DTSTAMP:20260423T065556
CREATED:20220815T171206Z
LAST-MODIFIED:20220823T172759Z
UID:10009155-1661267700-1661272200@www.tcsatl.org
SUMMARY:Intramural Co-Ed Tennis (3rd-5th)
DESCRIPTION:
URL:https://www.tcsatl.org/event/intramural-co-ed-tennis-3rd-5th-3/
END:VEVENT
BEGIN:VEVENT
DTSTART;TZID=America/New_York:20220823T161500
DTEND;TZID=America/New_York:20220823T171500
DTSTAMP:20260423T065556
CREATED:20220815T164149Z
LAST-MODIFIED:20220823T172815Z
UID:10008608-1661271300-1661274900@www.tcsatl.org
SUMMARY:Intro to Drums
DESCRIPTION:
URL:https://www.tcsatl.org/event/intro-to-drums-3/
END:VEVENT
END:VCALENDAR