BEGIN:VCALENDAR
VERSION:2.0
PRODID:-//The Children&#039;s School - ECPv6.15.15//NONSGML v1.0//EN
CALSCALE:GREGORIAN
METHOD:PUBLISH
X-WR-CALNAME:The Children&#039;s School
X-ORIGINAL-URL:https://www.tcsatl.org
X-WR-CALDESC:Events for The Children&#039;s School
REFRESH-INTERVAL;VALUE=DURATION:PT1H
X-Robots-Tag:noindex
X-PUBLISHED-TTL:PT1H
BEGIN:VTIMEZONE
TZID:America/New_York
BEGIN:DAYLIGHT
TZOFFSETFROM:-0500
TZOFFSETTO:-0400
TZNAME:EDT
DTSTART:20210314T070000
END:DAYLIGHT
BEGIN:STANDARD
TZOFFSETFROM:-0400
TZOFFSETTO:-0500
TZNAME:EST
DTSTART:20211107T060000
END:STANDARD
BEGIN:DAYLIGHT
TZOFFSETFROM:-0500
TZOFFSETTO:-0400
TZNAME:EDT
DTSTART:20220313T070000
END:DAYLIGHT
BEGIN:STANDARD
TZOFFSETFROM:-0400
TZOFFSETTO:-0500
TZNAME:EST
DTSTART:20221106T060000
END:STANDARD
BEGIN:DAYLIGHT
TZOFFSETFROM:-0500
TZOFFSETTO:-0400
TZNAME:EDT
DTSTART:20230312T070000
END:DAYLIGHT
BEGIN:STANDARD
TZOFFSETFROM:-0400
TZOFFSETTO:-0500
TZNAME:EST
DTSTART:20231105T060000
END:STANDARD
END:VTIMEZONE
BEGIN:VEVENT
DTSTART;TZID=America/New_York:20220203T151500
DTEND;TZID=America/New_York:20220203T163000
DTSTAMP:20260423T065254
CREATED:20211110T193651Z
LAST-MODIFIED:20220203T022605Z
UID:10008521-1643901300-1643905800@www.tcsatl.org
SUMMARY:Intramural Ultimate Frisbee (Grade 3-5)
DESCRIPTION:
URL:https://www.tcsatl.org/event/intramural-ultimate-frisbee-grade-3-5-25/
END:VEVENT
BEGIN:VEVENT
DTSTART;TZID=America/New_York:20220202T151500
DTEND;TZID=America/New_York:20220202T163000
DTSTAMP:20260423T065254
CREATED:20211110T193651Z
LAST-MODIFIED:20220202T021227Z
UID:10008519-1643814900-1643819400@www.tcsatl.org
SUMMARY:Intramural Tennis (Grades 3-5)
DESCRIPTION:
URL:https://www.tcsatl.org/event/intramural-tennis-grades-3-5-13/
END:VEVENT
BEGIN:VEVENT
DTSTART;TZID=America/New_York:20220201T151500
DTEND;TZID=America/New_York:20220201T163000
DTSTAMP:20260423T065254
CREATED:20211110T193651Z
LAST-MODIFIED:20220201T021312Z
UID:10008518-1643728500-1643733000@www.tcsatl.org
SUMMARY:Intramural Tennis (Grades 5-8)
DESCRIPTION:
URL:https://www.tcsatl.org/event/intramural-tennis-grades-5-8-12/
END:VEVENT
BEGIN:VEVENT
DTSTART;TZID=America/New_York:20220131T151500
DTEND;TZID=America/New_York:20220131T163000
DTSTAMP:20260423T065254
CREATED:20211110T193651Z
LAST-MODIFIED:20220131T021201Z
UID:10008515-1643642100-1643646600@www.tcsatl.org
SUMMARY:Intramural Ultimate Frisbee (Grades 6-8)
DESCRIPTION:
URL:https://www.tcsatl.org/event/intramural-ultimate-frisbee-grades-6-8-12/
END:VEVENT
BEGIN:VEVENT
DTSTART;TZID=America/New_York:20220131T151500
DTEND;TZID=America/New_York:20220131T163000
DTSTAMP:20260423T065254
CREATED:20211110T193651Z
LAST-MODIFIED:20220131T021201Z
UID:10008516-1643642100-1643646600@www.tcsatl.org
SUMMARY:Intramural Ultimate Frisbee (Grade 3-5)
DESCRIPTION:
URL:https://www.tcsatl.org/event/intramural-ultimate-frisbee-grade-3-5-24/
END:VEVENT
BEGIN:VEVENT
DTSTART;TZID=America/New_York:20220131T151500
DTEND;TZID=America/New_York:20220131T163000
DTSTAMP:20260423T065254
CREATED:20211110T193651Z
LAST-MODIFIED:20220131T021200Z
UID:10008517-1643642100-1643646600@www.tcsatl.org
SUMMARY:Intramural Cross Country/Track (Grades 3-8)
DESCRIPTION:
URL:https://www.tcsatl.org/event/intramural-cross-country-track-grades-3-8-24/
END:VEVENT
BEGIN:VEVENT
DTSTART;TZID=America/New_York:20220131T151500
DTEND;TZID=America/New_York:20220131T163000
DTSTAMP:20260423T065254
CREATED:20211110T193650Z
LAST-MODIFIED:20220131T021201Z
UID:10008514-1643642100-1643646600@www.tcsatl.org
SUMMARY:Intramural Volleyball (Grades 3-8)
DESCRIPTION:
URL:https://www.tcsatl.org/event/intramural-volleyball-grades-3-8-12/
END:VEVENT
BEGIN:VEVENT
DTSTART;TZID=America/New_York:20220127T151500
DTEND;TZID=America/New_York:20220127T163000
DTSTAMP:20260423T065254
CREATED:20211110T193650Z
LAST-MODIFIED:20220127T020216Z
UID:10008512-1643296500-1643301000@www.tcsatl.org
SUMMARY:Intramural Ultimate Frisbee (Grade 3-5)
DESCRIPTION:
URL:https://www.tcsatl.org/event/intramural-ultimate-frisbee-grade-3-5-23/
END:VEVENT
BEGIN:VEVENT
DTSTART;TZID=America/New_York:20220127T151500
DTEND;TZID=America/New_York:20220127T163000
DTSTAMP:20260423T065254
CREATED:20211110T193650Z
LAST-MODIFIED:20220127T020216Z
UID:10008513-1643296500-1643301000@www.tcsatl.org
SUMMARY:Intramural Cross Country/Track (Grades 3-8)
DESCRIPTION:
URL:https://www.tcsatl.org/event/intramural-cross-country-track-grades-3-8-23/
END:VEVENT
BEGIN:VEVENT
DTSTART;TZID=America/New_York:20220126T151500
DTEND;TZID=America/New_York:20220126T163000
DTSTAMP:20260423T065254
CREATED:20211110T193650Z
LAST-MODIFIED:20220126T015633Z
UID:10008511-1643210100-1643214600@www.tcsatl.org
SUMMARY:Intramural Tennis (Grades 3-5)
DESCRIPTION:
URL:https://www.tcsatl.org/event/intramural-tennis-grades-3-5-12/
END:VEVENT
BEGIN:VEVENT
DTSTART;TZID=America/New_York:20220125T151500
DTEND;TZID=America/New_York:20220125T163000
DTSTAMP:20260423T065254
CREATED:20211110T193650Z
LAST-MODIFIED:20220125T015702Z
UID:10008510-1643123700-1643128200@www.tcsatl.org
SUMMARY:Intramural Tennis (Grades 5-8)
DESCRIPTION:
URL:https://www.tcsatl.org/event/intramural-tennis-grades-5-8-11/
END:VEVENT
BEGIN:VEVENT
DTSTART;TZID=America/New_York:20220124T151500
DTEND;TZID=America/New_York:20220124T163000
DTSTAMP:20260423T065254
CREATED:20211110T193650Z
LAST-MODIFIED:20220124T014232Z
UID:10008508-1643037300-1643041800@www.tcsatl.org
SUMMARY:Intramural Ultimate Frisbee (Grade 3-5)
DESCRIPTION:
URL:https://www.tcsatl.org/event/intramural-ultimate-frisbee-grade-3-5-22/
END:VEVENT
BEGIN:VEVENT
DTSTART;TZID=America/New_York:20220124T151500
DTEND;TZID=America/New_York:20220124T163000
DTSTAMP:20260423T065254
CREATED:20211110T193650Z
LAST-MODIFIED:20220124T014232Z
UID:10008509-1643037300-1643041800@www.tcsatl.org
SUMMARY:Intramural Ultimate Frisbee (Grades 6-8)
DESCRIPTION:
URL:https://www.tcsatl.org/event/intramural-ultimate-frisbee-grades-6-8-11/
END:VEVENT
BEGIN:VEVENT
DTSTART;TZID=America/New_York:20220124T151500
DTEND;TZID=America/New_York:20220124T163000
DTSTAMP:20260423T065254
CREATED:20211110T193649Z
LAST-MODIFIED:20220124T014232Z
UID:10008506-1643037300-1643041800@www.tcsatl.org
SUMMARY:Intramural Volleyball (Grades 3-8)
DESCRIPTION:
URL:https://www.tcsatl.org/event/intramural-volleyball-grades-3-8-11/
END:VEVENT
BEGIN:VEVENT
DTSTART;TZID=America/New_York:20220124T151500
DTEND;TZID=America/New_York:20220124T163000
DTSTAMP:20260423T065254
CREATED:20211110T193649Z
LAST-MODIFIED:20220124T014232Z
UID:10008507-1643037300-1643041800@www.tcsatl.org
SUMMARY:Intramural Cross Country/Track (Grades 3-8)
DESCRIPTION:
URL:https://www.tcsatl.org/event/intramural-cross-country-track-grades-3-8-22/
END:VEVENT
BEGIN:VEVENT
DTSTART;TZID=America/New_York:20220120T151500
DTEND;TZID=America/New_York:20220120T163000
DTSTAMP:20260423T065254
CREATED:20211110T193649Z
LAST-MODIFIED:20220120T014250Z
UID:10008504-1642691700-1642696200@www.tcsatl.org
SUMMARY:Intramural Ultimate Frisbee (Grade 3-5)
DESCRIPTION:
URL:https://www.tcsatl.org/event/intramural-ultimate-frisbee-grade-3-5-21/
END:VEVENT
BEGIN:VEVENT
DTSTART;TZID=America/New_York:20220120T151500
DTEND;TZID=America/New_York:20220120T163000
DTSTAMP:20260423T065254
CREATED:20211110T193649Z
LAST-MODIFIED:20220120T014250Z
UID:10008505-1642691700-1642696200@www.tcsatl.org
SUMMARY:Intramural Cross Country/Track (Grades 3-8)
DESCRIPTION:
URL:https://www.tcsatl.org/event/intramural-cross-country-track-grades-3-8-21/
END:VEVENT
BEGIN:VEVENT
DTSTART;TZID=America/New_York:20220119T151500
DTEND;TZID=America/New_York:20220119T163000
DTSTAMP:20260423T065254
CREATED:20211110T193649Z
LAST-MODIFIED:20220119T014355Z
UID:10008503-1642605300-1642609800@www.tcsatl.org
SUMMARY:Intramural Tennis (Grades 3-5)
DESCRIPTION:
URL:https://www.tcsatl.org/event/intramural-tennis-grades-3-5-11/
END:VEVENT
BEGIN:VEVENT
DTSTART;TZID=America/New_York:20220118T151500
DTEND;TZID=America/New_York:20220118T163000
DTSTAMP:20260423T065254
CREATED:20211110T193649Z
LAST-MODIFIED:20220118T012612Z
UID:10008502-1642518900-1642523400@www.tcsatl.org
SUMMARY:Intramural Tennis (Grades 5-8)
DESCRIPTION:
URL:https://www.tcsatl.org/event/intramural-tennis-grades-5-8-10/
END:VEVENT
BEGIN:VEVENT
DTSTART;TZID=America/New_York:20220117T151500
DTEND;TZID=America/New_York:20220117T163000
DTSTAMP:20260423T065254
CREATED:20211110T193649Z
LAST-MODIFIED:20220117T012739Z
UID:10008501-1642432500-1642437000@www.tcsatl.org
SUMMARY:Intramural Volleyball (Grades 3-8)
DESCRIPTION:
URL:https://www.tcsatl.org/event/intramural-volleyball-grades-3-8-10/
END:VEVENT
BEGIN:VEVENT
DTSTART;TZID=America/New_York:20220117T151500
DTEND;TZID=America/New_York:20220117T163000
DTSTAMP:20260423T065254
CREATED:20211110T193648Z
LAST-MODIFIED:20220117T012739Z
UID:10008498-1642432500-1642437000@www.tcsatl.org
SUMMARY:Intramural Ultimate Frisbee (Grade 3-5)
DESCRIPTION:
URL:https://www.tcsatl.org/event/intramural-ultimate-frisbee-grade-3-5-20/
END:VEVENT
BEGIN:VEVENT
DTSTART;TZID=America/New_York:20220117T151500
DTEND;TZID=America/New_York:20220117T163000
DTSTAMP:20260423T065254
CREATED:20211110T193648Z
LAST-MODIFIED:20220117T012739Z
UID:10008499-1642432500-1642437000@www.tcsatl.org
SUMMARY:Intramural Ultimate Frisbee (Grades 6-8)
DESCRIPTION:
URL:https://www.tcsatl.org/event/intramural-ultimate-frisbee-grades-6-8-10/
END:VEVENT
BEGIN:VEVENT
DTSTART;TZID=America/New_York:20220117T151500
DTEND;TZID=America/New_York:20220117T163000
DTSTAMP:20260423T065254
CREATED:20211110T193648Z
LAST-MODIFIED:20220117T012739Z
UID:10008500-1642432500-1642437000@www.tcsatl.org
SUMMARY:Intramural Cross Country/Track (Grades 3-8)
DESCRIPTION:
URL:https://www.tcsatl.org/event/intramural-cross-country-track-grades-3-8-20/
END:VEVENT
BEGIN:VEVENT
DTSTART;VALUE=DATE:20220117
DTEND;VALUE=DATE:20220118
DTSTAMP:20260423T065254
CREATED:20211110T193413Z
LAST-MODIFIED:20220117T015921Z
UID:10008413-1642377600-1642463999@www.tcsatl.org
SUMMARY:School Closed -  MLK Jr. DAY
DESCRIPTION:
URL:https://www.tcsatl.org/event/school-closed-mlk-jr-day-2/
END:VEVENT
BEGIN:VEVENT
DTSTART;TZID=America/New_York:20220113T151500
DTEND;TZID=America/New_York:20220113T163000
DTSTAMP:20260423T065254
CREATED:20211110T193648Z
LAST-MODIFIED:20220113T005958Z
UID:10008496-1642086900-1642091400@www.tcsatl.org
SUMMARY:Intramural Ultimate Frisbee (Grade 3-5)
DESCRIPTION:
URL:https://www.tcsatl.org/event/intramural-ultimate-frisbee-grade-3-5-19/
END:VEVENT
BEGIN:VEVENT
DTSTART;TZID=America/New_York:20220113T151500
DTEND;TZID=America/New_York:20220113T163000
DTSTAMP:20260423T065254
CREATED:20211110T193648Z
LAST-MODIFIED:20220113T005958Z
UID:10008497-1642086900-1642091400@www.tcsatl.org
SUMMARY:Intramural Cross Country/Track (Grades 3-8)
DESCRIPTION:
URL:https://www.tcsatl.org/event/intramural-cross-country-track-grades-3-8-19/
END:VEVENT
BEGIN:VEVENT
DTSTART;TZID=America/New_York:20220112T151500
DTEND;TZID=America/New_York:20220112T163000
DTSTAMP:20260423T065254
CREATED:20211110T193648Z
LAST-MODIFIED:20220112T005615Z
UID:10008495-1642000500-1642005000@www.tcsatl.org
SUMMARY:Intramural Tennis (Grades 3-5)
DESCRIPTION:
URL:https://www.tcsatl.org/event/intramural-tennis-grades-3-5-10/
END:VEVENT
BEGIN:VEVENT
DTSTART;TZID=America/New_York:20220111T151500
DTEND;TZID=America/New_York:20220111T163000
DTSTAMP:20260423T065254
CREATED:20211110T193647Z
LAST-MODIFIED:20220111T005759Z
UID:10008494-1641914100-1641918600@www.tcsatl.org
SUMMARY:Intramural Tennis (Grades 5-8)
DESCRIPTION:
URL:https://www.tcsatl.org/event/intramural-tennis-grades-5-8-9/
END:VEVENT
BEGIN:VEVENT
DTSTART;TZID=America/New_York:20220110T151500
DTEND;TZID=America/New_York:20220110T163000
DTSTAMP:20260423T065254
CREATED:20211110T193647Z
LAST-MODIFIED:20220110T005622Z
UID:10008490-1641827700-1641832200@www.tcsatl.org
SUMMARY:Intramural Volleyball (Grades 3-8)
DESCRIPTION:
URL:https://www.tcsatl.org/event/intramural-volleyball-grades-3-8-9/
END:VEVENT
BEGIN:VEVENT
DTSTART;TZID=America/New_York:20220110T151500
DTEND;TZID=America/New_York:20220110T163000
DTSTAMP:20260423T065254
CREATED:20211110T193647Z
LAST-MODIFIED:20220110T005622Z
UID:10008491-1641827700-1641832200@www.tcsatl.org
SUMMARY:Intramural Ultimate Frisbee (Grades 6-8)
DESCRIPTION:
URL:https://www.tcsatl.org/event/intramural-ultimate-frisbee-grades-6-8-9/
END:VEVENT
END:VCALENDAR