BEGIN:VCALENDAR
VERSION:2.0
PRODID:-//The Children&#039;s School - ECPv6.15.15//NONSGML v1.0//EN
CALSCALE:GREGORIAN
METHOD:PUBLISH
X-WR-CALNAME:The Children&#039;s School
X-ORIGINAL-URL:https://www.tcsatl.org
X-WR-CALDESC:Events for The Children&#039;s School
REFRESH-INTERVAL;VALUE=DURATION:PT1H
X-Robots-Tag:noindex
X-PUBLISHED-TTL:PT1H
BEGIN:VTIMEZONE
TZID:America/New_York
BEGIN:DAYLIGHT
TZOFFSETFROM:-0500
TZOFFSETTO:-0400
TZNAME:EDT
DTSTART:20200308T070000
END:DAYLIGHT
BEGIN:STANDARD
TZOFFSETFROM:-0400
TZOFFSETTO:-0500
TZNAME:EST
DTSTART:20201101T060000
END:STANDARD
BEGIN:DAYLIGHT
TZOFFSETFROM:-0500
TZOFFSETTO:-0400
TZNAME:EDT
DTSTART:20210314T070000
END:DAYLIGHT
BEGIN:STANDARD
TZOFFSETFROM:-0400
TZOFFSETTO:-0500
TZNAME:EST
DTSTART:20211107T060000
END:STANDARD
BEGIN:DAYLIGHT
TZOFFSETFROM:-0500
TZOFFSETTO:-0400
TZNAME:EDT
DTSTART:20220313T070000
END:DAYLIGHT
BEGIN:STANDARD
TZOFFSETFROM:-0400
TZOFFSETTO:-0500
TZNAME:EST
DTSTART:20221106T060000
END:STANDARD
END:VTIMEZONE
BEGIN:VEVENT
DTSTART;TZID=America/New_York:20210415T151500
DTEND;TZID=America/New_York:20210415T163000
DTSTAMP:20260423T184620
CREATED:20210107T190638Z
LAST-MODIFIED:20210113T020546Z
UID:10008397-1618499700-1618504200@www.tcsatl.org
SUMMARY:Intramural Tennis - 6th to 8th Grade
DESCRIPTION:Carpool is 4:30 – 4:45 PM
URL:https://www.tcsatl.org/event/intramural-tennis-6th-to-8th-grade-10/
END:VEVENT
BEGIN:VEVENT
DTSTART;TZID=America/New_York:20210415T151500
DTEND;TZID=America/New_York:20210415T161500
DTSTAMP:20260423T184620
CREATED:20210107T190638Z
LAST-MODIFIED:20210113T020546Z
UID:10008398-1618499700-1618503300@www.tcsatl.org
SUMMARY:Intramural Flag Football - 5th to 8th Grade
DESCRIPTION:Carpool is 4:15 PM to 4:30 PM
URL:https://www.tcsatl.org/event/intramural-flag-football-5th-to-8th-grade-20/
END:VEVENT
BEGIN:VEVENT
DTSTART;TZID=America/New_York:20210415T151500
DTEND;TZID=America/New_York:20210415T161500
DTSTAMP:20260423T184620
CREATED:20210107T190638Z
LAST-MODIFIED:20210113T020546Z
UID:10008399-1618499700-1618503300@www.tcsatl.org
SUMMARY:Intramural Ultimate Frisbee (Co-ed) - 3rd to 5th Grade
DESCRIPTION:Carpool is 4:15pm to 4:30 PM
URL:https://www.tcsatl.org/event/intramural-ultimate-frisbee-co-ed-3rd-to-5th-grade-20/
END:VEVENT
BEGIN:VEVENT
DTSTART;VALUE=DATE:20210413
DTEND;VALUE=DATE:20210414
DTSTAMP:20260423T184620
CREATED:20200127T003453Z
LAST-MODIFIED:20210112T010244Z
UID:10008257-1618272000-1618358399@www.tcsatl.org
SUMMARY:Students Return from Spring Break
DESCRIPTION:
URL:https://www.tcsatl.org/event/students-return-from-spring-break-2/
END:VEVENT
BEGIN:VEVENT
DTSTART;TZID=America/New_York:20210412T151500
DTEND;TZID=America/New_York:20210412T161500
DTSTAMP:20260423T184620
CREATED:20210107T190638Z
LAST-MODIFIED:20210113T020546Z
UID:10008395-1618240500-1618244100@www.tcsatl.org
SUMMARY:Intramural Ultimate Frisbee (Co-ed) - 3rd to 5th Grade
DESCRIPTION:Carpool is 4:15pm to 4:30 PM
URL:https://www.tcsatl.org/event/intramural-ultimate-frisbee-co-ed-3rd-to-5th-grade-19/
END:VEVENT
BEGIN:VEVENT
DTSTART;TZID=America/New_York:20210412T151500
DTEND;TZID=America/New_York:20210412T161500
DTSTAMP:20260423T184620
CREATED:20210107T190638Z
LAST-MODIFIED:20210113T020546Z
UID:10008396-1618240500-1618244100@www.tcsatl.org
SUMMARY:Intramural Flag Football - 5th to 8th Grade
DESCRIPTION:Carpool is 4:15 PM to 4:30 PM
URL:https://www.tcsatl.org/event/intramural-flag-football-5th-to-8th-grade-19/
END:VEVENT
BEGIN:VEVENT
DTSTART;VALUE=DATE:20210412
DTEND;VALUE=DATE:20210413
DTSTAMP:20260423T184620
CREATED:20200127T003453Z
LAST-MODIFIED:20210112T010244Z
UID:10008256-1618185600-1618271999@www.tcsatl.org
SUMMARY:SPRING BREAK - School Closed
DESCRIPTION:
URL:https://www.tcsatl.org/event/spring-break-school-closed-9/
END:VEVENT
BEGIN:VEVENT
DTSTART;VALUE=DATE:20210409
DTEND;VALUE=DATE:20210410
DTSTAMP:20260423T184620
CREATED:20200125T003019Z
LAST-MODIFIED:20210112T010244Z
UID:10008243-1617926400-1618012799@www.tcsatl.org
SUMMARY:SPRING BREAK - School Closed
DESCRIPTION:
URL:https://www.tcsatl.org/event/spring-break-school-closed-8/
END:VEVENT
BEGIN:VEVENT
DTSTART;TZID=America/New_York:20210408T151500
DTEND;TZID=America/New_York:20210408T163000
DTSTAMP:20260423T184620
CREATED:20210107T190638Z
LAST-MODIFIED:20210113T020546Z
UID:10008393-1617894900-1617899400@www.tcsatl.org
SUMMARY:Intramural Tennis - 6th to 8th Grade
DESCRIPTION:Carpool is 4:30 – 4:45 PM
URL:https://www.tcsatl.org/event/intramural-tennis-6th-to-8th-grade-9/
END:VEVENT
BEGIN:VEVENT
DTSTART;TZID=America/New_York:20210408T151500
DTEND;TZID=America/New_York:20210408T161500
DTSTAMP:20260423T184620
CREATED:20210107T190638Z
LAST-MODIFIED:20210113T020546Z
UID:10008392-1617894900-1617898500@www.tcsatl.org
SUMMARY:Intramural Ultimate Frisbee (Co-ed) - 3rd to 5th Grade
DESCRIPTION:Carpool is 4:15pm to 4:30 PM
URL:https://www.tcsatl.org/event/intramural-ultimate-frisbee-co-ed-3rd-to-5th-grade-18/
END:VEVENT
BEGIN:VEVENT
DTSTART;TZID=America/New_York:20210408T151500
DTEND;TZID=America/New_York:20210408T161500
DTSTAMP:20260423T184620
CREATED:20210107T190638Z
LAST-MODIFIED:20210113T020546Z
UID:10008394-1617894900-1617898500@www.tcsatl.org
SUMMARY:Intramural Flag Football - 5th to 8th Grade
DESCRIPTION:Carpool is 4:15 PM to 4:30 PM
URL:https://www.tcsatl.org/event/intramural-flag-football-5th-to-8th-grade-18/
END:VEVENT
BEGIN:VEVENT
DTSTART;VALUE=DATE:20210408
DTEND;VALUE=DATE:20210409
DTSTAMP:20260423T184620
CREATED:20200121T003132Z
LAST-MODIFIED:20210112T010244Z
UID:10008146-1617840000-1617926399@www.tcsatl.org
SUMMARY:SPRING BREAK - School Closed
DESCRIPTION:
URL:https://www.tcsatl.org/event/spring-break-school-closed-7/
END:VEVENT
BEGIN:VEVENT
DTSTART;VALUE=DATE:20210407
DTEND;VALUE=DATE:20210408
DTSTAMP:20260423T184620
CREATED:20200116T001600Z
LAST-MODIFIED:20210112T010244Z
UID:10007847-1617753600-1617839999@www.tcsatl.org
SUMMARY:SPRING BREAK - School Closed
DESCRIPTION:
URL:https://www.tcsatl.org/event/spring-break-school-closed-6/
END:VEVENT
BEGIN:VEVENT
DTSTART;VALUE=DATE:20210406
DTEND;VALUE=DATE:20210407
DTSTAMP:20260423T184620
CREATED:20200116T001600Z
LAST-MODIFIED:20210112T010243Z
UID:10007846-1617667200-1617753599@www.tcsatl.org
SUMMARY:SPRING BREAK - School Closed
DESCRIPTION:
URL:https://www.tcsatl.org/event/spring-break-school-closed-5/
END:VEVENT
BEGIN:VEVENT
DTSTART;TZID=America/New_York:20210405T151500
DTEND;TZID=America/New_York:20210405T161500
DTSTAMP:20260423T184620
CREATED:20210107T190637Z
LAST-MODIFIED:20210113T020546Z
UID:10008390-1617635700-1617639300@www.tcsatl.org
SUMMARY:Intramural Ultimate Frisbee (Co-ed) - 3rd to 5th Grade
DESCRIPTION:Carpool is 4:15pm to 4:30 PM
URL:https://www.tcsatl.org/event/intramural-ultimate-frisbee-co-ed-3rd-to-5th-grade-17/
END:VEVENT
BEGIN:VEVENT
DTSTART;TZID=America/New_York:20210405T151500
DTEND;TZID=America/New_York:20210405T161500
DTSTAMP:20260423T184620
CREATED:20210107T190637Z
LAST-MODIFIED:20210113T020546Z
UID:10008391-1617635700-1617639300@www.tcsatl.org
SUMMARY:Intramural Flag Football - 5th to 8th Grade
DESCRIPTION:Carpool is 4:15 PM to 4:30 PM
URL:https://www.tcsatl.org/event/intramural-flag-football-5th-to-8th-grade-17/
END:VEVENT
BEGIN:VEVENT
DTSTART;VALUE=DATE:20210405
DTEND;VALUE=DATE:20210406
DTSTAMP:20260423T184620
CREATED:20200116T001600Z
LAST-MODIFIED:20210112T010243Z
UID:10007845-1617580800-1617667199@www.tcsatl.org
SUMMARY:SPRING BREAK - School Closed
DESCRIPTION:
URL:https://www.tcsatl.org/event/spring-break-school-closed-4/
END:VEVENT
BEGIN:VEVENT
DTSTART;TZID=America/New_York:20210401T151500
DTEND;TZID=America/New_York:20210401T163000
DTSTAMP:20260423T184620
CREATED:20210107T190637Z
LAST-MODIFIED:20210113T020546Z
UID:10008388-1617290100-1617294600@www.tcsatl.org
SUMMARY:Intramural Tennis - 6th to 8th Grade
DESCRIPTION:Carpool is 4:30 – 4:45 PM
URL:https://www.tcsatl.org/event/intramural-tennis-6th-to-8th-grade-8/
END:VEVENT
BEGIN:VEVENT
DTSTART;TZID=America/New_York:20210401T151500
DTEND;TZID=America/New_York:20210401T161500
DTSTAMP:20260423T184620
CREATED:20210107T190637Z
LAST-MODIFIED:20210113T020546Z
UID:10008389-1617290100-1617293700@www.tcsatl.org
SUMMARY:Intramural Ultimate Frisbee (Co-ed) - 3rd to 5th Grade
DESCRIPTION:Carpool is 4:15pm to 4:30 PM
URL:https://www.tcsatl.org/event/intramural-ultimate-frisbee-co-ed-3rd-to-5th-grade-16/
END:VEVENT
BEGIN:VEVENT
DTSTART;TZID=America/New_York:20210401T151500
DTEND;TZID=America/New_York:20210401T161500
DTSTAMP:20260423T184620
CREATED:20210107T190637Z
LAST-MODIFIED:20210113T020546Z
UID:10008387-1617290100-1617293700@www.tcsatl.org
SUMMARY:Intramural Flag Football - 5th to 8th Grade
DESCRIPTION:Carpool is 4:15 PM to 4:30 PM
URL:https://www.tcsatl.org/event/intramural-flag-football-5th-to-8th-grade-16/
END:VEVENT
BEGIN:VEVENT
DTSTART;TZID=America/New_York:20210329T151500
DTEND;TZID=America/New_York:20210329T161500
DTSTAMP:20260423T184620
CREATED:20210107T190637Z
LAST-MODIFIED:20210113T020545Z
UID:10008385-1617030900-1617034500@www.tcsatl.org
SUMMARY:Intramural Flag Football - 5th to 8th Grade
DESCRIPTION:Carpool is 4:15 PM to 4:30 PM
URL:https://www.tcsatl.org/event/intramural-flag-football-5th-to-8th-grade-15/
END:VEVENT
BEGIN:VEVENT
DTSTART;TZID=America/New_York:20210329T151500
DTEND;TZID=America/New_York:20210329T161500
DTSTAMP:20260423T184620
CREATED:20210107T190637Z
LAST-MODIFIED:20210113T020546Z
UID:10008386-1617030900-1617034500@www.tcsatl.org
SUMMARY:Intramural Ultimate Frisbee (Co-ed) - 3rd to 5th Grade
DESCRIPTION:Carpool is 4:15pm to 4:30 PM
URL:https://www.tcsatl.org/event/intramural-ultimate-frisbee-co-ed-3rd-to-5th-grade-15/
END:VEVENT
BEGIN:VEVENT
DTSTART;TZID=America/New_York:20210325T151500
DTEND;TZID=America/New_York:20210325T163000
DTSTAMP:20260423T184620
CREATED:20210107T190637Z
LAST-MODIFIED:20210113T020545Z
UID:10008384-1616685300-1616689800@www.tcsatl.org
SUMMARY:Intramural Tennis - 6th to 8th Grade
DESCRIPTION:Carpool is 4:30 – 4:45 PM
URL:https://www.tcsatl.org/event/intramural-tennis-6th-to-8th-grade-7/
END:VEVENT
BEGIN:VEVENT
DTSTART;TZID=America/New_York:20210325T151500
DTEND;TZID=America/New_York:20210325T161500
DTSTAMP:20260423T184620
CREATED:20210107T190637Z
LAST-MODIFIED:20210113T020545Z
UID:10008382-1616685300-1616688900@www.tcsatl.org
SUMMARY:Intramural Flag Football - 5th to 8th Grade
DESCRIPTION:Carpool is 4:15 PM to 4:30 PM
URL:https://www.tcsatl.org/event/intramural-flag-football-5th-to-8th-grade-14/
END:VEVENT
BEGIN:VEVENT
DTSTART;TZID=America/New_York:20210325T151500
DTEND;TZID=America/New_York:20210325T161500
DTSTAMP:20260423T184620
CREATED:20210107T190637Z
LAST-MODIFIED:20210113T020545Z
UID:10008383-1616685300-1616688900@www.tcsatl.org
SUMMARY:Intramural Ultimate Frisbee (Co-ed) - 3rd to 5th Grade
DESCRIPTION:Carpool is 4:15pm to 4:30 PM
URL:https://www.tcsatl.org/event/intramural-ultimate-frisbee-co-ed-3rd-to-5th-grade-14/
END:VEVENT
BEGIN:VEVENT
DTSTART;TZID=America/New_York:20210322T151500
DTEND;TZID=America/New_York:20210322T161500
DTSTAMP:20260423T184620
CREATED:20210107T190636Z
LAST-MODIFIED:20210113T020545Z
UID:10008381-1616426100-1616429700@www.tcsatl.org
SUMMARY:Intramural Ultimate Frisbee (Co-ed) - 3rd to 5th Grade
DESCRIPTION:Carpool is 4:15pm to 4:30 PM
URL:https://www.tcsatl.org/event/intramural-ultimate-frisbee-co-ed-3rd-to-5th-grade-13/
END:VEVENT
BEGIN:VEVENT
DTSTART;TZID=America/New_York:20210322T151500
DTEND;TZID=America/New_York:20210322T161500
DTSTAMP:20260423T184620
CREATED:20210107T190636Z
LAST-MODIFIED:20210113T020545Z
UID:10008380-1616426100-1616429700@www.tcsatl.org
SUMMARY:Intramural Flag Football - 5th to 8th Grade
DESCRIPTION:Carpool is 4:15 PM to 4:30 PM
URL:https://www.tcsatl.org/event/intramural-flag-football-5th-to-8th-grade-13/
END:VEVENT
BEGIN:VEVENT
DTSTART;TZID=America/New_York:20210318T151500
DTEND;TZID=America/New_York:20210318T163000
DTSTAMP:20260423T184620
CREATED:20210107T190636Z
LAST-MODIFIED:20210113T020545Z
UID:10008379-1616080500-1616085000@www.tcsatl.org
SUMMARY:Intramural Tennis - 6th to 8th Grade
DESCRIPTION:Carpool is 4:30 – 4:45 PM
URL:https://www.tcsatl.org/event/intramural-tennis-6th-to-8th-grade-6/
END:VEVENT
BEGIN:VEVENT
DTSTART;TZID=America/New_York:20210318T151500
DTEND;TZID=America/New_York:20210318T161500
DTSTAMP:20260423T184620
CREATED:20210107T190636Z
LAST-MODIFIED:20210113T020545Z
UID:10008377-1616080500-1616084100@www.tcsatl.org
SUMMARY:Intramural Ultimate Frisbee (Co-ed) - 3rd to 5th Grade
DESCRIPTION:Carpool is 4:15pm to 4:30 PM
URL:https://www.tcsatl.org/event/intramural-ultimate-frisbee-co-ed-3rd-to-5th-grade-12/
END:VEVENT
BEGIN:VEVENT
DTSTART;TZID=America/New_York:20210318T151500
DTEND;TZID=America/New_York:20210318T161500
DTSTAMP:20260423T184620
CREATED:20210107T190636Z
LAST-MODIFIED:20210113T020545Z
UID:10008378-1616080500-1616084100@www.tcsatl.org
SUMMARY:Intramural Flag Football - 5th to 8th Grade
DESCRIPTION:Carpool is 4:15 PM to 4:30 PM
URL:https://www.tcsatl.org/event/intramural-flag-football-5th-to-8th-grade-12/
END:VEVENT
END:VCALENDAR