BEGIN:VCALENDAR
VERSION:2.0
PRODID:-//The Children&#039;s School - ECPv6.15.15//NONSGML v1.0//EN
CALSCALE:GREGORIAN
METHOD:PUBLISH
X-WR-CALNAME:The Children&#039;s School
X-ORIGINAL-URL:https://www.tcsatl.org
X-WR-CALDESC:Events for The Children&#039;s School
REFRESH-INTERVAL;VALUE=DURATION:PT1H
X-Robots-Tag:noindex
X-PUBLISHED-TTL:PT1H
BEGIN:VTIMEZONE
TZID:America/New_York
BEGIN:DAYLIGHT
TZOFFSETFROM:-0500
TZOFFSETTO:-0400
TZNAME:EDT
DTSTART:20230312T070000
END:DAYLIGHT
BEGIN:STANDARD
TZOFFSETFROM:-0400
TZOFFSETTO:-0500
TZNAME:EST
DTSTART:20231105T060000
END:STANDARD
BEGIN:DAYLIGHT
TZOFFSETFROM:-0500
TZOFFSETTO:-0400
TZNAME:EDT
DTSTART:20240310T070000
END:DAYLIGHT
BEGIN:STANDARD
TZOFFSETFROM:-0400
TZOFFSETTO:-0500
TZNAME:EST
DTSTART:20241103T060000
END:STANDARD
BEGIN:DAYLIGHT
TZOFFSETFROM:-0500
TZOFFSETTO:-0400
TZNAME:EDT
DTSTART:20250309T070000
END:DAYLIGHT
BEGIN:STANDARD
TZOFFSETFROM:-0400
TZOFFSETTO:-0500
TZNAME:EST
DTSTART:20251102T060000
END:STANDARD
END:VTIMEZONE
BEGIN:VEVENT
DTSTART;TZID=America/New_York:20240429T151500
DTEND;TZID=America/New_York:20240429T163000
DTSTAMP:20260423T072726
CREATED:20230809T164712Z
LAST-MODIFIED:20230913T010023Z
UID:10009364-1714403700-1714408200@www.tcsatl.org
SUMMARY:TCS Players (6-8th Grade)
DESCRIPTION:Carpool 4:30-4:45 PM
URL:https://www.tcsatl.org/event/tcs-players-6-8th-grade-68/
END:VEVENT
BEGIN:VEVENT
DTSTART;TZID=America/New_York:20240430T151500
DTEND;TZID=America/New_York:20240430T163000
DTSTAMP:20260423T072726
CREATED:20230809T164712Z
LAST-MODIFIED:20230913T010023Z
UID:10010422-1714490100-1714494600@www.tcsatl.org
SUMMARY:TCS Jr Voices
DESCRIPTION:Carpool 04:30 – 04:45 PM
URL:https://www.tcsatl.org/event/tcs-jr-voices-73/
END:VEVENT
BEGIN:VEVENT
DTSTART;TZID=America/New_York:20240501T151500
DTEND;TZID=America/New_York:20240501T161500
DTSTAMP:20260423T072726
CREATED:20230809T164712Z
LAST-MODIFIED:20230913T010023Z
UID:10010423-1714576500-1714580100@www.tcsatl.org
SUMMARY:TCS Jr. Players
DESCRIPTION:Carpool 4:15- 4:30 PM
URL:https://www.tcsatl.org/event/tcs-jr-players-103/
END:VEVENT
BEGIN:VEVENT
DTSTART;TZID=America/New_York:20240501T151500
DTEND;TZID=America/New_York:20240501T163000
DTSTAMP:20260423T072726
CREATED:20230809T164713Z
LAST-MODIFIED:20230913T010023Z
UID:10010424-1714576500-1714581000@www.tcsatl.org
SUMMARY:TCS Players (6-8th Grade)
DESCRIPTION:Carpool 4:30-4:45 PM
URL:https://www.tcsatl.org/event/tcs-players-6-8th-grade-69/
END:VEVENT
BEGIN:VEVENT
DTSTART;TZID=America/New_York:20240502T151500
DTEND;TZID=America/New_York:20240502T163000
DTSTAMP:20260423T072726
CREATED:20230809T164713Z
LAST-MODIFIED:20230913T010023Z
UID:10010425-1714662900-1714667400@www.tcsatl.org
SUMMARY:TCS Voices
DESCRIPTION:Carpool 4:30-4:45 PM
URL:https://www.tcsatl.org/event/tcs-voices-103/
END:VEVENT
BEGIN:VEVENT
DTSTART;TZID=America/New_York:20240506T151500
DTEND;TZID=America/New_York:20240506T163000
DTSTAMP:20260423T072726
CREATED:20230809T164713Z
LAST-MODIFIED:20230913T010023Z
UID:10010426-1715008500-1715013000@www.tcsatl.org
SUMMARY:TCS Players (6-8th Grade)
DESCRIPTION:Carpool 4:30-4:45 PM
URL:https://www.tcsatl.org/event/tcs-players-6-8th-grade-70/
END:VEVENT
BEGIN:VEVENT
DTSTART;TZID=America/New_York:20240507T151500
DTEND;TZID=America/New_York:20240507T163000
DTSTAMP:20260423T072726
CREATED:20230809T164713Z
LAST-MODIFIED:20230913T010023Z
UID:10010427-1715094900-1715099400@www.tcsatl.org
SUMMARY:TCS Jr Voices
DESCRIPTION:Carpool 04:30 – 04:45 PM
URL:https://www.tcsatl.org/event/tcs-jr-voices-74/
END:VEVENT
BEGIN:VEVENT
DTSTART;TZID=America/New_York:20240508T151500
DTEND;TZID=America/New_York:20240508T161500
DTSTAMP:20260423T072726
CREATED:20230809T164713Z
LAST-MODIFIED:20230913T010023Z
UID:10010429-1715181300-1715184900@www.tcsatl.org
SUMMARY:TCS Jr. Players
DESCRIPTION:Carpool 4:15- 4:30 PM
URL:https://www.tcsatl.org/event/tcs-jr-players-104/
END:VEVENT
BEGIN:VEVENT
DTSTART;TZID=America/New_York:20240508T151500
DTEND;TZID=America/New_York:20240508T163000
DTSTAMP:20260423T072726
CREATED:20230809T164713Z
LAST-MODIFIED:20230913T010023Z
UID:10010428-1715181300-1715185800@www.tcsatl.org
SUMMARY:TCS Players (6-8th Grade)
DESCRIPTION:Carpool 4:30-4:45 PM
URL:https://www.tcsatl.org/event/tcs-players-6-8th-grade-71/
END:VEVENT
BEGIN:VEVENT
DTSTART;TZID=America/New_York:20240509T151500
DTEND;TZID=America/New_York:20240509T163000
DTSTAMP:20260423T072726
CREATED:20230809T164713Z
LAST-MODIFIED:20230913T010023Z
UID:10010430-1715267700-1715272200@www.tcsatl.org
SUMMARY:TCS Voices
DESCRIPTION:Carpool 4:30-4:45 PM
URL:https://www.tcsatl.org/event/tcs-voices-104/
END:VEVENT
BEGIN:VEVENT
DTSTART;TZID=America/New_York:20240513T151500
DTEND;TZID=America/New_York:20240513T163000
DTSTAMP:20260423T072726
CREATED:20230809T164714Z
LAST-MODIFIED:20230913T010023Z
UID:10010431-1715613300-1715617800@www.tcsatl.org
SUMMARY:TCS Players (6-8th Grade)
DESCRIPTION:Carpool 4:30-4:45 PM
URL:https://www.tcsatl.org/event/tcs-players-6-8th-grade-72/
END:VEVENT
BEGIN:VEVENT
DTSTART;TZID=America/New_York:20240514T151500
DTEND;TZID=America/New_York:20240514T163000
DTSTAMP:20260423T072726
CREATED:20230809T164714Z
LAST-MODIFIED:20230913T010023Z
UID:10010432-1715699700-1715704200@www.tcsatl.org
SUMMARY:TCS Jr Voices
DESCRIPTION:Carpool 04:30 – 04:45 PM
URL:https://www.tcsatl.org/event/tcs-jr-voices-75/
END:VEVENT
BEGIN:VEVENT
DTSTART;TZID=America/New_York:20240515T151500
DTEND;TZID=America/New_York:20240515T161500
DTSTAMP:20260423T072726
CREATED:20230809T164714Z
LAST-MODIFIED:20230913T010024Z
UID:10010433-1715786100-1715789700@www.tcsatl.org
SUMMARY:TCS Jr. Players
DESCRIPTION:Carpool 4:15- 4:30 PM
URL:https://www.tcsatl.org/event/tcs-jr-players-105/
END:VEVENT
BEGIN:VEVENT
DTSTART;TZID=America/New_York:20240515T151500
DTEND;TZID=America/New_York:20240515T163000
DTSTAMP:20260423T072726
CREATED:20230809T164714Z
LAST-MODIFIED:20230913T010024Z
UID:10010434-1715786100-1715790600@www.tcsatl.org
SUMMARY:TCS Players (6-8th Grade)
DESCRIPTION:Carpool 4:30-4:45 PM
URL:https://www.tcsatl.org/event/tcs-players-6-8th-grade-73/
END:VEVENT
BEGIN:VEVENT
DTSTART;TZID=America/New_York:20240516T151500
DTEND;TZID=America/New_York:20240516T163000
DTSTAMP:20260423T072726
CREATED:20230809T164714Z
LAST-MODIFIED:20230913T010024Z
UID:10010435-1715872500-1715877000@www.tcsatl.org
SUMMARY:TCS Voices
DESCRIPTION:Carpool 4:30-4:45 PM
URL:https://www.tcsatl.org/event/tcs-voices-105/
END:VEVENT
BEGIN:VEVENT
DTSTART;TZID=America/New_York:20240520T151500
DTEND;TZID=America/New_York:20240520T163000
DTSTAMP:20260423T072726
CREATED:20230809T164714Z
LAST-MODIFIED:20230913T010024Z
UID:10010436-1716218100-1716222600@www.tcsatl.org
SUMMARY:TCS Players (6-8th Grade)
DESCRIPTION:Carpool 4:30-4:45 PM
URL:https://www.tcsatl.org/event/tcs-players-6-8th-grade-74/
END:VEVENT
BEGIN:VEVENT
DTSTART;TZID=America/New_York:20240521T151500
DTEND;TZID=America/New_York:20240521T163000
DTSTAMP:20260423T072726
CREATED:20230809T164714Z
LAST-MODIFIED:20230913T010024Z
UID:10009367-1716304500-1716309000@www.tcsatl.org
SUMMARY:TCS Jr Voices
DESCRIPTION:Carpool 04:30 – 04:45 PM
URL:https://www.tcsatl.org/event/tcs-jr-voices-76/
END:VEVENT
BEGIN:VEVENT
DTSTART;TZID=America/New_York:20240522T151500
DTEND;TZID=America/New_York:20240522T161500
DTSTAMP:20260423T072726
CREATED:20230809T164721Z
LAST-MODIFIED:20230913T010024Z
UID:10009371-1716390900-1716394500@www.tcsatl.org
SUMMARY:TCS Jr. Players
DESCRIPTION:Carpool 4:15- 4:30 PM
URL:https://www.tcsatl.org/event/tcs-jr-players-106/
END:VEVENT
BEGIN:VEVENT
DTSTART;TZID=America/New_York:20240522T151500
DTEND;TZID=America/New_York:20240522T163000
DTSTAMP:20260423T072726
CREATED:20230809T164715Z
LAST-MODIFIED:20230913T010024Z
UID:10009369-1716390900-1716395400@www.tcsatl.org
SUMMARY:TCS Players (6-8th Grade)
DESCRIPTION:Carpool 4:30-4:45 PM
URL:https://www.tcsatl.org/event/tcs-players-6-8th-grade-75/
END:VEVENT
BEGIN:VEVENT
DTSTART;VALUE=DATE:20240523
DTEND;VALUE=DATE:20240524
DTSTAMP:20260423T072726
CREATED:20230201T214459Z
LAST-MODIFIED:20230913T020017Z
UID:10009003-1716422400-1716508799@www.tcsatl.org
SUMMARY:Class of 2024 Graduation
DESCRIPTION:
URL:https://www.tcsatl.org/event/class-of-2024-graduation/
END:VEVENT
BEGIN:VEVENT
DTSTART;TZID=America/New_York:20240523T151500
DTEND;TZID=America/New_York:20240523T163000
DTSTAMP:20260423T072726
CREATED:20230809T164721Z
LAST-MODIFIED:20230913T010024Z
UID:10009372-1716477300-1716481800@www.tcsatl.org
SUMMARY:TCS Voices
DESCRIPTION:Carpool 4:30-4:45 PM
URL:https://www.tcsatl.org/event/tcs-voices-106/
END:VEVENT
BEGIN:VEVENT
DTSTART;VALUE=DATE:20240524
DTEND;VALUE=DATE:20240525
DTSTAMP:20260423T072726
CREATED:20230201T214459Z
LAST-MODIFIED:20230913T020017Z
UID:10009002-1716508800-1716595199@www.tcsatl.org
SUMMARY:Last Day of School
DESCRIPTION:
URL:https://www.tcsatl.org/event/last-day-of-school-4/
END:VEVENT
BEGIN:VEVENT
DTSTART;VALUE=DATE:20240610
DTEND;VALUE=DATE:20240611
DTSTAMP:20260423T072726
CREATED:20230201T214500Z
LAST-MODIFIED:20230913T020017Z
UID:10009004-1717977600-1718063999@www.tcsatl.org
SUMMARY:Summer Camp Begins
DESCRIPTION:
URL:https://www.tcsatl.org/event/summer-camp-begins-2/
END:VEVENT
BEGIN:VEVENT
DTSTART;VALUE=DATE:20240619
DTEND;VALUE=DATE:20240620
DTSTAMP:20260423T072726
CREATED:20230201T214500Z
LAST-MODIFIED:20240619T022940Z
UID:10009005-1718755200-1718841599@www.tcsatl.org
SUMMARY:TCS SUMMER CAMP CLOSED - Juneteenth
DESCRIPTION:
URL:https://www.tcsatl.org/event/summer-camp-closed-juneteenth/
END:VEVENT
BEGIN:VEVENT
DTSTART;VALUE=DATE:20240704
DTEND;VALUE=DATE:20240705
DTSTAMP:20260423T072726
CREATED:20230201T214500Z
LAST-MODIFIED:20240704T032943Z
UID:10009006-1720051200-1720137599@www.tcsatl.org
SUMMARY:TCS SUMMER CAMP CLOSED - 4th of July
DESCRIPTION:
URL:https://www.tcsatl.org/event/summer-camp-closed-4th-of-july/
END:VEVENT
BEGIN:VEVENT
DTSTART;VALUE=DATE:20240726
DTEND;VALUE=DATE:20240727
DTSTAMP:20260423T072726
CREATED:20230201T214500Z
LAST-MODIFIED:20240726T042942Z
UID:10010066-1721952000-1722038399@www.tcsatl.org
SUMMARY:TCS Summer Camp Last Day
DESCRIPTION:
URL:https://www.tcsatl.org/event/summer-camp-last-day/
END:VEVENT
BEGIN:VEVENT
DTSTART;TZID=America/New_York:20240812T090000
DTEND;TZID=America/New_York:20240812T140000
DTSTAMP:20260423T072726
CREATED:20240613T163256Z
LAST-MODIFIED:20240812T045942Z
UID:10010568-1723453200-1723471200@www.tcsatl.org
SUMMARY:Class Visit Day - TCS Campus
DESCRIPTION:3’s/4’s – Grade 1 – Last Name A to K – 09:30 -10:15 AM\n3’s/4’s – Grade 1 – Last Name L to Z – 10:30 AM – 11:15 AM\nGrade 2 – 8 – Last Name A to K – 12:15 PM – 01:00 PM \nGrade 2 – 8 – Last Name L to Z – 01:15 PM – 02:00 PM
URL:https://www.tcsatl.org/event/class-visit-day-tcs/
END:VEVENT
BEGIN:VEVENT
DTSTART;VALUE=DATE:20240813
DTEND;VALUE=DATE:20240814
DTSTAMP:20260423T072726
CREATED:20240613T163256Z
LAST-MODIFIED:20240813T045941Z
UID:10009508-1723507200-1723593599@www.tcsatl.org
SUMMARY:FIRST DAY OF SCHOOL - TCS
DESCRIPTION:
URL:https://www.tcsatl.org/event/first-day-of-school-tcs/
END:VEVENT
BEGIN:VEVENT
DTSTART;TZID=America/New_York:20240819T154500
DTEND;TZID=America/New_York:20240819T164500
DTSTAMP:20260423T072726
CREATED:20240812T184441Z
LAST-MODIFIED:20240819T185946Z
UID:10010609-1724082300-1724085900@www.tcsatl.org
SUMMARY:Intramural Girls & Boys Cross Country
DESCRIPTION:Carpool 4:45-5:00 PM
URL:https://www.tcsatl.org/event/intramural-girls-boys-cross-country-23/
END:VEVENT
BEGIN:VEVENT
DTSTART;TZID=America/New_York:20240819T154500
DTEND;TZID=America/New_York:20240819T170000
DTSTAMP:20260423T072726
CREATED:20240812T184440Z
LAST-MODIFIED:20240819T185946Z
UID:10010607-1724082300-1724086800@www.tcsatl.org
SUMMARY:MAAC Co-Ed Ultimate Frisbee
DESCRIPTION:Carpool 5:00-5:15 PM
URL:https://www.tcsatl.org/event/maac-co-ed-ultimate-frisbee/
END:VEVENT
END:VCALENDAR