BEGIN:VCALENDAR
VERSION:2.0
PRODID:-//The Children&#039;s School - ECPv6.15.15//NONSGML v1.0//EN
CALSCALE:GREGORIAN
METHOD:PUBLISH
X-WR-CALNAME:The Children&#039;s School
X-ORIGINAL-URL:https://www.tcsatl.org
X-WR-CALDESC:Events for The Children&#039;s School
REFRESH-INTERVAL;VALUE=DURATION:PT1H
X-Robots-Tag:noindex
X-PUBLISHED-TTL:PT1H
BEGIN:VTIMEZONE
TZID:America/New_York
BEGIN:DAYLIGHT
TZOFFSETFROM:-0500
TZOFFSETTO:-0400
TZNAME:EDT
DTSTART:20230312T070000
END:DAYLIGHT
BEGIN:STANDARD
TZOFFSETFROM:-0400
TZOFFSETTO:-0500
TZNAME:EST
DTSTART:20231105T060000
END:STANDARD
BEGIN:DAYLIGHT
TZOFFSETFROM:-0500
TZOFFSETTO:-0400
TZNAME:EDT
DTSTART:20240310T070000
END:DAYLIGHT
BEGIN:STANDARD
TZOFFSETFROM:-0400
TZOFFSETTO:-0500
TZNAME:EST
DTSTART:20241103T060000
END:STANDARD
BEGIN:DAYLIGHT
TZOFFSETFROM:-0500
TZOFFSETTO:-0400
TZNAME:EDT
DTSTART:20250309T070000
END:DAYLIGHT
BEGIN:STANDARD
TZOFFSETFROM:-0400
TZOFFSETTO:-0500
TZNAME:EST
DTSTART:20251102T060000
END:STANDARD
END:VTIMEZONE
BEGIN:VEVENT
DTSTART;TZID=America/New_York:20240827T154500
DTEND;TZID=America/New_York:20240827T170000
DTSTAMP:20260423T050137
CREATED:20240812T184445Z
LAST-MODIFIED:20240827T194543Z
UID:10010626-1724773500-1724778000@www.tcsatl.org
SUMMARY:MAAC Girls and Boys Cross Country
DESCRIPTION:Carpool 5:00-5:15 PM
URL:https://www.tcsatl.org/event/maac-girls-and-boys-cross-country-4/
END:VEVENT
BEGIN:VEVENT
DTSTART;TZID=America/New_York:20240827T154500
DTEND;TZID=America/New_York:20240827T164500
DTSTAMP:20260423T050138
CREATED:20240812T184445Z
LAST-MODIFIED:20240827T194543Z
UID:10010625-1724773500-1724777100@www.tcsatl.org
SUMMARY:Intramural Co-Ed Volleyball
DESCRIPTION:Carpool 4:45-5:00 PM
URL:https://www.tcsatl.org/event/intramural-co-ed-volleyball-24/
END:VEVENT
BEGIN:VEVENT
DTSTART;TZID=America/New_York:20240827T151500
DTEND;TZID=America/New_York:20240827T163000
DTSTAMP:20260423T050138
CREATED:20240812T184445Z
LAST-MODIFIED:20240827T194543Z
UID:10010627-1724771700-1724776200@www.tcsatl.org
SUMMARY:Intramural Co-Ed Tennis
DESCRIPTION:Carpool 4:40-4:55 PM
URL:https://www.tcsatl.org/event/intramural-co-ed-tennis-3/
END:VEVENT
BEGIN:VEVENT
DTSTART;TZID=America/New_York:20240826T154500
DTEND;TZID=America/New_York:20240826T170000
DTSTAMP:20260423T050138
CREATED:20240812T184445Z
LAST-MODIFIED:20240826T193038Z
UID:10010623-1724687100-1724691600@www.tcsatl.org
SUMMARY:MAAC Co-Ed Ultimate Frisbee
DESCRIPTION:Carpool 5:00-5:15 PM
URL:https://www.tcsatl.org/event/maac-co-ed-ultimate-frisbee-4/
END:VEVENT
BEGIN:VEVENT
DTSTART;TZID=America/New_York:20240826T154500
DTEND;TZID=America/New_York:20240826T170000
DTSTAMP:20260423T050138
CREATED:20240812T184445Z
LAST-MODIFIED:20240826T193038Z
UID:10010624-1724687100-1724691600@www.tcsatl.org
SUMMARY:MAAC Girls Volleyball
DESCRIPTION:Carpool 5:00- 5:15 PM
URL:https://www.tcsatl.org/event/maac-girls-volleyball-121/
END:VEVENT
BEGIN:VEVENT
DTSTART;TZID=America/New_York:20240826T154500
DTEND;TZID=America/New_York:20240826T164500
DTSTAMP:20260423T050138
CREATED:20240812T184444Z
LAST-MODIFIED:20240826T193038Z
UID:10010622-1724687100-1724690700@www.tcsatl.org
SUMMARY:Intramural Girls & Boys Cross Country
DESCRIPTION:Carpool 4:45-5:00 PM
URL:https://www.tcsatl.org/event/intramural-girls-boys-cross-country-25/
END:VEVENT
BEGIN:VEVENT
DTSTART;TZID=America/New_York:20240823T154500
DTEND;TZID=America/New_York:20240823T170000
DTSTAMP:20260423T050138
CREATED:20240812T184444Z
LAST-MODIFIED:20240823T192946Z
UID:10010619-1724427900-1724432400@www.tcsatl.org
SUMMARY:MAAC Girls and Boys Cross Country
DESCRIPTION:Carpool 5:00-5:15 PM
URL:https://www.tcsatl.org/event/maac-girls-and-boys-cross-country-3/
END:VEVENT
BEGIN:VEVENT
DTSTART;TZID=America/New_York:20240823T154500
DTEND;TZID=America/New_York:20240823T170000
DTSTAMP:20260423T050138
CREATED:20240812T184444Z
LAST-MODIFIED:20240823T192946Z
UID:10010620-1724427900-1724432400@www.tcsatl.org
SUMMARY:MAAC Girls Volleyball
DESCRIPTION:Carpool 5:00- 5:15 PM
URL:https://www.tcsatl.org/event/maac-girls-volleyball-120/
END:VEVENT
BEGIN:VEVENT
DTSTART;TZID=America/New_York:20240823T154500
DTEND;TZID=America/New_York:20240823T170000
DTSTAMP:20260423T050138
CREATED:20240812T184444Z
LAST-MODIFIED:20240823T192946Z
UID:10010621-1724427900-1724432400@www.tcsatl.org
SUMMARY:MAAC Co-Ed Ultimate Frisbee
DESCRIPTION:Carpool 5:00-5:15 PM
URL:https://www.tcsatl.org/event/maac-co-ed-ultimate-frisbee-3/
END:VEVENT
BEGIN:VEVENT
DTSTART;TZID=America/New_York:20240822T154500
DTEND;TZID=America/New_York:20240822T170000
DTSTAMP:20260423T050138
CREATED:20240812T184444Z
LAST-MODIFIED:20240822T191447Z
UID:10010618-1724341500-1724346000@www.tcsatl.org
SUMMARY:MAAC Co-Ed Ultimate Frisbee
DESCRIPTION:Carpool 5:00-5:15 PM
URL:https://www.tcsatl.org/event/maac-co-ed-ultimate-frisbee-2/
END:VEVENT
BEGIN:VEVENT
DTSTART;TZID=America/New_York:20240822T154500
DTEND;TZID=America/New_York:20240822T170000
DTSTAMP:20260423T050138
CREATED:20240812T184443Z
LAST-MODIFIED:20240822T191447Z
UID:10010617-1724341500-1724346000@www.tcsatl.org
SUMMARY:MAAC Girls Volleyball
DESCRIPTION:Carpool 5:00- 5:15 PM
URL:https://www.tcsatl.org/event/maac-girls-volleyball-119/
END:VEVENT
BEGIN:VEVENT
DTSTART;TZID=America/New_York:20240822T154500
DTEND;TZID=America/New_York:20240822T164500
DTSTAMP:20260423T050138
CREATED:20240812T184442Z
LAST-MODIFIED:20240822T191446Z
UID:10010616-1724341500-1724345100@www.tcsatl.org
SUMMARY:Intramural Girls & Boys Cross Country
DESCRIPTION:Carpool 4:45-5:00 PM
URL:https://www.tcsatl.org/event/intramural-girls-boys-cross-country-24/
END:VEVENT
BEGIN:VEVENT
DTSTART;TZID=America/New_York:20240821T154500
DTEND;TZID=America/New_York:20240821T170000
DTSTAMP:20260423T050138
CREATED:20240812T184442Z
LAST-MODIFIED:20240821T185945Z
UID:10010614-1724255100-1724259600@www.tcsatl.org
SUMMARY:MAAC Girls and Boys Cross Country
DESCRIPTION:Carpool 5:00-5:15 PM
URL:https://www.tcsatl.org/event/maac-girls-and-boys-cross-country-2/
END:VEVENT
BEGIN:VEVENT
DTSTART;TZID=America/New_York:20240821T151500
DTEND;TZID=America/New_York:20240821T163000
DTSTAMP:20260423T050138
CREATED:20240812T184442Z
LAST-MODIFIED:20240821T185945Z
UID:10010615-1724253300-1724257800@www.tcsatl.org
SUMMARY:Intramural Co-Ed Tennis
DESCRIPTION:Carpool 4:40-4:55 PM
URL:https://www.tcsatl.org/event/intramural-co-ed-tennis-2/
END:VEVENT
BEGIN:VEVENT
DTSTART;TZID=America/New_York:20240821T074500
DTEND;TZID=America/New_York:20240821T090000
DTSTAMP:20260423T050138
CREATED:20240812T184442Z
LAST-MODIFIED:20240820T185942Z
UID:10010613-1724226300-1724230800@www.tcsatl.org
SUMMARY:Intramural Co-Ed Volleyball
DESCRIPTION:
URL:https://www.tcsatl.org/event/intramural-co-ed-volleyball-23/
END:VEVENT
BEGIN:VEVENT
DTSTART;TZID=America/New_York:20240820T154500
DTEND;TZID=America/New_York:20240820T170000
DTSTAMP:20260423T050138
CREATED:20240812T184441Z
LAST-MODIFIED:20240820T185941Z
UID:10010611-1724168700-1724173200@www.tcsatl.org
SUMMARY:MAAC Girls and Boys Cross Country
DESCRIPTION:Carpool 5:00-5:15 PM
URL:https://www.tcsatl.org/event/maac-girls-and-boys-cross-country/
END:VEVENT
BEGIN:VEVENT
DTSTART;TZID=America/New_York:20240820T154500
DTEND;TZID=America/New_York:20240820T164500
DTSTAMP:20260423T050138
CREATED:20240812T184442Z
LAST-MODIFIED:20240820T185941Z
UID:10010612-1724168700-1724172300@www.tcsatl.org
SUMMARY:Intramural Co-Ed Volleyball
DESCRIPTION:Carpool 4:45-5:00 PM
URL:https://www.tcsatl.org/event/intramural-co-ed-volleyball-22/
END:VEVENT
BEGIN:VEVENT
DTSTART;TZID=America/New_York:20240820T151500
DTEND;TZID=America/New_York:20240820T163000
DTSTAMP:20260423T050138
CREATED:20240812T184441Z
LAST-MODIFIED:20240820T185941Z
UID:10010610-1724166900-1724171400@www.tcsatl.org
SUMMARY:Intramural Co-Ed Tennis
DESCRIPTION:Carpool 4:40-4:55 PM
URL:https://www.tcsatl.org/event/intramural-co-ed-tennis/
END:VEVENT
BEGIN:VEVENT
DTSTART;TZID=America/New_York:20240819T154500
DTEND;TZID=America/New_York:20240819T170000
DTSTAMP:20260423T050138
CREATED:20240812T184441Z
LAST-MODIFIED:20240819T185946Z
UID:10010608-1724082300-1724086800@www.tcsatl.org
SUMMARY:MAAC Girls Volleyball
DESCRIPTION:Carpool 5:00- 5:15 PM
URL:https://www.tcsatl.org/event/maac-girls-volleyball-118/
END:VEVENT
BEGIN:VEVENT
DTSTART;TZID=America/New_York:20240819T154500
DTEND;TZID=America/New_York:20240819T170000
DTSTAMP:20260423T050138
CREATED:20240812T184440Z
LAST-MODIFIED:20240819T185946Z
UID:10010607-1724082300-1724086800@www.tcsatl.org
SUMMARY:MAAC Co-Ed Ultimate Frisbee
DESCRIPTION:Carpool 5:00-5:15 PM
URL:https://www.tcsatl.org/event/maac-co-ed-ultimate-frisbee/
END:VEVENT
BEGIN:VEVENT
DTSTART;TZID=America/New_York:20240819T154500
DTEND;TZID=America/New_York:20240819T164500
DTSTAMP:20260423T050138
CREATED:20240812T184441Z
LAST-MODIFIED:20240819T185946Z
UID:10010609-1724082300-1724085900@www.tcsatl.org
SUMMARY:Intramural Girls & Boys Cross Country
DESCRIPTION:Carpool 4:45-5:00 PM
URL:https://www.tcsatl.org/event/intramural-girls-boys-cross-country-23/
END:VEVENT
BEGIN:VEVENT
DTSTART;VALUE=DATE:20240813
DTEND;VALUE=DATE:20240814
DTSTAMP:20260423T050138
CREATED:20240613T163256Z
LAST-MODIFIED:20240813T045941Z
UID:10009508-1723507200-1723593599@www.tcsatl.org
SUMMARY:FIRST DAY OF SCHOOL - TCS
DESCRIPTION:
URL:https://www.tcsatl.org/event/first-day-of-school-tcs/
END:VEVENT
BEGIN:VEVENT
DTSTART;TZID=America/New_York:20240812T090000
DTEND;TZID=America/New_York:20240812T140000
DTSTAMP:20260423T050138
CREATED:20240613T163256Z
LAST-MODIFIED:20240812T045942Z
UID:10010568-1723453200-1723471200@www.tcsatl.org
SUMMARY:Class Visit Day - TCS Campus
DESCRIPTION:3’s/4’s – Grade 1 – Last Name A to K – 09:30 -10:15 AM\n3’s/4’s – Grade 1 – Last Name L to Z – 10:30 AM – 11:15 AM\nGrade 2 – 8 – Last Name A to K – 12:15 PM – 01:00 PM \nGrade 2 – 8 – Last Name L to Z – 01:15 PM – 02:00 PM
URL:https://www.tcsatl.org/event/class-visit-day-tcs/
END:VEVENT
BEGIN:VEVENT
DTSTART;VALUE=DATE:20240726
DTEND;VALUE=DATE:20240727
DTSTAMP:20260423T050138
CREATED:20230201T214500Z
LAST-MODIFIED:20240726T042942Z
UID:10010066-1721952000-1722038399@www.tcsatl.org
SUMMARY:TCS Summer Camp Last Day
DESCRIPTION:
URL:https://www.tcsatl.org/event/summer-camp-last-day/
END:VEVENT
BEGIN:VEVENT
DTSTART;VALUE=DATE:20240704
DTEND;VALUE=DATE:20240705
DTSTAMP:20260423T050138
CREATED:20230201T214500Z
LAST-MODIFIED:20240704T032943Z
UID:10009006-1720051200-1720137599@www.tcsatl.org
SUMMARY:TCS SUMMER CAMP CLOSED - 4th of July
DESCRIPTION:
URL:https://www.tcsatl.org/event/summer-camp-closed-4th-of-july/
END:VEVENT
BEGIN:VEVENT
DTSTART;VALUE=DATE:20240619
DTEND;VALUE=DATE:20240620
DTSTAMP:20260423T050138
CREATED:20230201T214500Z
LAST-MODIFIED:20240619T022940Z
UID:10009005-1718755200-1718841599@www.tcsatl.org
SUMMARY:TCS SUMMER CAMP CLOSED - Juneteenth
DESCRIPTION:
URL:https://www.tcsatl.org/event/summer-camp-closed-juneteenth/
END:VEVENT
BEGIN:VEVENT
DTSTART;VALUE=DATE:20240610
DTEND;VALUE=DATE:20240611
DTSTAMP:20260423T050138
CREATED:20230201T214500Z
LAST-MODIFIED:20230913T020017Z
UID:10009004-1717977600-1718063999@www.tcsatl.org
SUMMARY:Summer Camp Begins
DESCRIPTION:
URL:https://www.tcsatl.org/event/summer-camp-begins-2/
END:VEVENT
BEGIN:VEVENT
DTSTART;VALUE=DATE:20240524
DTEND;VALUE=DATE:20240525
DTSTAMP:20260423T050138
CREATED:20230201T214459Z
LAST-MODIFIED:20230913T020017Z
UID:10009002-1716508800-1716595199@www.tcsatl.org
SUMMARY:Last Day of School
DESCRIPTION:
URL:https://www.tcsatl.org/event/last-day-of-school-4/
END:VEVENT
BEGIN:VEVENT
DTSTART;TZID=America/New_York:20240523T151500
DTEND;TZID=America/New_York:20240523T163000
DTSTAMP:20260423T050138
CREATED:20230809T164721Z
LAST-MODIFIED:20230913T010024Z
UID:10009372-1716477300-1716481800@www.tcsatl.org
SUMMARY:TCS Voices
DESCRIPTION:Carpool 4:30-4:45 PM
URL:https://www.tcsatl.org/event/tcs-voices-106/
END:VEVENT
BEGIN:VEVENT
DTSTART;VALUE=DATE:20240523
DTEND;VALUE=DATE:20240524
DTSTAMP:20260423T050138
CREATED:20230201T214459Z
LAST-MODIFIED:20230913T020017Z
UID:10009003-1716422400-1716508799@www.tcsatl.org
SUMMARY:Class of 2024 Graduation
DESCRIPTION:
URL:https://www.tcsatl.org/event/class-of-2024-graduation/
END:VEVENT
END:VCALENDAR