BEGIN:VCALENDAR
VERSION:2.0
PRODID:-//The Children&#039;s School - ECPv6.15.15//NONSGML v1.0//EN
CALSCALE:GREGORIAN
METHOD:PUBLISH
X-ORIGINAL-URL:https://www.tcsatl.org
X-WR-CALDESC:Events for The Children&#039;s School
REFRESH-INTERVAL;VALUE=DURATION:PT1H
X-Robots-Tag:noindex
X-PUBLISHED-TTL:PT1H
BEGIN:VTIMEZONE
TZID:America/New_York
BEGIN:DAYLIGHT
TZOFFSETFROM:-0500
TZOFFSETTO:-0400
TZNAME:EDT
DTSTART:20220313T070000
END:DAYLIGHT
BEGIN:STANDARD
TZOFFSETFROM:-0400
TZOFFSETTO:-0500
TZNAME:EST
DTSTART:20221106T060000
END:STANDARD
BEGIN:DAYLIGHT
TZOFFSETFROM:-0500
TZOFFSETTO:-0400
TZNAME:EDT
DTSTART:20230312T070000
END:DAYLIGHT
BEGIN:STANDARD
TZOFFSETFROM:-0400
TZOFFSETTO:-0500
TZNAME:EST
DTSTART:20231105T060000
END:STANDARD
BEGIN:DAYLIGHT
TZOFFSETFROM:-0500
TZOFFSETTO:-0400
TZNAME:EDT
DTSTART:20240310T070000
END:DAYLIGHT
BEGIN:STANDARD
TZOFFSETFROM:-0400
TZOFFSETTO:-0500
TZNAME:EST
DTSTART:20241103T060000
END:STANDARD
END:VTIMEZONE
BEGIN:VEVENT
DTSTART;TZID=America/New_York:20230825T151500
DTEND;TZID=America/New_York:20230825T161500
DTSTAMP:20260422T175227
CREATED:20230809T164606Z
LAST-MODIFIED:20230809T164606Z
UID:10009120-1692976500-1692980100@www.tcsatl.org
SUMMARY:Gymnastics Level II
DESCRIPTION:Carpool 04:15 pm – 4:30 PM
URL:https://www.tcsatl.org/event/gymnastics-level-ii-20/
END:VEVENT
BEGIN:VEVENT
DTSTART;TZID=America/New_York:20230825T151500
DTEND;TZID=America/New_York:20230825T161500
DTSTAMP:20260422T175227
CREATED:20230809T164606Z
LAST-MODIFIED:20230825T000033Z
UID:10009111-1692976500-1692980100@www.tcsatl.org
SUMMARY:Intro to Gymnastics
DESCRIPTION:Carpool 4:15 – 4:30 PM
URL:https://www.tcsatl.org/event/intro-to-gymnastics-5/
END:VEVENT
BEGIN:VEVENT
DTSTART;TZID=America/New_York:20230825T151500
DTEND;TZID=America/New_York:20230825T161500
DTSTAMP:20260422T175227
CREATED:20230809T164606Z
LAST-MODIFIED:20230809T164606Z
UID:10009113-1692976500-1692980100@www.tcsatl.org
SUMMARY:Intro to Gymnastics
DESCRIPTION:Carpool 4:15 – 4:30 PM
URL:https://www.tcsatl.org/event/intro-to-gymnastics-6/
END:VEVENT
BEGIN:VEVENT
DTSTART;TZID=America/New_York:20230825T151500
DTEND;TZID=America/New_York:20230825T161500
DTSTAMP:20260422T175227
CREATED:20230809T164606Z
LAST-MODIFIED:20230825T000033Z
UID:10009114-1692976500-1692980100@www.tcsatl.org
SUMMARY:Amazing Athletes
DESCRIPTION:Carpool 4:15-4:30 PM
URL:https://www.tcsatl.org/event/amazing-athletes-42/
END:VEVENT
BEGIN:VEVENT
DTSTART;TZID=America/New_York:20230825T154500
DTEND;TZID=America/New_York:20230825T170000
DTSTAMP:20260422T175227
CREATED:20230810T053022Z
LAST-MODIFIED:20230824T213025Z
UID:10010457-1692978300-1692982800@www.tcsatl.org
SUMMARY:MAAC Co-Ed Ultimate Frisbee (Grades 5-8)
DESCRIPTION:carpool 5:00 -5:15 PM
URL:https://www.tcsatl.org/event/maac-co-ed-ultimate-frisbee-grades-5-8-8/
END:VEVENT
BEGIN:VEVENT
DTSTART;TZID=America/New_York:20230825T154500
DTEND;TZID=America/New_York:20230825T170000
DTSTAMP:20260422T175227
CREATED:20230810T053022Z
LAST-MODIFIED:20230824T213025Z
UID:10010458-1692978300-1692982800@www.tcsatl.org
SUMMARY:MAAC Girls & Boys Cross Country (Grades 6-8)
DESCRIPTION:Carpool 5:00- 5:15 PM
URL:https://www.tcsatl.org/event/maac-girls-boys-cross-country-grades-6-8-7/
END:VEVENT
BEGIN:VEVENT
DTSTART;TZID=America/New_York:20230825T154500
DTEND;TZID=America/New_York:20230825T170000
DTSTAMP:20260422T175227
CREATED:20230810T053022Z
LAST-MODIFIED:20230824T213025Z
UID:10009403-1692978300-1692982800@www.tcsatl.org
SUMMARY:MAAC Girls Volleyball
DESCRIPTION:Carpool 5:00-5:15 pm
URL:https://www.tcsatl.org/event/maac-girls-volleyball-93/
END:VEVENT
BEGIN:VEVENT
DTSTART;TZID=America/New_York:20230825T161500
DTEND;TZID=America/New_York:20230825T171500
DTSTAMP:20260422T175227
CREATED:20230809T164606Z
LAST-MODIFIED:20230825T000033Z
UID:10009121-1692980100-1692983700@www.tcsatl.org
SUMMARY:Ballet/Tap II
DESCRIPTION:Carpool 5:15- 5:30 PM
URL:https://www.tcsatl.org/event/ballet-tap-ii/
END:VEVENT
BEGIN:VEVENT
DTSTART;TZID=America/New_York:20230825T161500
DTEND;TZID=America/New_York:20230825T171500
DTSTAMP:20260422T175227
CREATED:20230809T164606Z
LAST-MODIFIED:20230809T164606Z
UID:10009109-1692980100-1692983700@www.tcsatl.org
SUMMARY:Intro to Ballet/Tap
DESCRIPTION:Carpool 5:15 – 5:30 PM
URL:https://www.tcsatl.org/event/intro-to-ballet-tap-19/
END:VEVENT
BEGIN:VEVENT
DTSTART;TZID=America/New_York:20230825T161500
DTEND;TZID=America/New_York:20230825T171500
DTSTAMP:20260422T175227
CREATED:20230809T164606Z
LAST-MODIFIED:20230809T164606Z
UID:10009122-1692980100-1692983700@www.tcsatl.org
SUMMARY:Ballet/Tap II
DESCRIPTION:Carpool 5:15- 5:30 PM
URL:https://www.tcsatl.org/event/ballet-tap-ii-2/
END:VEVENT
BEGIN:VEVENT
DTSTART;TZID=America/New_York:20230825T161500
DTEND;TZID=America/New_York:20230825T171500
DTSTAMP:20260422T175227
CREATED:20230809T164606Z
LAST-MODIFIED:20230825T000033Z
UID:10010178-1692980100-1692983700@www.tcsatl.org
SUMMARY:Intro to Ballet/Tap
DESCRIPTION:Carpool 5:15 – 5:30 PM
URL:https://www.tcsatl.org/event/intro-to-ballet-tap-18/
END:VEVENT
BEGIN:VEVENT
DTSTART;TZID=America/New_York:20230828T151500
DTEND;TZID=America/New_York:20230828T161500
DTSTAMP:20260422T175227
CREATED:20230809T164606Z
LAST-MODIFIED:20230828T003054Z
UID:10010180-1693235700-1693239300@www.tcsatl.org
SUMMARY:Bricks4Kidz
DESCRIPTION:
URL:https://www.tcsatl.org/event/bricks4kidz-21/
END:VEVENT
BEGIN:VEVENT
DTSTART;TZID=America/New_York:20230828T151500
DTEND;TZID=America/New_York:20230828T161500
DTSTAMP:20260422T175227
CREATED:20230809T164606Z
LAST-MODIFIED:20230809T164606Z
UID:10010181-1693235700-1693239300@www.tcsatl.org
SUMMARY:Bricks4Kidz
DESCRIPTION:
URL:https://www.tcsatl.org/event/bricks4kidz-22/
END:VEVENT
BEGIN:VEVENT
DTSTART;TZID=America/New_York:20230828T154500
DTEND;TZID=America/New_York:20230828T164500
DTSTAMP:20260422T175227
CREATED:20230809T164606Z
LAST-MODIFIED:20230828T003054Z
UID:10009123-1693237500-1693241100@www.tcsatl.org
SUMMARY:Soundscape Music Ensemble
DESCRIPTION:Carpool 4:45 – 5:00 PM
URL:https://www.tcsatl.org/event/soundscape-music-ensemble-2/
END:VEVENT
BEGIN:VEVENT
DTSTART;TZID=America/New_York:20230828T154500
DTEND;TZID=America/New_York:20230828T164500
DTSTAMP:20260422T175227
CREATED:20230809T164606Z
LAST-MODIFIED:20230809T164606Z
UID:10010179-1693237500-1693241100@www.tcsatl.org
SUMMARY:Soundscape Music Ensemble
DESCRIPTION:Carpool 4:45 – 5:00 PM
URL:https://www.tcsatl.org/event/soundscape-music-ensemble-3/
END:VEVENT
BEGIN:VEVENT
DTSTART;TZID=America/New_York:20230828T154500
DTEND;TZID=America/New_York:20230828T164500
DTSTAMP:20260422T175227
CREATED:20230810T053022Z
LAST-MODIFIED:20230827T214547Z
UID:10010461-1693237500-1693241100@www.tcsatl.org
SUMMARY:Intramural Girls & Boys Cross Country
DESCRIPTION:Carpool 4:45-5:00 PM
URL:https://www.tcsatl.org/event/intramural-girls-boys-cross-country-7/
END:VEVENT
BEGIN:VEVENT
DTSTART;TZID=America/New_York:20230828T154500
DTEND;TZID=America/New_York:20230828T170000
DTSTAMP:20260422T175227
CREATED:20230810T053022Z
LAST-MODIFIED:20230827T214547Z
UID:10010459-1693237500-1693242000@www.tcsatl.org
SUMMARY:MAAC Co-Ed Ultimate Frisbee (Grades 5-8)
DESCRIPTION:carpool 5:00 -5:15 PM
URL:https://www.tcsatl.org/event/maac-co-ed-ultimate-frisbee-grades-5-8-9/
END:VEVENT
BEGIN:VEVENT
DTSTART;TZID=America/New_York:20230828T154500
DTEND;TZID=America/New_York:20230828T170000
DTSTAMP:20260422T175227
CREATED:20230810T053022Z
LAST-MODIFIED:20230827T214547Z
UID:10010460-1693237500-1693242000@www.tcsatl.org
SUMMARY:MAAC Girls Volleyball
DESCRIPTION:Carpool 5:00-5:15 pm
URL:https://www.tcsatl.org/event/maac-girls-volleyball-94/
END:VEVENT
BEGIN:VEVENT
DTSTART;TZID=America/New_York:20230829T151500
DTEND;TZID=America/New_York:20230829T163000
DTSTAMP:20260422T175227
CREATED:20230810T053023Z
LAST-MODIFIED:20230828T214531Z
UID:10010462-1693322100-1693326600@www.tcsatl.org
SUMMARY:Intramural Co-Ed Tennis (Grades 3-5)
DESCRIPTION:Carpool 4:40-4:55 PM
URL:https://www.tcsatl.org/event/intramural-co-ed-tennis-grades-3-5-5/
END:VEVENT
BEGIN:VEVENT
DTSTART;TZID=America/New_York:20230829T154500
DTEND;TZID=America/New_York:20230829T164500
DTSTAMP:20260422T175227
CREATED:20230809T164607Z
LAST-MODIFIED:20230829T004506Z
UID:10010184-1693323900-1693327500@www.tcsatl.org
SUMMARY:Science Creations S.T.E.A.M.
DESCRIPTION:
URL:https://www.tcsatl.org/event/science-creations-s-t-e-a-m-3/
END:VEVENT
BEGIN:VEVENT
DTSTART;TZID=America/New_York:20230829T154500
DTEND;TZID=America/New_York:20230829T164500
DTSTAMP:20260422T175227
CREATED:20230809T164607Z
LAST-MODIFIED:20230809T164607Z
UID:10010185-1693323900-1693327500@www.tcsatl.org
SUMMARY:Science Creations S.T.E.A.M.
DESCRIPTION:
URL:https://www.tcsatl.org/event/science-creations-s-t-e-a-m-4/
END:VEVENT
BEGIN:VEVENT
DTSTART;TZID=America/New_York:20230829T154500
DTEND;TZID=America/New_York:20230829T164500
DTSTAMP:20260422T175227
CREATED:20230810T053023Z
LAST-MODIFIED:20230828T214531Z
UID:10010463-1693323900-1693327500@www.tcsatl.org
SUMMARY:Intramural Co-Ed Volleyball
DESCRIPTION:Carpool 4:45 – 5:00 PM
URL:https://www.tcsatl.org/event/intramural-co-ed-volleyball-6/
END:VEVENT
BEGIN:VEVENT
DTSTART;TZID=America/New_York:20230829T154500
DTEND;TZID=America/New_York:20230829T170000
DTSTAMP:20260422T175227
CREATED:20230810T053023Z
LAST-MODIFIED:20230828T214531Z
UID:10010464-1693323900-1693328400@www.tcsatl.org
SUMMARY:MAAC Girls & Boys Cross Country (Grades 6-8)
DESCRIPTION:Carpool 5:00- 5:15 PM
URL:https://www.tcsatl.org/event/maac-girls-boys-cross-country-grades-6-8-8/
END:VEVENT
BEGIN:VEVENT
DTSTART;TZID=America/New_York:20230829T161500
DTEND;TZID=America/New_York:20230829T171500
DTSTAMP:20260422T175227
CREATED:20230809T164607Z
LAST-MODIFIED:20230829T004506Z
UID:10010182-1693325700-1693329300@www.tcsatl.org
SUMMARY:Intro to Drums I & II
DESCRIPTION:Carpool 5:15 – 5:30 PM
URL:https://www.tcsatl.org/event/intro-to-drums-i-ii-2/
END:VEVENT
BEGIN:VEVENT
DTSTART;TZID=America/New_York:20230829T161500
DTEND;TZID=America/New_York:20230829T171500
DTSTAMP:20260422T175227
CREATED:20230809T164607Z
LAST-MODIFIED:20230809T164607Z
UID:10010183-1693325700-1693329300@www.tcsatl.org
SUMMARY:Intro to Drums I & II
DESCRIPTION:Carpool 5:15 – 5:30 PM
URL:https://www.tcsatl.org/event/intro-to-drums-i-ii-3/
END:VEVENT
BEGIN:VEVENT
DTSTART;TZID=America/New_York:20230830T151500
DTEND;TZID=America/New_York:20230830T163000
DTSTAMP:20260422T175228
CREATED:20230810T053023Z
LAST-MODIFIED:20230829T214528Z
UID:10010465-1693408500-1693413000@www.tcsatl.org
SUMMARY:Intramural Co-Ed Tennis (Grades 3-5)
DESCRIPTION:Carpool 4:40-4:55 PM
URL:https://www.tcsatl.org/event/intramural-co-ed-tennis-grades-3-5-6/
END:VEVENT
BEGIN:VEVENT
DTSTART;TZID=America/New_York:20230830T154500
DTEND;TZID=America/New_York:20230830T164500
DTSTAMP:20260422T175228
CREATED:20230810T053023Z
LAST-MODIFIED:20230829T214528Z
UID:10010467-1693410300-1693413900@www.tcsatl.org
SUMMARY:Intramural Co-Ed Volleyball
DESCRIPTION:Carpool 4:45 – 5:00 PM
URL:https://www.tcsatl.org/event/intramural-co-ed-volleyball-7/
END:VEVENT
BEGIN:VEVENT
DTSTART;TZID=America/New_York:20230830T154500
DTEND;TZID=America/New_York:20230830T170000
DTSTAMP:20260422T175228
CREATED:20230810T053023Z
LAST-MODIFIED:20230829T214528Z
UID:10010466-1693410300-1693414800@www.tcsatl.org
SUMMARY:MAAC Girls & Boys Cross Country (Grades 6-8)
DESCRIPTION:Carpool 5:00- 5:15 PM
URL:https://www.tcsatl.org/event/maac-girls-boys-cross-country-grades-6-8-9/
END:VEVENT
BEGIN:VEVENT
DTSTART;TZID=America/New_York:20230830T154500
DTEND;TZID=America/New_York:20230830T174500
DTSTAMP:20260422T175228
CREATED:20230809T164607Z
LAST-MODIFIED:20230830T010010Z
UID:10010186-1693410300-1693417500@www.tcsatl.org
SUMMARY:Teachshirt Academy
DESCRIPTION:Carpool 5:45 – 6:00 PM
URL:https://www.tcsatl.org/event/teachshirt-academy-2/
END:VEVENT
BEGIN:VEVENT
DTSTART;TZID=America/New_York:20230830T154500
DTEND;TZID=America/New_York:20230830T174500
DTSTAMP:20260422T175228
CREATED:20230809T164607Z
LAST-MODIFIED:20230809T164607Z
UID:10010187-1693410300-1693417500@www.tcsatl.org
SUMMARY:Teachshirt Academy
DESCRIPTION:Carpool 5:45 – 6:00 PM
URL:https://www.tcsatl.org/event/teachshirt-academy-3/
END:VEVENT
END:VCALENDAR