BEGIN:VCALENDAR
VERSION:2.0
PRODID:-//The Children&#039;s School - ECPv6.15.15//NONSGML v1.0//EN
CALSCALE:GREGORIAN
METHOD:PUBLISH
X-WR-CALNAME:The Children&#039;s School
X-ORIGINAL-URL:https://www.tcsatl.org
X-WR-CALDESC:Events for The Children&#039;s School
REFRESH-INTERVAL;VALUE=DURATION:PT1H
X-Robots-Tag:noindex
X-PUBLISHED-TTL:PT1H
BEGIN:VTIMEZONE
TZID:America/New_York
BEGIN:DAYLIGHT
TZOFFSETFROM:-0500
TZOFFSETTO:-0400
TZNAME:EDT
DTSTART:20230312T070000
END:DAYLIGHT
BEGIN:STANDARD
TZOFFSETFROM:-0400
TZOFFSETTO:-0500
TZNAME:EST
DTSTART:20231105T060000
END:STANDARD
BEGIN:DAYLIGHT
TZOFFSETFROM:-0500
TZOFFSETTO:-0400
TZNAME:EDT
DTSTART:20240310T070000
END:DAYLIGHT
BEGIN:STANDARD
TZOFFSETFROM:-0400
TZOFFSETTO:-0500
TZNAME:EST
DTSTART:20241103T060000
END:STANDARD
BEGIN:DAYLIGHT
TZOFFSETFROM:-0500
TZOFFSETTO:-0400
TZNAME:EDT
DTSTART:20250309T070000
END:DAYLIGHT
BEGIN:STANDARD
TZOFFSETFROM:-0400
TZOFFSETTO:-0500
TZNAME:EST
DTSTART:20251102T060000
END:STANDARD
END:VTIMEZONE
BEGIN:VEVENT
DTSTART;TZID=America/New_York:20240220T151500
DTEND;TZID=America/New_York:20240220T163000
DTSTAMP:20260423T055645
CREATED:20230809T164704Z
LAST-MODIFIED:20230913T010018Z
UID:10010392-1708442100-1708446600@www.tcsatl.org
SUMMARY:TCS Jr Voices
DESCRIPTION:Carpool 04:30 – 04:45 PM
URL:https://www.tcsatl.org/event/tcs-jr-voices-63/
END:VEVENT
BEGIN:VEVENT
DTSTART;VALUE=DATE:20240221
DTEND;VALUE=DATE:20240222
DTSTAMP:20260423T055645
CREATED:20230201T214459Z
LAST-MODIFIED:20230913T020016Z
UID:10008998-1708473600-1708559999@www.tcsatl.org
SUMMARY:Students Return from Mid-Winter Break
DESCRIPTION:
URL:https://www.tcsatl.org/event/students-return-from-mid-winter-break-3/
END:VEVENT
BEGIN:VEVENT
DTSTART;TZID=America/New_York:20240221T151500
DTEND;TZID=America/New_York:20240221T161500
DTSTAMP:20260423T055645
CREATED:20230809T164704Z
LAST-MODIFIED:20230913T010019Z
UID:10010394-1708528500-1708532100@www.tcsatl.org
SUMMARY:TCS Jr. Players
DESCRIPTION:Carpool 4:15- 4:30 PM
URL:https://www.tcsatl.org/event/tcs-jr-players-93/
END:VEVENT
BEGIN:VEVENT
DTSTART;TZID=America/New_York:20240221T151500
DTEND;TZID=America/New_York:20240221T163000
DTSTAMP:20260423T055645
CREATED:20230809T164704Z
LAST-MODIFIED:20230913T010019Z
UID:10010393-1708528500-1708533000@www.tcsatl.org
SUMMARY:TCS Players (6-8th Grade)
DESCRIPTION:Carpool 4:30-4:45 PM
URL:https://www.tcsatl.org/event/tcs-players-6-8th-grade-49/
END:VEVENT
BEGIN:VEVENT
DTSTART;TZID=America/New_York:20240222T151500
DTEND;TZID=America/New_York:20240222T163000
DTSTAMP:20260423T055645
CREATED:20230809T164704Z
LAST-MODIFIED:20230913T010019Z
UID:10010395-1708614900-1708619400@www.tcsatl.org
SUMMARY:TCS Voices
DESCRIPTION:Carpool 4:30-4:45 PM
URL:https://www.tcsatl.org/event/tcs-voices-93/
END:VEVENT
BEGIN:VEVENT
DTSTART;TZID=America/New_York:20240226T151500
DTEND;TZID=America/New_York:20240226T163000
DTSTAMP:20260423T055645
CREATED:20230809T164705Z
LAST-MODIFIED:20230913T010019Z
UID:10010396-1708960500-1708965000@www.tcsatl.org
SUMMARY:TCS Players (6-8th Grade)
DESCRIPTION:Carpool 4:30-4:45 PM
URL:https://www.tcsatl.org/event/tcs-players-6-8th-grade-50/
END:VEVENT
BEGIN:VEVENT
DTSTART;TZID=America/New_York:20240227T151500
DTEND;TZID=America/New_York:20240227T163000
DTSTAMP:20260423T055645
CREATED:20230809T164705Z
LAST-MODIFIED:20230913T010019Z
UID:10010397-1709046900-1709051400@www.tcsatl.org
SUMMARY:TCS Jr Voices
DESCRIPTION:Carpool 04:30 – 04:45 PM
URL:https://www.tcsatl.org/event/tcs-jr-voices-64/
END:VEVENT
BEGIN:VEVENT
DTSTART;TZID=America/New_York:20240228T151500
DTEND;TZID=America/New_York:20240228T161500
DTSTAMP:20260423T055645
CREATED:20230809T164705Z
LAST-MODIFIED:20230913T010019Z
UID:10010399-1709133300-1709136900@www.tcsatl.org
SUMMARY:TCS Jr. Players
DESCRIPTION:Carpool 4:15- 4:30 PM
URL:https://www.tcsatl.org/event/tcs-jr-players-94/
END:VEVENT
BEGIN:VEVENT
DTSTART;TZID=America/New_York:20240228T151500
DTEND;TZID=America/New_York:20240228T163000
DTSTAMP:20260423T055645
CREATED:20230809T164705Z
LAST-MODIFIED:20230913T010019Z
UID:10010398-1709133300-1709137800@www.tcsatl.org
SUMMARY:TCS Players (6-8th Grade)
DESCRIPTION:Carpool 4:30-4:45 PM
URL:https://www.tcsatl.org/event/tcs-players-6-8th-grade-51/
END:VEVENT
BEGIN:VEVENT
DTSTART;TZID=America/New_York:20240229T151500
DTEND;TZID=America/New_York:20240229T163000
DTSTAMP:20260423T055645
CREATED:20230809T164705Z
LAST-MODIFIED:20230913T010019Z
UID:10010400-1709219700-1709224200@www.tcsatl.org
SUMMARY:TCS Voices
DESCRIPTION:Carpool 4:30-4:45 PM
URL:https://www.tcsatl.org/event/tcs-voices-94/
END:VEVENT
BEGIN:VEVENT
DTSTART;TZID=America/New_York:20240304T151500
DTEND;TZID=America/New_York:20240304T163000
DTSTAMP:20260423T055645
CREATED:20230809T164705Z
LAST-MODIFIED:20230913T010019Z
UID:10010401-1709565300-1709569800@www.tcsatl.org
SUMMARY:TCS Players (6-8th Grade)
DESCRIPTION:Carpool 4:30-4:45 PM
URL:https://www.tcsatl.org/event/tcs-players-6-8th-grade-52/
END:VEVENT
BEGIN:VEVENT
DTSTART;TZID=America/New_York:20240305T151500
DTEND;TZID=America/New_York:20240305T163000
DTSTAMP:20260423T055645
CREATED:20230809T164705Z
LAST-MODIFIED:20230913T010019Z
UID:10010402-1709651700-1709656200@www.tcsatl.org
SUMMARY:TCS Jr Voices
DESCRIPTION:Carpool 04:30 – 04:45 PM
URL:https://www.tcsatl.org/event/tcs-jr-voices-65/
END:VEVENT
BEGIN:VEVENT
DTSTART;TZID=America/New_York:20240306T151500
DTEND;TZID=America/New_York:20240306T161500
DTSTAMP:20260423T055645
CREATED:20230809T164706Z
LAST-MODIFIED:20230913T010019Z
UID:10010403-1709738100-1709741700@www.tcsatl.org
SUMMARY:TCS Jr. Players
DESCRIPTION:Carpool 4:15- 4:30 PM
URL:https://www.tcsatl.org/event/tcs-jr-players-95/
END:VEVENT
BEGIN:VEVENT
DTSTART;TZID=America/New_York:20240306T151500
DTEND;TZID=America/New_York:20240306T163000
DTSTAMP:20260423T055645
CREATED:20230809T164706Z
LAST-MODIFIED:20230913T010020Z
UID:10010404-1709738100-1709742600@www.tcsatl.org
SUMMARY:TCS Players (6-8th Grade)
DESCRIPTION:Carpool 4:30-4:45 PM
URL:https://www.tcsatl.org/event/tcs-players-6-8th-grade-53/
END:VEVENT
BEGIN:VEVENT
DTSTART;TZID=America/New_York:20240307T151500
DTEND;TZID=America/New_York:20240307T163000
DTSTAMP:20260423T055645
CREATED:20230809T164706Z
LAST-MODIFIED:20230913T010020Z
UID:10010405-1709824500-1709829000@www.tcsatl.org
SUMMARY:TCS Voices
DESCRIPTION:Carpool 4:30-4:45 PM
URL:https://www.tcsatl.org/event/tcs-voices-95/
END:VEVENT
BEGIN:VEVENT
DTSTART;VALUE=DATE:20240308
DTEND;VALUE=DATE:20240309
DTSTAMP:20260423T055645
CREATED:20230201T214459Z
LAST-MODIFIED:20230913T020016Z
UID:10008999-1709856000-1709942399@www.tcsatl.org
SUMMARY:School Closed for Students - Professional Day
DESCRIPTION:
URL:https://www.tcsatl.org/event/school-closed-for-students-professional-day-2/
END:VEVENT
BEGIN:VEVENT
DTSTART;TZID=America/New_York:20240311T151500
DTEND;TZID=America/New_York:20240311T163000
DTSTAMP:20260423T055645
CREATED:20230809T164706Z
LAST-MODIFIED:20230913T010020Z
UID:10010406-1710170100-1710174600@www.tcsatl.org
SUMMARY:TCS Players (6-8th Grade)
DESCRIPTION:Carpool 4:30-4:45 PM
URL:https://www.tcsatl.org/event/tcs-players-6-8th-grade-54/
END:VEVENT
BEGIN:VEVENT
DTSTART;TZID=America/New_York:20240312T151500
DTEND;TZID=America/New_York:20240312T163000
DTSTAMP:20260423T055645
CREATED:20230809T164706Z
LAST-MODIFIED:20230913T010020Z
UID:10009338-1710256500-1710261000@www.tcsatl.org
SUMMARY:TCS Jr Voices
DESCRIPTION:Carpool 04:30 – 04:45 PM
URL:https://www.tcsatl.org/event/tcs-jr-voices-66/
END:VEVENT
BEGIN:VEVENT
DTSTART;TZID=America/New_York:20240313T151500
DTEND;TZID=America/New_York:20240313T161500
DTSTAMP:20260423T055645
CREATED:20230809T164706Z
LAST-MODIFIED:20230913T010020Z
UID:10009339-1710342900-1710346500@www.tcsatl.org
SUMMARY:TCS Jr. Players
DESCRIPTION:Carpool 4:15- 4:30 PM
URL:https://www.tcsatl.org/event/tcs-jr-players-96/
END:VEVENT
BEGIN:VEVENT
DTSTART;TZID=America/New_York:20240313T151500
DTEND;TZID=America/New_York:20240313T163000
DTSTAMP:20260423T055645
CREATED:20230809T164707Z
LAST-MODIFIED:20230913T010020Z
UID:10009341-1710342900-1710347400@www.tcsatl.org
SUMMARY:TCS Players (6-8th Grade)
DESCRIPTION:Carpool 4:30-4:45 PM
URL:https://www.tcsatl.org/event/tcs-players-6-8th-grade-55/
END:VEVENT
BEGIN:VEVENT
DTSTART;TZID=America/New_York:20240314T151500
DTEND;TZID=America/New_York:20240314T163000
DTSTAMP:20260423T055645
CREATED:20230809T164707Z
LAST-MODIFIED:20230913T010020Z
UID:10009343-1710429300-1710433800@www.tcsatl.org
SUMMARY:TCS Voices
DESCRIPTION:Carpool 4:30-4:45 PM
URL:https://www.tcsatl.org/event/tcs-voices-96/
END:VEVENT
BEGIN:VEVENT
DTSTART;TZID=America/New_York:20240318T151500
DTEND;TZID=America/New_York:20240318T163000
DTSTAMP:20260423T055645
CREATED:20230809T164707Z
LAST-MODIFIED:20230913T010020Z
UID:10009344-1710774900-1710779400@www.tcsatl.org
SUMMARY:TCS Players (6-8th Grade)
DESCRIPTION:Carpool 4:30-4:45 PM
URL:https://www.tcsatl.org/event/tcs-players-6-8th-grade-56/
END:VEVENT
BEGIN:VEVENT
DTSTART;TZID=America/New_York:20240319T151500
DTEND;TZID=America/New_York:20240319T163000
DTSTAMP:20260423T055645
CREATED:20230809T164707Z
LAST-MODIFIED:20230913T010020Z
UID:10009345-1710861300-1710865800@www.tcsatl.org
SUMMARY:TCS Jr Voices
DESCRIPTION:Carpool 04:30 – 04:45 PM
URL:https://www.tcsatl.org/event/tcs-jr-voices-67/
END:VEVENT
BEGIN:VEVENT
DTSTART;TZID=America/New_York:20240320T151500
DTEND;TZID=America/New_York:20240320T161500
DTSTAMP:20260423T055645
CREATED:20230809T164707Z
LAST-MODIFIED:20230913T010020Z
UID:10009347-1710947700-1710951300@www.tcsatl.org
SUMMARY:TCS Jr. Players
DESCRIPTION:Carpool 4:15- 4:30 PM
URL:https://www.tcsatl.org/event/tcs-jr-players-97/
END:VEVENT
BEGIN:VEVENT
DTSTART;TZID=America/New_York:20240320T151500
DTEND;TZID=America/New_York:20240320T163000
DTSTAMP:20260423T055645
CREATED:20230809T164707Z
LAST-MODIFIED:20230913T010020Z
UID:10009346-1710947700-1710952200@www.tcsatl.org
SUMMARY:TCS Players (6-8th Grade)
DESCRIPTION:Carpool 4:30-4:45 PM
URL:https://www.tcsatl.org/event/tcs-players-6-8th-grade-57/
END:VEVENT
BEGIN:VEVENT
DTSTART;TZID=America/New_York:20240321T151500
DTEND;TZID=America/New_York:20240321T163000
DTSTAMP:20260423T055645
CREATED:20230809T164708Z
LAST-MODIFIED:20230913T010020Z
UID:10009348-1711034100-1711038600@www.tcsatl.org
SUMMARY:TCS Voices
DESCRIPTION:Carpool 4:30-4:45 PM
URL:https://www.tcsatl.org/event/tcs-voices-97/
END:VEVENT
BEGIN:VEVENT
DTSTART;TZID=America/New_York:20240325T151500
DTEND;TZID=America/New_York:20240325T163000
DTSTAMP:20260423T055645
CREATED:20230809T164708Z
LAST-MODIFIED:20230913T010021Z
UID:10009349-1711379700-1711384200@www.tcsatl.org
SUMMARY:TCS Players (6-8th Grade)
DESCRIPTION:Carpool 4:30-4:45 PM
URL:https://www.tcsatl.org/event/tcs-players-6-8th-grade-58/
END:VEVENT
BEGIN:VEVENT
DTSTART;TZID=America/New_York:20240326T151500
DTEND;TZID=America/New_York:20240326T163000
DTSTAMP:20260423T055645
CREATED:20230809T164708Z
LAST-MODIFIED:20230913T010021Z
UID:10010407-1711466100-1711470600@www.tcsatl.org
SUMMARY:TCS Jr Voices
DESCRIPTION:Carpool 04:30 – 04:45 PM
URL:https://www.tcsatl.org/event/tcs-jr-voices-68/
END:VEVENT
BEGIN:VEVENT
DTSTART;TZID=America/New_York:20240327T151500
DTEND;TZID=America/New_York:20240327T161500
DTSTAMP:20260423T055645
CREATED:20230809T164708Z
LAST-MODIFIED:20230913T010021Z
UID:10010409-1711552500-1711556100@www.tcsatl.org
SUMMARY:TCS Jr. Players
DESCRIPTION:Carpool 4:15- 4:30 PM
URL:https://www.tcsatl.org/event/tcs-jr-players-98/
END:VEVENT
BEGIN:VEVENT
DTSTART;TZID=America/New_York:20240327T151500
DTEND;TZID=America/New_York:20240327T163000
DTSTAMP:20260423T055645
CREATED:20230809T164708Z
LAST-MODIFIED:20230913T010021Z
UID:10010408-1711552500-1711557000@www.tcsatl.org
SUMMARY:TCS Players (6-8th Grade)
DESCRIPTION:Carpool 4:30-4:45 PM
URL:https://www.tcsatl.org/event/tcs-players-6-8th-grade-59/
END:VEVENT
END:VCALENDAR