BEGIN:VCALENDAR
VERSION:2.0
PRODID:-//The Children&#039;s School - ECPv6.15.15//NONSGML v1.0//EN
CALSCALE:GREGORIAN
METHOD:PUBLISH
X-WR-CALNAME:The Children&#039;s School
X-ORIGINAL-URL:https://www.tcsatl.org
X-WR-CALDESC:Events for The Children&#039;s School
REFRESH-INTERVAL;VALUE=DURATION:PT1H
X-Robots-Tag:noindex
X-PUBLISHED-TTL:PT1H
BEGIN:VTIMEZONE
TZID:America/New_York
BEGIN:DAYLIGHT
TZOFFSETFROM:-0500
TZOFFSETTO:-0400
TZNAME:EDT
DTSTART:20220313T070000
END:DAYLIGHT
BEGIN:STANDARD
TZOFFSETFROM:-0400
TZOFFSETTO:-0500
TZNAME:EST
DTSTART:20221106T060000
END:STANDARD
BEGIN:DAYLIGHT
TZOFFSETFROM:-0500
TZOFFSETTO:-0400
TZNAME:EDT
DTSTART:20230312T070000
END:DAYLIGHT
BEGIN:STANDARD
TZOFFSETFROM:-0400
TZOFFSETTO:-0500
TZNAME:EST
DTSTART:20231105T060000
END:STANDARD
BEGIN:DAYLIGHT
TZOFFSETFROM:-0500
TZOFFSETTO:-0400
TZNAME:EDT
DTSTART:20240310T070000
END:DAYLIGHT
BEGIN:STANDARD
TZOFFSETFROM:-0400
TZOFFSETTO:-0500
TZNAME:EST
DTSTART:20241103T060000
END:STANDARD
BEGIN:DAYLIGHT
TZOFFSETFROM:-0500
TZOFFSETTO:-0400
TZNAME:EDT
DTSTART:20250309T070000
END:DAYLIGHT
BEGIN:STANDARD
TZOFFSETFROM:-0400
TZOFFSETTO:-0500
TZNAME:EST
DTSTART:20251102T060000
END:STANDARD
END:VTIMEZONE
BEGIN:VEVENT
DTSTART;TZID=America/New_York:20231226T151500
DTEND;TZID=America/New_York:20231226T163000
DTSTAMP:20260422T182005
CREATED:20230809T164658Z
LAST-MODIFIED:20230913T010009Z
UID:10009305-1703603700-1703608200@www.tcsatl.org
SUMMARY:TCS Jr Voices
DESCRIPTION:Carpool 04:30 – 04:45 PM
URL:https://www.tcsatl.org/event/tcs-jr-voices-55/
END:VEVENT
BEGIN:VEVENT
DTSTART;TZID=America/New_York:20231227T151500
DTEND;TZID=America/New_York:20231227T161500
DTSTAMP:20260422T182005
CREATED:20230809T164658Z
LAST-MODIFIED:20230913T010009Z
UID:10009307-1703690100-1703693700@www.tcsatl.org
SUMMARY:TCS Jr. Players
DESCRIPTION:Carpool 4:15- 4:30 PM
URL:https://www.tcsatl.org/event/tcs-jr-players-85/
END:VEVENT
BEGIN:VEVENT
DTSTART;TZID=America/New_York:20231227T151500
DTEND;TZID=America/New_York:20231227T163000
DTSTAMP:20260422T182005
CREATED:20230809T164658Z
LAST-MODIFIED:20230913T010009Z
UID:10009308-1703690100-1703694600@www.tcsatl.org
SUMMARY:TCS Players (6-8th Grade)
DESCRIPTION:Carpool 4:30-4:45 PM
URL:https://www.tcsatl.org/event/tcs-players-6-8th-grade-33/
END:VEVENT
BEGIN:VEVENT
DTSTART;TZID=America/New_York:20231228T151500
DTEND;TZID=America/New_York:20231228T163000
DTSTAMP:20260422T182005
CREATED:20230809T164658Z
LAST-MODIFIED:20230913T010009Z
UID:10009309-1703776500-1703781000@www.tcsatl.org
SUMMARY:TCS Voices
DESCRIPTION:Carpool 4:30-4:45 PM
URL:https://www.tcsatl.org/event/tcs-voices-85/
END:VEVENT
BEGIN:VEVENT
DTSTART;TZID=America/New_York:20240101T151500
DTEND;TZID=America/New_York:20240101T163000
DTSTAMP:20260422T182005
CREATED:20230809T164658Z
LAST-MODIFIED:20230913T010009Z
UID:10009311-1704122100-1704126600@www.tcsatl.org
SUMMARY:TCS Players (6-8th Grade)
DESCRIPTION:Carpool 4:30-4:45 PM
URL:https://www.tcsatl.org/event/tcs-players-6-8th-grade-34/
END:VEVENT
BEGIN:VEVENT
DTSTART;TZID=America/New_York:20240102T151500
DTEND;TZID=America/New_York:20240102T163000
DTSTAMP:20260422T182005
CREATED:20230809T164658Z
LAST-MODIFIED:20230913T010016Z
UID:10009313-1704208500-1704213000@www.tcsatl.org
SUMMARY:TCS Jr Voices
DESCRIPTION:Carpool 04:30 – 04:45 PM
URL:https://www.tcsatl.org/event/tcs-jr-voices-56/
END:VEVENT
BEGIN:VEVENT
DTSTART;TZID=America/New_York:20240103T151500
DTEND;TZID=America/New_York:20240103T161500
DTSTAMP:20260422T182005
CREATED:20230809T164659Z
LAST-MODIFIED:20230913T010016Z
UID:10010369-1704294900-1704298500@www.tcsatl.org
SUMMARY:TCS Jr. Players
DESCRIPTION:Carpool 4:15- 4:30 PM
URL:https://www.tcsatl.org/event/tcs-jr-players-86/
END:VEVENT
BEGIN:VEVENT
DTSTART;TZID=America/New_York:20240103T151500
DTEND;TZID=America/New_York:20240103T163000
DTSTAMP:20260422T182005
CREATED:20230809T164659Z
LAST-MODIFIED:20230913T010016Z
UID:10010368-1704294900-1704299400@www.tcsatl.org
SUMMARY:TCS Players (6-8th Grade)
DESCRIPTION:Carpool 4:30-4:45 PM
URL:https://www.tcsatl.org/event/tcs-players-6-8th-grade-35/
END:VEVENT
BEGIN:VEVENT
DTSTART;VALUE=DATE:20240104
DTEND;VALUE=DATE:20240105
DTSTAMP:20260422T182005
CREATED:20230201T214458Z
LAST-MODIFIED:20230913T020016Z
UID:10010063-1704326400-1704412799@www.tcsatl.org
SUMMARY:Students Return from Winter Break
DESCRIPTION:
URL:https://www.tcsatl.org/event/students-return-from-winter-break-5/
END:VEVENT
BEGIN:VEVENT
DTSTART;TZID=America/New_York:20240104T151500
DTEND;TZID=America/New_York:20240104T163000
DTSTAMP:20260422T182005
CREATED:20230809T164659Z
LAST-MODIFIED:20230913T010016Z
UID:10010370-1704381300-1704385800@www.tcsatl.org
SUMMARY:TCS Voices
DESCRIPTION:Carpool 4:30-4:45 PM
URL:https://www.tcsatl.org/event/tcs-voices-86/
END:VEVENT
BEGIN:VEVENT
DTSTART;TZID=America/New_York:20240108T151500
DTEND;TZID=America/New_York:20240108T163000
DTSTAMP:20260422T182005
CREATED:20230809T164659Z
LAST-MODIFIED:20230913T010016Z
UID:10010371-1704726900-1704731400@www.tcsatl.org
SUMMARY:TCS Players (6-8th Grade)
DESCRIPTION:Carpool 4:30-4:45 PM
URL:https://www.tcsatl.org/event/tcs-players-6-8th-grade-36/
END:VEVENT
BEGIN:VEVENT
DTSTART;TZID=America/New_York:20240109T151500
DTEND;TZID=America/New_York:20240109T163000
DTSTAMP:20260422T182005
CREATED:20230809T164659Z
LAST-MODIFIED:20230913T010016Z
UID:10010372-1704813300-1704817800@www.tcsatl.org
SUMMARY:TCS Jr Voices
DESCRIPTION:Carpool 04:30 – 04:45 PM
URL:https://www.tcsatl.org/event/tcs-jr-voices-57/
END:VEVENT
BEGIN:VEVENT
DTSTART;TZID=America/New_York:20240110T151500
DTEND;TZID=America/New_York:20240110T161500
DTSTAMP:20260422T182005
CREATED:20230809T164659Z
LAST-MODIFIED:20230913T010016Z
UID:10010373-1704899700-1704903300@www.tcsatl.org
SUMMARY:TCS Jr. Players
DESCRIPTION:Carpool 4:15- 4:30 PM
URL:https://www.tcsatl.org/event/tcs-jr-players-87/
END:VEVENT
BEGIN:VEVENT
DTSTART;TZID=America/New_York:20240110T151500
DTEND;TZID=America/New_York:20240110T163000
DTSTAMP:20260422T182005
CREATED:20230809T164659Z
LAST-MODIFIED:20230913T010016Z
UID:10010374-1704899700-1704904200@www.tcsatl.org
SUMMARY:TCS Players (6-8th Grade)
DESCRIPTION:Carpool 4:30-4:45 PM
URL:https://www.tcsatl.org/event/tcs-players-6-8th-grade-37/
END:VEVENT
BEGIN:VEVENT
DTSTART;TZID=America/New_York:20240111T151500
DTEND;TZID=America/New_York:20240111T163000
DTSTAMP:20260422T182005
CREATED:20230809T164659Z
LAST-MODIFIED:20230913T010016Z
UID:10010375-1704986100-1704990600@www.tcsatl.org
SUMMARY:TCS Voices
DESCRIPTION:Carpool 4:30-4:45 PM
URL:https://www.tcsatl.org/event/tcs-voices-87/
END:VEVENT
BEGIN:VEVENT
DTSTART;VALUE=DATE:20240115
DTEND;VALUE=DATE:20240116
DTSTAMP:20260422T182005
CREATED:20230201T214458Z
LAST-MODIFIED:20230913T020016Z
UID:10010064-1705276800-1705363199@www.tcsatl.org
SUMMARY:School Closed - MLK Jr. Day
DESCRIPTION:
URL:https://www.tcsatl.org/event/school-closed-mlk-jr-day-3/
END:VEVENT
BEGIN:VEVENT
DTSTART;TZID=America/New_York:20240115T151500
DTEND;TZID=America/New_York:20240115T163000
DTSTAMP:20260422T182005
CREATED:20230809T164700Z
LAST-MODIFIED:20230913T010016Z
UID:10010376-1705331700-1705336200@www.tcsatl.org
SUMMARY:TCS Players (6-8th Grade)
DESCRIPTION:Carpool 4:30-4:45 PM
URL:https://www.tcsatl.org/event/tcs-players-6-8th-grade-38/
END:VEVENT
BEGIN:VEVENT
DTSTART;TZID=America/New_York:20240116T151500
DTEND;TZID=America/New_York:20240116T163000
DTSTAMP:20260422T182005
CREATED:20230809T164700Z
LAST-MODIFIED:20230913T010016Z
UID:10010377-1705418100-1705422600@www.tcsatl.org
SUMMARY:TCS Jr Voices
DESCRIPTION:Carpool 04:30 – 04:45 PM
URL:https://www.tcsatl.org/event/tcs-jr-voices-58/
END:VEVENT
BEGIN:VEVENT
DTSTART;TZID=America/New_York:20240117T151500
DTEND;TZID=America/New_York:20240117T161500
DTSTAMP:20260422T182005
CREATED:20230809T164700Z
LAST-MODIFIED:20230913T010017Z
UID:10010378-1705504500-1705508100@www.tcsatl.org
SUMMARY:TCS Jr. Players
DESCRIPTION:Carpool 4:15- 4:30 PM
URL:https://www.tcsatl.org/event/tcs-jr-players-88/
END:VEVENT
BEGIN:VEVENT
DTSTART;TZID=America/New_York:20240117T151500
DTEND;TZID=America/New_York:20240117T163000
DTSTAMP:20260422T182005
CREATED:20230809T164700Z
LAST-MODIFIED:20230913T010017Z
UID:10010379-1705504500-1705509000@www.tcsatl.org
SUMMARY:TCS Players (6-8th Grade)
DESCRIPTION:Carpool 4:30-4:45 PM
URL:https://www.tcsatl.org/event/tcs-players-6-8th-grade-39/
END:VEVENT
BEGIN:VEVENT
DTSTART;TZID=America/New_York:20240118T151500
DTEND;TZID=America/New_York:20240118T163000
DTSTAMP:20260422T182005
CREATED:20230809T164700Z
LAST-MODIFIED:20230913T010017Z
UID:10010380-1705590900-1705595400@www.tcsatl.org
SUMMARY:TCS Voices
DESCRIPTION:Carpool 4:30-4:45 PM
URL:https://www.tcsatl.org/event/tcs-voices-88/
END:VEVENT
BEGIN:VEVENT
DTSTART;TZID=America/New_York:20240122T151500
DTEND;TZID=America/New_York:20240122T163000
DTSTAMP:20260422T182005
CREATED:20230809T164701Z
LAST-MODIFIED:20230913T010017Z
UID:10010381-1705936500-1705941000@www.tcsatl.org
SUMMARY:TCS Players (6-8th Grade)
DESCRIPTION:Carpool 4:30-4:45 PM
URL:https://www.tcsatl.org/event/tcs-players-6-8th-grade-40/
END:VEVENT
BEGIN:VEVENT
DTSTART;TZID=America/New_York:20240123T151500
DTEND;TZID=America/New_York:20240123T163000
DTSTAMP:20260422T182005
CREATED:20230809T164701Z
LAST-MODIFIED:20230913T010017Z
UID:10010382-1706022900-1706027400@www.tcsatl.org
SUMMARY:TCS Jr Voices
DESCRIPTION:Carpool 04:30 – 04:45 PM
URL:https://www.tcsatl.org/event/tcs-jr-voices-59/
END:VEVENT
BEGIN:VEVENT
DTSTART;TZID=America/New_York:20240124T151500
DTEND;TZID=America/New_York:20240124T161500
DTSTAMP:20260422T182005
CREATED:20230809T164701Z
LAST-MODIFIED:20230913T010017Z
UID:10010383-1706109300-1706112900@www.tcsatl.org
SUMMARY:TCS Jr. Players
DESCRIPTION:Carpool 4:15- 4:30 PM
URL:https://www.tcsatl.org/event/tcs-jr-players-89/
END:VEVENT
BEGIN:VEVENT
DTSTART;TZID=America/New_York:20240124T151500
DTEND;TZID=America/New_York:20240124T163000
DTSTAMP:20260422T182005
CREATED:20230809T164701Z
LAST-MODIFIED:20230913T010017Z
UID:10010384-1706109300-1706113800@www.tcsatl.org
SUMMARY:TCS Players (6-8th Grade)
DESCRIPTION:Carpool 4:30-4:45 PM
URL:https://www.tcsatl.org/event/tcs-players-6-8th-grade-41/
END:VEVENT
BEGIN:VEVENT
DTSTART;TZID=America/New_York:20240125T151500
DTEND;TZID=America/New_York:20240125T163000
DTSTAMP:20260422T182005
CREATED:20230809T164701Z
LAST-MODIFIED:20230913T010017Z
UID:10010385-1706195700-1706200200@www.tcsatl.org
SUMMARY:TCS Voices
DESCRIPTION:Carpool 4:30-4:45 PM
URL:https://www.tcsatl.org/event/tcs-voices-89/
END:VEVENT
BEGIN:VEVENT
DTSTART;TZID=America/New_York:20240129T151500
DTEND;TZID=America/New_York:20240129T163000
DTSTAMP:20260422T182005
CREATED:20230809T164701Z
LAST-MODIFIED:20230913T010017Z
UID:10010386-1706541300-1706545800@www.tcsatl.org
SUMMARY:TCS Players (6-8th Grade)
DESCRIPTION:Carpool 4:30-4:45 PM
URL:https://www.tcsatl.org/event/tcs-players-6-8th-grade-42/
END:VEVENT
BEGIN:VEVENT
DTSTART;TZID=America/New_York:20240130T151500
DTEND;TZID=America/New_York:20240130T163000
DTSTAMP:20260422T182005
CREATED:20230809T164702Z
LAST-MODIFIED:20230913T010017Z
UID:10009318-1706627700-1706632200@www.tcsatl.org
SUMMARY:TCS Jr Voices
DESCRIPTION:Carpool 04:30 – 04:45 PM
URL:https://www.tcsatl.org/event/tcs-jr-voices-60/
END:VEVENT
BEGIN:VEVENT
DTSTART;TZID=America/New_York:20240131T151500
DTEND;TZID=America/New_York:20240131T161500
DTSTAMP:20260422T182005
CREATED:20230809T164702Z
LAST-MODIFIED:20230913T010017Z
UID:10009320-1706714100-1706717700@www.tcsatl.org
SUMMARY:TCS Jr. Players
DESCRIPTION:Carpool 4:15- 4:30 PM
URL:https://www.tcsatl.org/event/tcs-jr-players-90/
END:VEVENT
BEGIN:VEVENT
DTSTART;TZID=America/New_York:20240131T151500
DTEND;TZID=America/New_York:20240131T163000
DTSTAMP:20260422T182005
CREATED:20230809T164702Z
LAST-MODIFIED:20230913T010017Z
UID:10009321-1706714100-1706718600@www.tcsatl.org
SUMMARY:TCS Players (6-8th Grade)
DESCRIPTION:Carpool 4:30-4:45 PM
URL:https://www.tcsatl.org/event/tcs-players-6-8th-grade-43/
END:VEVENT
END:VCALENDAR