BEGIN:VCALENDAR
VERSION:2.0
PRODID:-//The Children&#039;s School - ECPv6.15.15//NONSGML v1.0//EN
CALSCALE:GREGORIAN
METHOD:PUBLISH
X-ORIGINAL-URL:https://www.tcsatl.org
X-WR-CALDESC:Events for The Children&#039;s School
REFRESH-INTERVAL;VALUE=DURATION:PT1H
X-Robots-Tag:noindex
X-PUBLISHED-TTL:PT1H
BEGIN:VTIMEZONE
TZID:America/New_York
BEGIN:DAYLIGHT
TZOFFSETFROM:-0500
TZOFFSETTO:-0400
TZNAME:EDT
DTSTART:20230312T070000
END:DAYLIGHT
BEGIN:STANDARD
TZOFFSETFROM:-0400
TZOFFSETTO:-0500
TZNAME:EST
DTSTART:20231105T060000
END:STANDARD
BEGIN:DAYLIGHT
TZOFFSETFROM:-0500
TZOFFSETTO:-0400
TZNAME:EDT
DTSTART:20240310T070000
END:DAYLIGHT
BEGIN:STANDARD
TZOFFSETFROM:-0400
TZOFFSETTO:-0500
TZNAME:EST
DTSTART:20241103T060000
END:STANDARD
BEGIN:DAYLIGHT
TZOFFSETFROM:-0500
TZOFFSETTO:-0400
TZNAME:EDT
DTSTART:20250309T070000
END:DAYLIGHT
BEGIN:STANDARD
TZOFFSETFROM:-0400
TZOFFSETTO:-0500
TZNAME:EST
DTSTART:20251102T060000
END:STANDARD
BEGIN:DAYLIGHT
TZOFFSETFROM:-0500
TZOFFSETTO:-0400
TZNAME:EDT
DTSTART:20260308T070000
END:DAYLIGHT
BEGIN:STANDARD
TZOFFSETFROM:-0400
TZOFFSETTO:-0500
TZNAME:EST
DTSTART:20261101T060000
END:STANDARD
END:VTIMEZONE
BEGIN:VEVENT
DTSTART;VALUE=DATE:20241213
DTEND;VALUE=DATE:20241214
DTSTAMP:20260421T085205
CREATED:20240829T171456Z
LAST-MODIFIED:20241213T215943Z
UID:10011242-1734048000-1734134399@www.tcsatl.org
SUMMARY:D Day
DESCRIPTION:
URL:https://www.tcsatl.org/event/d-day-38/
END:VEVENT
BEGIN:VEVENT
DTSTART;TZID=America/New_York:20241213T151500
DTEND;TZID=America/New_York:20241213T170000
DTSTAMP:20260421T085205
CREATED:20240812T184532Z
LAST-MODIFIED:20241213T200109Z
UID:10010840-1734102900-1734109200@www.tcsatl.org
SUMMARY:MAAC Girls Basketball
DESCRIPTION:Carpool 5:00-5:15 PM
URL:https://www.tcsatl.org/event/maac-girls-basketball-24/
END:VEVENT
BEGIN:VEVENT
DTSTART;TZID=America/New_York:20241213T151500
DTEND;TZID=America/New_York:20241213T170000
DTSTAMP:20260421T085205
CREATED:20240812T184532Z
LAST-MODIFIED:20241213T200108Z
UID:10010842-1734102900-1734109200@www.tcsatl.org
SUMMARY:MAAC Boys Basketball
DESCRIPTION:
URL:https://www.tcsatl.org/event/maac-boys-basketball-87/
END:VEVENT
BEGIN:VEVENT
DTSTART;TZID=America/New_York:20241213T154500
DTEND;TZID=America/New_York:20241213T170000
DTSTAMP:20260421T085205
CREATED:20240812T184532Z
LAST-MODIFIED:20241213T200109Z
UID:10010841-1734104700-1734109200@www.tcsatl.org
SUMMARY:MAAC Girls and Boys Cross Country
DESCRIPTION:Carpool 5:00-5:15 PM
URL:https://www.tcsatl.org/event/maac-girls-and-boys-cross-country-48/
END:VEVENT
BEGIN:VEVENT
DTSTART;VALUE=DATE:20241216
DTEND;VALUE=DATE:20241217
DTSTAMP:20260421T085205
CREATED:20240829T171456Z
LAST-MODIFIED:20241216T222940Z
UID:10011244-1734307200-1734393599@www.tcsatl.org
SUMMARY:E Day
DESCRIPTION:
URL:https://www.tcsatl.org/event/e-day-40/
END:VEVENT
BEGIN:VEVENT
DTSTART;TZID=America/New_York:20241216T151500
DTEND;TZID=America/New_York:20241216T170000
DTSTAMP:20260421T085205
CREATED:20240812T184532Z
LAST-MODIFIED:20241216T202944Z
UID:10010844-1734362100-1734368400@www.tcsatl.org
SUMMARY:MAAC Boys Basketball
DESCRIPTION:
URL:https://www.tcsatl.org/event/maac-boys-basketball-88/
END:VEVENT
BEGIN:VEVENT
DTSTART;TZID=America/New_York:20241216T154500
DTEND;TZID=America/New_York:20241216T164500
DTSTAMP:20260421T085205
CREATED:20240812T184532Z
LAST-MODIFIED:20241216T202944Z
UID:10010843-1734363900-1734367500@www.tcsatl.org
SUMMARY:Intramural Co-Ed Ultimate Frisbee
DESCRIPTION:Carpool 4:45-5:00 PM
URL:https://www.tcsatl.org/event/intramural-co-ed-ultimate-frisbee-17/
END:VEVENT
BEGIN:VEVENT
DTSTART;TZID=America/New_York:20241216T161500
DTEND;TZID=America/New_York:20241216T171500
DTSTAMP:20260421T085205
CREATED:20241106T224613Z
LAST-MODIFIED:20241216T202944Z
UID:10011403-1734365700-1734369300@www.tcsatl.org
SUMMARY:HOME GAME - MAAC GIRLS BASKETBALL GAME vs Waldorf School (non-league)
DESCRIPTION:
URL:https://www.tcsatl.org/event/home-game-maac-girls-basketball-game-vs-waldorf-school-non-league/
END:VEVENT
BEGIN:VEVENT
DTSTART;TZID=America/New_York:20241216T171500
DTEND;TZID=America/New_York:20241216T181500
DTSTAMP:20260421T085205
CREATED:20241106T224612Z
LAST-MODIFIED:20241216T202944Z
UID:10011402-1734369300-1734372900@www.tcsatl.org
SUMMARY:HOME GAME - MAAC BOYS BASKETBALL GAME vs Waldorf School
DESCRIPTION:
URL:https://www.tcsatl.org/event/home-game-maac-boys-basketball-game-vs-waldorf-school/
END:VEVENT
BEGIN:VEVENT
DTSTART;VALUE=DATE:20241217
DTEND;VALUE=DATE:20241218
DTSTAMP:20260421T085205
CREATED:20240829T171456Z
LAST-MODIFIED:20241217T223026Z
UID:10011246-1734393600-1734479999@www.tcsatl.org
SUMMARY:F Day
DESCRIPTION:
URL:https://www.tcsatl.org/event/f-day-38/
END:VEVENT
BEGIN:VEVENT
DTSTART;TZID=America/New_York:20241217T151500
DTEND;TZID=America/New_York:20241217T163000
DTSTAMP:20260421T085205
CREATED:20240812T184533Z
LAST-MODIFIED:20241217T204449Z
UID:10010845-1734448500-1734453000@www.tcsatl.org
SUMMARY:Intramural Co-Ed Tennis
DESCRIPTION:Carpool 4:40 – 4:55 PM
URL:https://www.tcsatl.org/event/intramural-co-ed-tennis-35/
END:VEVENT
BEGIN:VEVENT
DTSTART;TZID=America/New_York:20241217T151500
DTEND;TZID=America/New_York:20241217T170000
DTSTAMP:20260421T085205
CREATED:20240812T184533Z
LAST-MODIFIED:20241217T204448Z
UID:10010847-1734448500-1734454800@www.tcsatl.org
SUMMARY:MAAC Girls Basketball
DESCRIPTION:Carpool 5:00-5:15 PM
URL:https://www.tcsatl.org/event/maac-girls-basketball-25/
END:VEVENT
BEGIN:VEVENT
DTSTART;TZID=America/New_York:20241217T154500
DTEND;TZID=America/New_York:20241217T170000
DTSTAMP:20260421T085205
CREATED:20240812T184533Z
LAST-MODIFIED:20241217T204447Z
UID:10010846-1734450300-1734454800@www.tcsatl.org
SUMMARY:MAAC Girls and Boys Cross Country
DESCRIPTION:Carpool 5:00-5:15 PM
URL:https://www.tcsatl.org/event/maac-girls-and-boys-cross-country-49/
END:VEVENT
BEGIN:VEVENT
DTSTART;VALUE=DATE:20241218
DTEND;VALUE=DATE:20241219
DTSTAMP:20260421T085205
CREATED:20240829T171456Z
LAST-MODIFIED:20241218T222944Z
UID:10011245-1734480000-1734566399@www.tcsatl.org
SUMMARY:A Day
DESCRIPTION:
URL:https://www.tcsatl.org/event/a-day-39/
END:VEVENT
BEGIN:VEVENT
DTSTART;TZID=America/New_York:20241218T074500
DTEND;TZID=America/New_York:20241218T090000
DTSTAMP:20260421T085205
CREATED:20240812T184533Z
LAST-MODIFIED:20241217T204449Z
UID:10010848-1734507900-1734512400@www.tcsatl.org
SUMMARY:MAAC Girls Basketball
DESCRIPTION:
URL:https://www.tcsatl.org/event/maac-girls-basketball-26/
END:VEVENT
BEGIN:VEVENT
DTSTART;TZID=America/New_York:20241218T151500
DTEND;TZID=America/New_York:20241218T163000
DTSTAMP:20260421T085205
CREATED:20240812T184533Z
LAST-MODIFIED:20241218T210050Z
UID:10010849-1734534900-1734539400@www.tcsatl.org
SUMMARY:Intramural Co-Ed Tennis
DESCRIPTION:Carpool 4:40 – 4:55 PM
URL:https://www.tcsatl.org/event/intramural-co-ed-tennis-36/
END:VEVENT
BEGIN:VEVENT
DTSTART;TZID=America/New_York:20241218T154500
DTEND;TZID=America/New_York:20241218T170000
DTSTAMP:20260421T085205
CREATED:20240812T184533Z
LAST-MODIFIED:20241218T210050Z
UID:10010850-1734536700-1734541200@www.tcsatl.org
SUMMARY:MAAC Girls and Boys Cross Country
DESCRIPTION:Carpool 5:00-5:15 PM
URL:https://www.tcsatl.org/event/maac-girls-and-boys-cross-country-50/
END:VEVENT
BEGIN:VEVENT
DTSTART;VALUE=DATE:20241219
DTEND;VALUE=DATE:20241220
DTSTAMP:20260421T085205
CREATED:20240829T171456Z
LAST-MODIFIED:20241219T222945Z
UID:10011247-1734566400-1734652799@www.tcsatl.org
SUMMARY:B Day
DESCRIPTION:
URL:https://www.tcsatl.org/event/b-day-41/
END:VEVENT
BEGIN:VEVENT
DTSTART;TZID=America/New_York:20241219T151500
DTEND;TZID=America/New_York:20241219T170000
DTSTAMP:20260421T085205
CREATED:20240812T184533Z
LAST-MODIFIED:20241219T211449Z
UID:10010851-1734621300-1734627600@www.tcsatl.org
SUMMARY:MAAC Boys Basketball
DESCRIPTION:
URL:https://www.tcsatl.org/event/maac-boys-basketball-89/
END:VEVENT
BEGIN:VEVENT
DTSTART;TZID=America/New_York:20241219T154500
DTEND;TZID=America/New_York:20241219T164500
DTSTAMP:20260421T085205
CREATED:20240812T184534Z
LAST-MODIFIED:20241219T211449Z
UID:10010852-1734623100-1734626700@www.tcsatl.org
SUMMARY:Intramural Co-Ed Ultimate Frisbee
DESCRIPTION:Carpool 4:45-5:00 PM
URL:https://www.tcsatl.org/event/intramural-co-ed-ultimate-frisbee-18/
END:VEVENT
BEGIN:VEVENT
DTSTART;TZID=America/New_York:20241220T120000
DTEND;TZID=America/New_York:20241220T170000
DTSTAMP:20260421T085205
CREATED:20240613T163301Z
LAST-MODIFIED:20241219T222946Z
UID:10009514-1734696000-1734714000@www.tcsatl.org
SUMMARY:Early Dismissal - No EDSL\, SPORTS\, OR ENRICHMENT - TCS
DESCRIPTION:
URL:https://www.tcsatl.org/event/early-dismissal-no-edsl-sports-or-enrichment-tcs/
END:VEVENT
BEGIN:VEVENT
DTSTART;TZID=America/New_York:20241220T151500
DTEND;TZID=America/New_York:20241220T170000
DTSTAMP:20260421T085205
CREATED:20240812T184534Z
LAST-MODIFIED:20241220T212946Z
UID:10010854-1734707700-1734714000@www.tcsatl.org
SUMMARY:MAAC Boys Basketball
DESCRIPTION:
URL:https://www.tcsatl.org/event/maac-boys-basketball-90/
END:VEVENT
BEGIN:VEVENT
DTSTART;TZID=America/New_York:20241220T151500
DTEND;TZID=America/New_York:20241220T170000
DTSTAMP:20260421T085205
CREATED:20240812T184534Z
LAST-MODIFIED:20241220T212947Z
UID:10010855-1734707700-1734714000@www.tcsatl.org
SUMMARY:MAAC Girls Basketball
DESCRIPTION:Carpool 5:00-5:15 PM
URL:https://www.tcsatl.org/event/maac-girls-basketball-27/
END:VEVENT
BEGIN:VEVENT
DTSTART;TZID=America/New_York:20241220T154500
DTEND;TZID=America/New_York:20241220T170000
DTSTAMP:20260421T085205
CREATED:20240812T184534Z
LAST-MODIFIED:20241220T212947Z
UID:10010853-1734709500-1734714000@www.tcsatl.org
SUMMARY:MAAC Girls and Boys Cross Country
DESCRIPTION:Carpool 5:00-5:15 PM
URL:https://www.tcsatl.org/event/maac-girls-and-boys-cross-country-51/
END:VEVENT
BEGIN:VEVENT
DTSTART;VALUE=DATE:20241223
DTEND;VALUE=DATE:20250107
DTSTAMP:20260421T085205
CREATED:20240613T163303Z
LAST-MODIFIED:20250106T001447Z
UID:10009517-1734912000-1736207999@www.tcsatl.org
SUMMARY:Winter Break - School Closed - TCS
DESCRIPTION:
URL:https://www.tcsatl.org/event/winter-break-school-closed-tcs/
END:VEVENT
BEGIN:VEVENT
DTSTART;TZID=America/New_York:20241223T151500
DTEND;TZID=America/New_York:20241223T170000
DTSTAMP:20260421T085205
CREATED:20240812T184535Z
LAST-MODIFIED:20241223T215947Z
UID:10010857-1734966900-1734973200@www.tcsatl.org
SUMMARY:MAAC Boys Basketball
DESCRIPTION:
URL:https://www.tcsatl.org/event/maac-boys-basketball-91/
END:VEVENT
BEGIN:VEVENT
DTSTART;TZID=America/New_York:20241223T154500
DTEND;TZID=America/New_York:20241223T164500
DTSTAMP:20260421T085205
CREATED:20240812T184535Z
LAST-MODIFIED:20241222T215946Z
UID:10010856-1734968700-1734972300@www.tcsatl.org
SUMMARY:Intramural Co-Ed Ultimate Frisbee
DESCRIPTION:Carpool 4:45-5:00 PM
URL:https://www.tcsatl.org/event/intramural-co-ed-ultimate-frisbee-19/
END:VEVENT
BEGIN:VEVENT
DTSTART;TZID=America/New_York:20241224T151500
DTEND;TZID=America/New_York:20241224T163000
DTSTAMP:20260421T085205
CREATED:20240812T184535Z
LAST-MODIFIED:20241223T215948Z
UID:10010859-1735053300-1735057800@www.tcsatl.org
SUMMARY:Intramural Co-Ed Tennis
DESCRIPTION:Carpool 4:40 – 4:55 PM
URL:https://www.tcsatl.org/event/intramural-co-ed-tennis-37/
END:VEVENT
BEGIN:VEVENT
DTSTART;TZID=America/New_York:20241224T151500
DTEND;TZID=America/New_York:20241224T170000
DTSTAMP:20260421T085205
CREATED:20240812T184535Z
LAST-MODIFIED:20241223T215948Z
UID:10010858-1735053300-1735059600@www.tcsatl.org
SUMMARY:MAAC Girls Basketball
DESCRIPTION:Carpool 5:00-5:15 PM
URL:https://www.tcsatl.org/event/maac-girls-basketball-28/
END:VEVENT
BEGIN:VEVENT
DTSTART;TZID=America/New_York:20241224T154500
DTEND;TZID=America/New_York:20241224T170000
DTSTAMP:20260421T085205
CREATED:20240812T184535Z
LAST-MODIFIED:20241223T215949Z
UID:10010860-1735055100-1735059600@www.tcsatl.org
SUMMARY:MAAC Girls and Boys Cross Country
DESCRIPTION:Carpool 5:00-5:15 PM
URL:https://www.tcsatl.org/event/maac-girls-and-boys-cross-country-52/
END:VEVENT
END:VCALENDAR