BEGIN:VCALENDAR
VERSION:2.0
PRODID:-//The Children&#039;s School - ECPv6.15.15//NONSGML v1.0//EN
CALSCALE:GREGORIAN
METHOD:PUBLISH
X-ORIGINAL-URL:https://www.tcsatl.org
X-WR-CALDESC:Events for The Children&#039;s School
REFRESH-INTERVAL;VALUE=DURATION:PT1H
X-Robots-Tag:noindex
X-PUBLISHED-TTL:PT1H
BEGIN:VTIMEZONE
TZID:America/New_York
BEGIN:DAYLIGHT
TZOFFSETFROM:-0500
TZOFFSETTO:-0400
TZNAME:EDT
DTSTART:20220313T070000
END:DAYLIGHT
BEGIN:STANDARD
TZOFFSETFROM:-0400
TZOFFSETTO:-0500
TZNAME:EST
DTSTART:20221106T060000
END:STANDARD
BEGIN:DAYLIGHT
TZOFFSETFROM:-0500
TZOFFSETTO:-0400
TZNAME:EDT
DTSTART:20230312T070000
END:DAYLIGHT
BEGIN:STANDARD
TZOFFSETFROM:-0400
TZOFFSETTO:-0500
TZNAME:EST
DTSTART:20231105T060000
END:STANDARD
BEGIN:DAYLIGHT
TZOFFSETFROM:-0500
TZOFFSETTO:-0400
TZNAME:EDT
DTSTART:20240310T070000
END:DAYLIGHT
BEGIN:STANDARD
TZOFFSETFROM:-0400
TZOFFSETTO:-0500
TZNAME:EST
DTSTART:20241103T060000
END:STANDARD
END:VTIMEZONE
BEGIN:VEVENT
DTSTART;TZID=America/New_York:20230926T151500
DTEND;TZID=America/New_York:20230926T161500
DTSTAMP:20260421T215700
CREATED:20230906T010113Z
LAST-MODIFIED:20230913T005953Z
UID:10010565-1695741300-1695744900@www.tcsatl.org
SUMMARY:Intro to Drums I & II and Percussion Ensemble III & IV
DESCRIPTION:
URL:https://www.tcsatl.org/event/intro-to-drums-i-ii-and-percussion-ensemble-iii-iv-3/
END:VEVENT
BEGIN:VEVENT
DTSTART;TZID=America/New_York:20230926T151500
DTEND;TZID=America/New_York:20230926T163000
DTSTAMP:20260421T215700
CREATED:20230809T164618Z
LAST-MODIFIED:20230913T005953Z
UID:10010228-1695741300-1695745800@www.tcsatl.org
SUMMARY:TCS Jr Voices
DESCRIPTION:Carpool 04:30 – 04:45 PM
URL:https://www.tcsatl.org/event/tcs-jr-voices-42/
END:VEVENT
BEGIN:VEVENT
DTSTART;TZID=America/New_York:20230926T151500
DTEND;TZID=America/New_York:20230926T163000
DTSTAMP:20260421T215700
CREATED:20230810T053029Z
LAST-MODIFIED:20230905T214616Z
UID:10009435-1695741300-1695745800@www.tcsatl.org
SUMMARY:Intramural Co-Ed Tennis (Grades 3-5)
DESCRIPTION:Carpool 4:40-4:55 PM
URL:https://www.tcsatl.org/event/intramural-co-ed-tennis-grades-3-5-13/
END:VEVENT
BEGIN:VEVENT
DTSTART;TZID=America/New_York:20230926T154500
DTEND;TZID=America/New_York:20230926T164500
DTSTAMP:20260421T215700
CREATED:20230809T164617Z
LAST-MODIFIED:20230913T005953Z
UID:10010227-1695743100-1695746700@www.tcsatl.org
SUMMARY:Science Creations S.T.E.A.M.
DESCRIPTION:
URL:https://www.tcsatl.org/event/science-creations-s-t-e-a-m-12/
END:VEVENT
BEGIN:VEVENT
DTSTART;TZID=America/New_York:20230926T154500
DTEND;TZID=America/New_York:20230926T164500
DTSTAMP:20260421T215700
CREATED:20230810T053029Z
LAST-MODIFIED:20230905T214616Z
UID:10009433-1695743100-1695746700@www.tcsatl.org
SUMMARY:Intramural Co-Ed Volleyball
DESCRIPTION:Carpool 4:45 – 5:00 PM
URL:https://www.tcsatl.org/event/intramural-co-ed-volleyball-14/
END:VEVENT
BEGIN:VEVENT
DTSTART;TZID=America/New_York:20230926T154500
DTEND;TZID=America/New_York:20230926T170000
DTSTAMP:20260421T215700
CREATED:20230810T053029Z
LAST-MODIFIED:20230905T214616Z
UID:10010502-1695743100-1695747600@www.tcsatl.org
SUMMARY:MAAC Girls & Boys Cross Country (Grades 6-8)
DESCRIPTION:Carpool 5:00- 5:15 PM
URL:https://www.tcsatl.org/event/maac-girls-boys-cross-country-grades-6-8-20/
END:VEVENT
BEGIN:VEVENT
DTSTART;TZID=America/New_York:20230926T160000
DTEND;TZID=America/New_York:20230926T180000
DTSTAMP:20260421T215700
CREATED:20230828T214537Z
LAST-MODIFIED:20230905T214616Z
UID:10010533-1695744000-1695751200@www.tcsatl.org
SUMMARY:MAAC Co-Ed Ultimate Frisbee vs Davis Academy - Piedmont Park
DESCRIPTION:
URL:https://www.tcsatl.org/event/maac-co-ed-ultimate-frisbee-vs-davis-academy-piedmont-park/
END:VEVENT
BEGIN:VEVENT
DTSTART;TZID=America/New_York:20230926T161500
DTEND;TZID=America/New_York:20230926T171500
DTSTAMP:20260421T215700
CREATED:20230809T164617Z
LAST-MODIFIED:20230905T010038Z
UID:10010226-1695744900-1695748500@www.tcsatl.org
SUMMARY:Intro to Drums I & II
DESCRIPTION:Carpool 5:15 – 5:30 PM
URL:https://www.tcsatl.org/event/intro-to-drums-i-ii-7/
END:VEVENT
BEGIN:VEVENT
DTSTART;TZID=America/New_York:20230926T163000
DTEND;TZID=America/New_York:20230926T183000
DTSTAMP:20260421T215700
CREATED:20230830T214504Z
LAST-MODIFIED:20230905T214616Z
UID:10010547-1695745800-1695753000@www.tcsatl.org
SUMMARY:AWAY GAME - MAAC Girls Volleyball vs Atlanta Jewish Academy
DESCRIPTION:
URL:https://www.tcsatl.org/event/away-game-maac-girls-volleyball-vs-atlanta-jewish-academy/
LOCATION:Atlanta Jewish Academy\, 5200 Northland Dr\, Atlanta\, GA 30342\, USA\, 4800 Northland Dr NE\, United States
GEO:33.886083;-84.359963
X-APPLE-STRUCTURED-LOCATION;VALUE=URI;X-ADDRESS=Atlanta Jewish Academy 5200 Northland Dr Atlanta GA 30342 USA 4800 Northland Dr NE United States;X-APPLE-RADIUS=500;X-TITLE=4800 Northland Dr NE:geo:-84.359963,33.886083
END:VEVENT
BEGIN:VEVENT
DTSTART;TZID=America/New_York:20230927T151500
DTEND;TZID=America/New_York:20230927T161500
DTSTAMP:20260421T215700
CREATED:20230809T164618Z
LAST-MODIFIED:20230913T005953Z
UID:10010231-1695827700-1695831300@www.tcsatl.org
SUMMARY:TCS Jr. Players
DESCRIPTION:Carpool 4:15- 4:30 PM
URL:https://www.tcsatl.org/event/tcs-jr-players-72/
END:VEVENT
BEGIN:VEVENT
DTSTART;TZID=America/New_York:20230927T151500
DTEND;TZID=America/New_York:20230927T163000
DTSTAMP:20260421T215700
CREATED:20230809T164618Z
LAST-MODIFIED:20230913T005953Z
UID:10010229-1695827700-1695832200@www.tcsatl.org
SUMMARY:TCS Players (6-8th Grade)
DESCRIPTION:Carpool 4:30-4:45 PM
URL:https://www.tcsatl.org/event/tcs-players-6-8th-grade-7/
END:VEVENT
BEGIN:VEVENT
DTSTART;TZID=America/New_York:20230927T151500
DTEND;TZID=America/New_York:20230927T163000
DTSTAMP:20260421T215700
CREATED:20230810T053030Z
LAST-MODIFIED:20230905T214616Z
UID:10009438-1695827700-1695832200@www.tcsatl.org
SUMMARY:Intramural Co-Ed Tennis (Grades 3-5)
DESCRIPTION:Carpool 4:40-4:55 PM
URL:https://www.tcsatl.org/event/intramural-co-ed-tennis-grades-3-5-14/
END:VEVENT
BEGIN:VEVENT
DTSTART;TZID=America/New_York:20230927T154500
DTEND;TZID=America/New_York:20230927T164500
DTSTAMP:20260421T215700
CREATED:20230810T053029Z
LAST-MODIFIED:20230905T214628Z
UID:10009437-1695829500-1695833100@www.tcsatl.org
SUMMARY:Intramural Co-Ed Volleyball
DESCRIPTION:Carpool 4:45 – 5:00 PM
URL:https://www.tcsatl.org/event/intramural-co-ed-volleyball-15/
END:VEVENT
BEGIN:VEVENT
DTSTART;TZID=America/New_York:20230927T154500
DTEND;TZID=America/New_York:20230927T170000
DTSTAMP:20260421T215700
CREATED:20230810T053030Z
LAST-MODIFIED:20230905T214628Z
UID:10009439-1695829500-1695834000@www.tcsatl.org
SUMMARY:MAAC Girls & Boys Cross Country (Grades 6-8)
DESCRIPTION:Carpool 5:00- 5:15 PM
URL:https://www.tcsatl.org/event/maac-girls-boys-cross-country-grades-6-8-21/
END:VEVENT
BEGIN:VEVENT
DTSTART;TZID=America/New_York:20230927T154500
DTEND;TZID=America/New_York:20230927T174500
DTSTAMP:20260421T215700
CREATED:20230809T164618Z
LAST-MODIFIED:20230913T005953Z
UID:10010230-1695829500-1695836700@www.tcsatl.org
SUMMARY:Teachshirt Academy
DESCRIPTION:Carpool 5:45 – 6:00 PM
URL:https://www.tcsatl.org/event/teachshirt-academy-7/
END:VEVENT
BEGIN:VEVENT
DTSTART;TZID=America/New_York:20230927T163000
DTEND;TZID=America/New_York:20230927T183000
DTSTAMP:20260421T215700
CREATED:20230830T214504Z
LAST-MODIFIED:20230905T214628Z
UID:10010548-1695832200-1695839400@www.tcsatl.org
SUMMARY:MAAC Girls & Boys Cross Country Meet - Garrard Landing
DESCRIPTION:
URL:https://www.tcsatl.org/event/maac-girls-boys-cross-country-meet-garrard-landing/
LOCATION:Garrard Landing Park\, 8000 Holcomb Bridge Rd\, Alpharetta\, GA 30022\, USA
END:VEVENT
BEGIN:VEVENT
DTSTART;TZID=America/New_York:20230928T151500
DTEND;TZID=America/New_York:20230928T161500
DTSTAMP:20260421T215700
CREATED:20230809T164619Z
LAST-MODIFIED:20230913T005953Z
UID:10010233-1695914100-1695917700@www.tcsatl.org
SUMMARY:Tonchu Martial Arts
DESCRIPTION:Carpool 4:15-4:30 PM
URL:https://www.tcsatl.org/event/tonchu-martial-arts-9/
END:VEVENT
BEGIN:VEVENT
DTSTART;TZID=America/New_York:20230928T151500
DTEND;TZID=America/New_York:20230928T161500
DTSTAMP:20260421T215700
CREATED:20230809T164620Z
LAST-MODIFIED:20230913T005953Z
UID:10010236-1695914100-1695917700@www.tcsatl.org
SUMMARY:Drums (All Levels)
DESCRIPTION:Carpool 4:15- 4:30 PM
URL:https://www.tcsatl.org/event/drums-all-levels-10/
END:VEVENT
BEGIN:VEVENT
DTSTART;TZID=America/New_York:20230928T151500
DTEND;TZID=America/New_York:20230928T163000
DTSTAMP:20260421T215700
CREATED:20230809T164619Z
LAST-MODIFIED:20230913T005953Z
UID:10010234-1695914100-1695918600@www.tcsatl.org
SUMMARY:TCS Voices
DESCRIPTION:Carpool 4:30-4:45 PM
URL:https://www.tcsatl.org/event/tcs-voices-72/
END:VEVENT
BEGIN:VEVENT
DTSTART;TZID=America/New_York:20230928T151500
DTEND;TZID=America/New_York:20230928T164500
DTSTAMP:20260421T215700
CREATED:20230809T164620Z
LAST-MODIFIED:20230913T005953Z
UID:10010235-1695914100-1695919500@www.tcsatl.org
SUMMARY:Kids TV - Video & Film Production Class
DESCRIPTION:Carpool 4:45 – 4:30 PM
URL:https://www.tcsatl.org/event/kids-tv-video-film-production-class-24/
END:VEVENT
BEGIN:VEVENT
DTSTART;TZID=America/New_York:20230928T154500
DTEND;TZID=America/New_York:20230928T164500
DTSTAMP:20260421T215700
CREATED:20230809T164619Z
LAST-MODIFIED:20230913T005953Z
UID:10010232-1695915900-1695919500@www.tcsatl.org
SUMMARY:Science Creations S.T.E.A.M.
DESCRIPTION:Carpool 4:45- 5:00 PM
URL:https://www.tcsatl.org/event/science-creations-s-t-e-a-m-13/
END:VEVENT
BEGIN:VEVENT
DTSTART;TZID=America/New_York:20230928T154500
DTEND;TZID=America/New_York:20230928T164500
DTSTAMP:20260421T215700
CREATED:20230810T053030Z
LAST-MODIFIED:20230905T214629Z
UID:10009442-1695915900-1695919500@www.tcsatl.org
SUMMARY:Intramural Girls & Boys Cross Country
DESCRIPTION:Carpool 4:45-5:00 PM
URL:https://www.tcsatl.org/event/intramural-girls-boys-cross-country-16/
END:VEVENT
BEGIN:VEVENT
DTSTART;TZID=America/New_York:20230928T154500
DTEND;TZID=America/New_York:20230928T170000
DTSTAMP:20260421T215700
CREATED:20230810T053030Z
LAST-MODIFIED:20230905T214629Z
UID:10009440-1695915900-1695920400@www.tcsatl.org
SUMMARY:MAAC Co-Ed Ultimate Frisbee (Grades 5-8)
DESCRIPTION:carpool 5:00 -5:15 PM
URL:https://www.tcsatl.org/event/maac-co-ed-ultimate-frisbee-grades-5-8-22/
END:VEVENT
BEGIN:VEVENT
DTSTART;TZID=America/New_York:20230928T154500
DTEND;TZID=America/New_York:20230928T170000
DTSTAMP:20260421T215700
CREATED:20230810T053030Z
LAST-MODIFIED:20230905T214628Z
UID:10009441-1695915900-1695920400@www.tcsatl.org
SUMMARY:MAAC Girls Volleyball
DESCRIPTION:Carpool 5:00-5:15 pm
URL:https://www.tcsatl.org/event/maac-girls-volleyball-107/
END:VEVENT
BEGIN:VEVENT
DTSTART;TZID=America/New_York:20230928T161500
DTEND;TZID=America/New_York:20230928T181500
DTSTAMP:20260421T215700
CREATED:20230830T214504Z
LAST-MODIFIED:20230905T214629Z
UID:10009479-1695917700-1695924900@www.tcsatl.org
SUMMARY:AWAY GAME - MAAC Girls Volleyball vs Atlanta Academy
DESCRIPTION:
URL:https://www.tcsatl.org/event/away-game-maac-girls-volleyball-vs-atlanta-academy/
LOCATION:Atlanta Academy\, 2000 Holcomb Woods Pkwy\, Roswell\, GA 30076\, USA\, 712 Holcomb Bridge Rd\, United States
GEO:34.03167;-84.3395
X-APPLE-STRUCTURED-LOCATION;VALUE=URI;X-ADDRESS=Atlanta Academy 2000 Holcomb Woods Pkwy Roswell GA 30076 USA 712 Holcomb Bridge Rd United States;X-APPLE-RADIUS=500;X-TITLE=712 Holcomb Bridge Rd:geo:-84.3395,34.03167
END:VEVENT
BEGIN:VEVENT
DTSTART;TZID=America/New_York:20230929T151500
DTEND;TZID=America/New_York:20230929T161500
DTSTAMP:20260421T215700
CREATED:20230809T164620Z
LAST-MODIFIED:20230913T005954Z
UID:10010238-1696000500-1696004100@www.tcsatl.org
SUMMARY:Gymnastics Level II
DESCRIPTION:Carpool 04:15 pm – 4:30 PM
URL:https://www.tcsatl.org/event/gymnastics-level-ii-25/
END:VEVENT
BEGIN:VEVENT
DTSTART;TZID=America/New_York:20230929T151500
DTEND;TZID=America/New_York:20230929T161500
DTSTAMP:20260421T215700
CREATED:20230809T164620Z
LAST-MODIFIED:20230913T005953Z
UID:10010239-1696000500-1696004100@www.tcsatl.org
SUMMARY:Intro to Gymnastics
DESCRIPTION:Carpool 4:15 – 4:30 PM
URL:https://www.tcsatl.org/event/intro-to-gymnastics-11/
END:VEVENT
BEGIN:VEVENT
DTSTART;TZID=America/New_York:20230929T151500
DTEND;TZID=America/New_York:20230929T161500
DTSTAMP:20260421T215700
CREATED:20230809T164621Z
LAST-MODIFIED:20230913T005954Z
UID:10010241-1696000500-1696004100@www.tcsatl.org
SUMMARY:Amazing Athletes
DESCRIPTION:Carpool 4:15-4:30 PM
URL:https://www.tcsatl.org/event/amazing-athletes-48/
END:VEVENT
BEGIN:VEVENT
DTSTART;TZID=America/New_York:20230929T154500
DTEND;TZID=America/New_York:20230929T170000
DTSTAMP:20260421T215700
CREATED:20230810T053030Z
LAST-MODIFIED:20230905T214629Z
UID:10009443-1696002300-1696006800@www.tcsatl.org
SUMMARY:MAAC Co-Ed Ultimate Frisbee (Grades 5-8)
DESCRIPTION:carpool 5:00 -5:15 PM
URL:https://www.tcsatl.org/event/maac-co-ed-ultimate-frisbee-grades-5-8-23/
END:VEVENT
BEGIN:VEVENT
DTSTART;TZID=America/New_York:20230929T154500
DTEND;TZID=America/New_York:20230929T170000
DTSTAMP:20260421T215700
CREATED:20230810T053030Z
LAST-MODIFIED:20230905T214629Z
UID:10009444-1696002300-1696006800@www.tcsatl.org
SUMMARY:MAAC Girls Volleyball
DESCRIPTION:Carpool 5:00-5:15 pm
URL:https://www.tcsatl.org/event/maac-girls-volleyball-108/
END:VEVENT
END:VCALENDAR