BEGIN:VCALENDAR
VERSION:2.0
PRODID:-//The Children&#039;s School - ECPv6.15.15//NONSGML v1.0//EN
CALSCALE:GREGORIAN
METHOD:PUBLISH
X-ORIGINAL-URL:https://www.tcsatl.org
X-WR-CALDESC:Events for The Children&#039;s School
REFRESH-INTERVAL;VALUE=DURATION:PT1H
X-Robots-Tag:noindex
X-PUBLISHED-TTL:PT1H
BEGIN:VTIMEZONE
TZID:America/New_York
BEGIN:DAYLIGHT
TZOFFSETFROM:-0500
TZOFFSETTO:-0400
TZNAME:EDT
DTSTART:20220313T070000
END:DAYLIGHT
BEGIN:STANDARD
TZOFFSETFROM:-0400
TZOFFSETTO:-0500
TZNAME:EST
DTSTART:20221106T060000
END:STANDARD
BEGIN:DAYLIGHT
TZOFFSETFROM:-0500
TZOFFSETTO:-0400
TZNAME:EDT
DTSTART:20230312T070000
END:DAYLIGHT
BEGIN:STANDARD
TZOFFSETFROM:-0400
TZOFFSETTO:-0500
TZNAME:EST
DTSTART:20231105T060000
END:STANDARD
BEGIN:DAYLIGHT
TZOFFSETFROM:-0500
TZOFFSETTO:-0400
TZNAME:EDT
DTSTART:20240310T070000
END:DAYLIGHT
BEGIN:STANDARD
TZOFFSETFROM:-0400
TZOFFSETTO:-0500
TZNAME:EST
DTSTART:20241103T060000
END:STANDARD
END:VTIMEZONE
BEGIN:VEVENT
DTSTART;VALUE=DATE:20230904
DTEND;VALUE=DATE:20230905
DTSTAMP:20260421T215655
CREATED:20230201T214457Z
LAST-MODIFIED:20230904T193006Z
UID:10008991-1693785600-1693871999@www.tcsatl.org
SUMMARY:School Closed - Labor Day
DESCRIPTION:
URL:https://www.tcsatl.org/event/school-closed-labor-day-3/
END:VEVENT
BEGIN:VEVENT
DTSTART;TZID=America/New_York:20230904T151500
DTEND;TZID=America/New_York:20230904T161500
DTSTAMP:20260421T215655
CREATED:20230809T164609Z
LAST-MODIFIED:20230830T010022Z
UID:10009130-1693840500-1693844100@www.tcsatl.org
SUMMARY:Bricks4Kidz
DESCRIPTION:
URL:https://www.tcsatl.org/event/bricks4kidz-23/
END:VEVENT
BEGIN:VEVENT
DTSTART;TZID=America/New_York:20230904T151500
DTEND;TZID=America/New_York:20230904T161500
DTSTAMP:20260421T215655
CREATED:20230831T010007Z
LAST-MODIFIED:20230904T010259Z
UID:10009493-1693840500-1693844100@www.tcsatl.org
SUMMARY:Bricks4Kidz
DESCRIPTION:
URL:https://www.tcsatl.org/event/bricks4kidz-38/
END:VEVENT
BEGIN:VEVENT
DTSTART;TZID=America/New_York:20230904T151500
DTEND;TZID=America/New_York:20230904T161500
DTSTAMP:20260421T215655
CREATED:20230831T010007Z
LAST-MODIFIED:20230831T010007Z
UID:10009495-1693840500-1693844100@www.tcsatl.org
SUMMARY:Bricks4Kidz
DESCRIPTION:
URL:https://www.tcsatl.org/event/bricks4kidz-39/
END:VEVENT
BEGIN:VEVENT
DTSTART;TZID=America/New_York:20230904T154500
DTEND;TZID=America/New_York:20230904T164500
DTSTAMP:20260421T215655
CREATED:20230809T164609Z
LAST-MODIFIED:20230904T010259Z
UID:10009132-1693842300-1693845900@www.tcsatl.org
SUMMARY:Soundscape Music Ensemble
DESCRIPTION:Carpool 4:45 – 5:00 PM
URL:https://www.tcsatl.org/event/soundscape-music-ensemble-4/
END:VEVENT
BEGIN:VEVENT
DTSTART;TZID=America/New_York:20230904T154500
DTEND;TZID=America/New_York:20230904T164500
DTSTAMP:20260421T215655
CREATED:20230810T053024Z
LAST-MODIFIED:20230903T214447Z
UID:10010475-1693842300-1693845900@www.tcsatl.org
SUMMARY:Intramural Girls & Boys Cross Country
DESCRIPTION:Carpool 4:45-5:00 PM
URL:https://www.tcsatl.org/event/intramural-girls-boys-cross-country-9/
END:VEVENT
BEGIN:VEVENT
DTSTART;TZID=America/New_York:20230904T154500
DTEND;TZID=America/New_York:20230904T170000
DTSTAMP:20260421T215655
CREATED:20230810T053024Z
LAST-MODIFIED:20230903T214447Z
UID:10010474-1693842300-1693846800@www.tcsatl.org
SUMMARY:MAAC Girls Volleyball
DESCRIPTION:Carpool 5:00-5:15 pm
URL:https://www.tcsatl.org/event/maac-girls-volleyball-97/
END:VEVENT
BEGIN:VEVENT
DTSTART;TZID=America/New_York:20230904T154500
DTEND;TZID=America/New_York:20230904T170000
DTSTAMP:20260421T215655
CREATED:20230810T053024Z
LAST-MODIFIED:20230903T214447Z
UID:10009407-1693842300-1693846800@www.tcsatl.org
SUMMARY:MAAC Co-Ed Ultimate Frisbee (Grades 5-8)
DESCRIPTION:carpool 5:00 -5:15 PM
URL:https://www.tcsatl.org/event/maac-co-ed-ultimate-frisbee-grades-5-8-12/
END:VEVENT
BEGIN:VEVENT
DTSTART;TZID=America/New_York:20230905T151500
DTEND;TZID=America/New_York:20230905T163000
DTSTAMP:20260421T215655
CREATED:20230809T164610Z
LAST-MODIFIED:20230905T010034Z
UID:10009136-1693926900-1693931400@www.tcsatl.org
SUMMARY:TCS Jr Voices
DESCRIPTION:Carpool 04:30 – 04:45 PM
URL:https://www.tcsatl.org/event/tcs-jr-voices-39/
END:VEVENT
BEGIN:VEVENT
DTSTART;TZID=America/New_York:20230905T151500
DTEND;TZID=America/New_York:20230905T163000
DTSTAMP:20260421T215655
CREATED:20230810T053024Z
LAST-MODIFIED:20230904T214505Z
UID:10009411-1693926900-1693931400@www.tcsatl.org
SUMMARY:Intramural Co-Ed Tennis (Grades 3-5)
DESCRIPTION:Carpool 4:40-4:55 PM
URL:https://www.tcsatl.org/event/intramural-co-ed-tennis-grades-3-5-7/
END:VEVENT
BEGIN:VEVENT
DTSTART;TZID=America/New_York:20230905T154500
DTEND;TZID=America/New_York:20230905T164500
DTSTAMP:20260421T215655
CREATED:20230809T164610Z
LAST-MODIFIED:20230905T010035Z
UID:10009137-1693928700-1693932300@www.tcsatl.org
SUMMARY:Science Creations S.T.E.A.M.
DESCRIPTION:
URL:https://www.tcsatl.org/event/science-creations-s-t-e-a-m-6/
END:VEVENT
BEGIN:VEVENT
DTSTART;TZID=America/New_York:20230905T154500
DTEND;TZID=America/New_York:20230905T164500
DTSTAMP:20260421T215655
CREATED:20230810T053024Z
LAST-MODIFIED:20230904T214505Z
UID:10009410-1693928700-1693932300@www.tcsatl.org
SUMMARY:Intramural Co-Ed Volleyball
DESCRIPTION:Carpool 4:45 – 5:00 PM
URL:https://www.tcsatl.org/event/intramural-co-ed-volleyball-8/
END:VEVENT
BEGIN:VEVENT
DTSTART;TZID=America/New_York:20230905T154500
DTEND;TZID=America/New_York:20230905T170000
DTSTAMP:20260421T215655
CREATED:20230810T053024Z
LAST-MODIFIED:20230904T214506Z
UID:10009409-1693928700-1693933200@www.tcsatl.org
SUMMARY:MAAC Girls & Boys Cross Country (Grades 6-8)
DESCRIPTION:Carpool 5:00- 5:15 PM
URL:https://www.tcsatl.org/event/maac-girls-boys-cross-country-grades-6-8-11/
END:VEVENT
BEGIN:VEVENT
DTSTART;TZID=America/New_York:20230905T161500
DTEND;TZID=America/New_York:20230905T171500
DTSTAMP:20260421T215655
CREATED:20230809T164610Z
LAST-MODIFIED:20230905T010035Z
UID:10009134-1693930500-1693934100@www.tcsatl.org
SUMMARY:Intro to Drums I & II
DESCRIPTION:Carpool 5:15 – 5:30 PM
URL:https://www.tcsatl.org/event/intro-to-drums-i-ii-4/
END:VEVENT
BEGIN:VEVENT
DTSTART;TZID=America/New_York:20230905T161500
DTEND;TZID=America/New_York:20230905T181500
DTSTAMP:20260421T215655
CREATED:20230830T214459Z
LAST-MODIFIED:20230905T214521Z
UID:10010536-1693930500-1693937700@www.tcsatl.org
SUMMARY:AWAY GAME - MAAC Girls Volleyball vs GLOBE
DESCRIPTION:4:15 pm – A Team\n05:15 PM – B Team
URL:https://www.tcsatl.org/event/away-game-maac-girls-volleyball-vs-globe/
LOCATION:The GLOBE Academy\, 4105 Briarcliff Rd NE\, Atlanta\, GA 30345\, USA
END:VEVENT
BEGIN:VEVENT
DTSTART;TZID=America/New_York:20230905T161500
DTEND;TZID=America/New_York:20230905T181500
DTSTAMP:20260421T215655
CREATED:20230830T214459Z
LAST-MODIFIED:20230830T214459Z
UID:10010537-1693930500-1693937700@www.tcsatl.org
SUMMARY:AWAY GAME - MAAC Girls Volleyball vs GLOBE
DESCRIPTION:4:15 pm – A Team\n05:15 PM – B Team
URL:https://www.tcsatl.org/event/away-game-maac-girls-volleyball-vs-globe-2/
LOCATION:The GLOBE Academy\, 4105 Briarcliff Rd NE\, Atlanta\, GA 30345\, USA
END:VEVENT
BEGIN:VEVENT
DTSTART;TZID=America/New_York:20230906T151500
DTEND;TZID=America/New_York:20230906T161500
DTSTAMP:20260421T215655
CREATED:20230809T164610Z
LAST-MODIFIED:20230906T010109Z
UID:10009140-1694013300-1694016900@www.tcsatl.org
SUMMARY:TCS Jr. Players
DESCRIPTION:Carpool 4:15- 4:30 PM
URL:https://www.tcsatl.org/event/tcs-jr-players-69/
END:VEVENT
BEGIN:VEVENT
DTSTART;TZID=America/New_York:20230906T151500
DTEND;TZID=America/New_York:20230906T163000
DTSTAMP:20260421T215655
CREATED:20230809T164610Z
LAST-MODIFIED:20230906T010109Z
UID:10009139-1694013300-1694017800@www.tcsatl.org
SUMMARY:TCS Players (6-8th Grade)
DESCRIPTION:Carpool 4:30-4:45 PM
URL:https://www.tcsatl.org/event/tcs-players-6-8th-grade/
END:VEVENT
BEGIN:VEVENT
DTSTART;TZID=America/New_York:20230906T151500
DTEND;TZID=America/New_York:20230906T163000
DTSTAMP:20260421T215655
CREATED:20230810T053025Z
LAST-MODIFIED:20230905T214521Z
UID:10009413-1694013300-1694017800@www.tcsatl.org
SUMMARY:Intramural Co-Ed Tennis (Grades 3-5)
DESCRIPTION:Carpool 4:40-4:55 PM
URL:https://www.tcsatl.org/event/intramural-co-ed-tennis-grades-3-5-8/
END:VEVENT
BEGIN:VEVENT
DTSTART;TZID=America/New_York:20230906T154500
DTEND;TZID=America/New_York:20230906T164500
DTSTAMP:20260421T215655
CREATED:20230810T053025Z
LAST-MODIFIED:20230905T214521Z
UID:10009414-1694015100-1694018700@www.tcsatl.org
SUMMARY:Intramural Co-Ed Volleyball
DESCRIPTION:Carpool 4:45 – 5:00 PM
URL:https://www.tcsatl.org/event/intramural-co-ed-volleyball-9/
END:VEVENT
BEGIN:VEVENT
DTSTART;TZID=America/New_York:20230906T154500
DTEND;TZID=America/New_York:20230906T170000
DTSTAMP:20260421T215655
CREATED:20230810T053025Z
LAST-MODIFIED:20230905T214521Z
UID:10009412-1694015100-1694019600@www.tcsatl.org
SUMMARY:MAAC Girls & Boys Cross Country (Grades 6-8)
DESCRIPTION:Carpool 5:00- 5:15 PM
URL:https://www.tcsatl.org/event/maac-girls-boys-cross-country-grades-6-8-12/
END:VEVENT
BEGIN:VEVENT
DTSTART;TZID=America/New_York:20230906T154500
DTEND;TZID=America/New_York:20230906T174500
DTSTAMP:20260421T215655
CREATED:20230809T164610Z
LAST-MODIFIED:20230906T010109Z
UID:10009138-1694015100-1694022300@www.tcsatl.org
SUMMARY:Teachshirt Academy
DESCRIPTION:Carpool 5:45 – 6:00 PM
URL:https://www.tcsatl.org/event/teachshirt-academy-4/
END:VEVENT
BEGIN:VEVENT
DTSTART;TZID=America/New_York:20230906T161500
DTEND;TZID=America/New_York:20230906T181500
DTSTAMP:20260421T215655
CREATED:20230828T214532Z
LAST-MODIFIED:20230905T214521Z
UID:10009475-1694016900-1694024100@www.tcsatl.org
SUMMARY:MAAC Co-Ed Ultimate Frisbee vs Peachtree Middle School
DESCRIPTION:
URL:https://www.tcsatl.org/event/maac-co-ed-ultimate-frisbee-vs-peachtree-middle-school/
LOCATION:Peachtree Middle School\, 4664 N Peachtree Rd\, Atlanta\, GA 30338\, USA
END:VEVENT
BEGIN:VEVENT
DTSTART;TZID=America/New_York:20230906T163000
DTEND;TZID=America/New_York:20230906T183000
DTSTAMP:20260421T215655
CREATED:20230830T214500Z
LAST-MODIFIED:20230905T214521Z
UID:10010538-1694017800-1694025000@www.tcsatl.org
SUMMARY:MAAC Girls & Boys Cross Country Meet - Brook Run
DESCRIPTION:
URL:https://www.tcsatl.org/event/maac-girls-boys-cross-country-meet-brook-run/
LOCATION:Brook Run Park\, 4770 N Peachtree Rd\, Dunwoody\, GA 30338\, USA\, 2201 Old Brooke Pt\, Atlanta\, GA\, United States
GEO:33.953111;-84.295003
X-APPLE-STRUCTURED-LOCATION;VALUE=URI;X-ADDRESS=Brook Run Park 4770 N Peachtree Rd Dunwoody GA 30338 USA 2201 Old Brooke Pt Atlanta GA United States;X-APPLE-RADIUS=500;X-TITLE=2201 Old Brooke Pt:geo:-84.295003,33.953111
END:VEVENT
BEGIN:VEVENT
DTSTART;TZID=America/New_York:20230906T163000
DTEND;TZID=America/New_York:20230906T183000
DTSTAMP:20260421T215655
CREATED:20230830T214500Z
LAST-MODIFIED:20230830T214500Z
UID:10010539-1694017800-1694025000@www.tcsatl.org
SUMMARY:MAAC Girls & Boys Cross Country Meet - Brook Run
DESCRIPTION:
URL:https://www.tcsatl.org/event/maac-girls-boys-cross-country-meet-brook-run-2/
LOCATION:Brook Run Park\, 4770 N Peachtree Rd\, Dunwoody\, GA 30338\, USA\, 2201 Old Brooke Pt\, Atlanta\, GA\, United States
GEO:33.953111;-84.295003
X-APPLE-STRUCTURED-LOCATION;VALUE=URI;X-ADDRESS=Brook Run Park 4770 N Peachtree Rd Dunwoody GA 30338 USA 2201 Old Brooke Pt Atlanta GA United States;X-APPLE-RADIUS=500;X-TITLE=2201 Old Brooke Pt:geo:-84.295003,33.953111
END:VEVENT
BEGIN:VEVENT
DTSTART;TZID=America/New_York:20230906T170000
DTEND;TZID=America/New_York:20230906T190000
DTSTAMP:20260421T215655
CREATED:20230830T214500Z
LAST-MODIFIED:20230905T214521Z
UID:10010540-1694019600-1694026800@www.tcsatl.org
SUMMARY:AWAY GAME- MAAC Girls Volleyball vs Beacon Hill
DESCRIPTION:
URL:https://www.tcsatl.org/event/away-game-maac-girls-volleyball-vs-beacon-hill/
LOCATION:Beacon Hill Middle School\, 220 W College Ave\, Decatur\, GA 30030\, USA
END:VEVENT
BEGIN:VEVENT
DTSTART;TZID=America/New_York:20230906T170000
DTEND;TZID=America/New_York:20230906T190000
DTSTAMP:20260421T215655
CREATED:20230830T214500Z
LAST-MODIFIED:20230830T214500Z
UID:10010541-1694019600-1694026800@www.tcsatl.org
SUMMARY:AWAY GAME- MAAC Girls Volleyball vs Beacon Hill
DESCRIPTION:
URL:https://www.tcsatl.org/event/away-game-maac-girls-volleyball-vs-beacon-hill-2/
LOCATION:Beacon Hill Middle School\, 220 W College Ave\, Decatur\, GA 30030\, USA
END:VEVENT
BEGIN:VEVENT
DTSTART;TZID=America/New_York:20230907T151500
DTEND;TZID=America/New_York:20230907T161500
DTSTAMP:20260421T215655
CREATED:20230809T164611Z
LAST-MODIFIED:20230906T010109Z
UID:10010196-1694099700-1694103300@www.tcsatl.org
SUMMARY:Tonchu Martial Arts
DESCRIPTION:Carpool 4:15-4:30 PM
URL:https://www.tcsatl.org/event/tonchu-martial-arts-6/
END:VEVENT
BEGIN:VEVENT
DTSTART;TZID=America/New_York:20230907T151500
DTEND;TZID=America/New_York:20230907T161500
DTSTAMP:20260421T215655
CREATED:20230809T164611Z
LAST-MODIFIED:20230906T010109Z
UID:10010199-1694099700-1694103300@www.tcsatl.org
SUMMARY:Drums (All Levels)
DESCRIPTION:Carpool 4:15- 4:30 PM
URL:https://www.tcsatl.org/event/drums-all-levels-7/
END:VEVENT
BEGIN:VEVENT
DTSTART;TZID=America/New_York:20230907T151500
DTEND;TZID=America/New_York:20230907T163000
DTSTAMP:20260421T215655
CREATED:20230809T164611Z
LAST-MODIFIED:20230906T010109Z
UID:10010198-1694099700-1694104200@www.tcsatl.org
SUMMARY:TCS Voices
DESCRIPTION:Carpool 4:30-4:45 PM
URL:https://www.tcsatl.org/event/tcs-voices-69/
END:VEVENT
END:VCALENDAR