BEGIN:VCALENDAR
VERSION:2.0
PRODID:-//The Children&#039;s School - ECPv6.15.15//NONSGML v1.0//EN
CALSCALE:GREGORIAN
METHOD:PUBLISH
X-ORIGINAL-URL:https://www.tcsatl.org
X-WR-CALDESC:Events for The Children&#039;s School
REFRESH-INTERVAL;VALUE=DURATION:PT1H
X-Robots-Tag:noindex
X-PUBLISHED-TTL:PT1H
BEGIN:VTIMEZONE
TZID:America/New_York
BEGIN:DAYLIGHT
TZOFFSETFROM:-0500
TZOFFSETTO:-0400
TZNAME:EDT
DTSTART:20210314T070000
END:DAYLIGHT
BEGIN:STANDARD
TZOFFSETFROM:-0400
TZOFFSETTO:-0500
TZNAME:EST
DTSTART:20211107T060000
END:STANDARD
BEGIN:DAYLIGHT
TZOFFSETFROM:-0500
TZOFFSETTO:-0400
TZNAME:EDT
DTSTART:20220313T070000
END:DAYLIGHT
BEGIN:STANDARD
TZOFFSETFROM:-0400
TZOFFSETTO:-0500
TZNAME:EST
DTSTART:20221106T060000
END:STANDARD
BEGIN:DAYLIGHT
TZOFFSETFROM:-0500
TZOFFSETTO:-0400
TZNAME:EDT
DTSTART:20230312T070000
END:DAYLIGHT
BEGIN:STANDARD
TZOFFSETFROM:-0400
TZOFFSETTO:-0500
TZNAME:EST
DTSTART:20231105T060000
END:STANDARD
BEGIN:DAYLIGHT
TZOFFSETFROM:-0500
TZOFFSETTO:-0400
TZNAME:EDT
DTSTART:20240310T070000
END:DAYLIGHT
BEGIN:STANDARD
TZOFFSETFROM:-0400
TZOFFSETTO:-0500
TZNAME:EST
DTSTART:20241103T060000
END:STANDARD
END:VTIMEZONE
BEGIN:VEVENT
DTSTART;VALUE=DATE:20221219
DTEND;VALUE=DATE:20221231
DTSTAMP:20260422T184643
CREATED:20220728T163345Z
LAST-MODIFIED:20221230T204935Z
UID:10008543-1671408000-1672444799@www.tcsatl.org
SUMMARY:Winter Break
DESCRIPTION:
URL:https://www.tcsatl.org/event/winter-break-4/
END:VEVENT
BEGIN:VEVENT
DTSTART;TZID=America/New_York:20221221T074500
DTEND;TZID=America/New_York:20221221T090000
DTSTAMP:20260422T184643
CREATED:20221128T200347Z
LAST-MODIFIED:20221206T203424Z
UID:10009713-1671608700-1671613200@www.tcsatl.org
SUMMARY:MAAC Girls Basketball (5th-8th Grade)
DESCRIPTION:
URL:https://www.tcsatl.org/event/maac-girls-basketball-5th-8th-grade-11/
END:VEVENT
BEGIN:VEVENT
DTSTART;TZID=America/New_York:20221221T151500
DTEND;TZID=America/New_York:20221221T161500
DTSTAMP:20260422T184643
CREATED:20220815T164221Z
LAST-MODIFIED:20221206T210534Z
UID:10008812-1671635700-1671639300@www.tcsatl.org
SUMMARY:TCS Jr. Players
DESCRIPTION:
URL:https://www.tcsatl.org/event/tcs-jr-players-46/
END:VEVENT
BEGIN:VEVENT
DTSTART;TZID=America/New_York:20221221T151500
DTEND;TZID=America/New_York:20221221T163000
DTSTAMP:20260422T184643
CREATED:20220815T164221Z
LAST-MODIFIED:20221120T194945Z
UID:10008813-1671635700-1671640200@www.tcsatl.org
SUMMARY:TCS Players
DESCRIPTION:
URL:https://www.tcsatl.org/event/tcs-players-83/
END:VEVENT
BEGIN:VEVENT
DTSTART;TZID=America/New_York:20221221T151500
DTEND;TZID=America/New_York:20221221T163000
DTSTAMP:20260422T184643
CREATED:20221128T200347Z
LAST-MODIFIED:20221206T203424Z
UID:10009714-1671635700-1671640200@www.tcsatl.org
SUMMARY:Intramural Co-Ed Tennis (3rd-5th)
DESCRIPTION:
URL:https://www.tcsatl.org/event/intramural-co-ed-tennis-3rd-5th-26/
END:VEVENT
BEGIN:VEVENT
DTSTART;TZID=America/New_York:20221221T151500
DTEND;TZID=America/New_York:20221221T163000
DTSTAMP:20260422T184643
CREATED:20221128T203452Z
LAST-MODIFIED:20221206T210534Z
UID:10008940-1671635700-1671640200@www.tcsatl.org
SUMMARY:TCS Players
DESCRIPTION:
URL:https://www.tcsatl.org/event/tcs-players-135/
END:VEVENT
BEGIN:VEVENT
DTSTART;TZID=America/New_York:20221222T151500
DTEND;TZID=America/New_York:20221222T163000
DTSTAMP:20260422T184643
CREATED:20220815T164222Z
LAST-MODIFIED:20221206T210534Z
UID:10008814-1671722100-1671726600@www.tcsatl.org
SUMMARY:TCS Voices
DESCRIPTION:
URL:https://www.tcsatl.org/event/tcs-voices-46/
END:VEVENT
BEGIN:VEVENT
DTSTART;TZID=America/New_York:20221222T151500
DTEND;TZID=America/New_York:20221222T163000
DTSTAMP:20260422T184643
CREATED:20221128T200347Z
LAST-MODIFIED:20221206T203424Z
UID:10009715-1671722100-1671726600@www.tcsatl.org
SUMMARY:MAAC Boys Basketball (5th - 8th Grade)
DESCRIPTION:
URL:https://www.tcsatl.org/event/maac-boys-basketball-5th-8th-grade-11/
END:VEVENT
BEGIN:VEVENT
DTSTART;TZID=America/New_York:20221223T151500
DTEND;TZID=America/New_York:20221223T163000
DTSTAMP:20260422T184643
CREATED:20221128T200348Z
LAST-MODIFIED:20221206T203402Z
UID:10009717-1671808500-1671813000@www.tcsatl.org
SUMMARY:MAAC Boys Basketball (5th - 8th Grade)
DESCRIPTION:
URL:https://www.tcsatl.org/event/maac-boys-basketball-5th-8th-grade-12/
END:VEVENT
BEGIN:VEVENT
DTSTART;TZID=America/New_York:20221223T153000
DTEND;TZID=America/New_York:20221223T163000
DTSTAMP:20260422T184643
CREATED:20221128T200348Z
LAST-MODIFIED:20221206T203402Z
UID:10009719-1671809400-1671813000@www.tcsatl.org
SUMMARY:MAAC Girls Basketball (5th-8th Grade)
DESCRIPTION:
URL:https://www.tcsatl.org/event/maac-girls-basketball-5th-8th-grade-12/
END:VEVENT
BEGIN:VEVENT
DTSTART;TZID=America/New_York:20221226T151500
DTEND;TZID=America/New_York:20221226T163000
DTSTAMP:20260422T184643
CREATED:20220815T164222Z
LAST-MODIFIED:20221120T194945Z
UID:10008815-1672067700-1672072200@www.tcsatl.org
SUMMARY:TCS Players
DESCRIPTION:
URL:https://www.tcsatl.org/event/tcs-players-84/
END:VEVENT
BEGIN:VEVENT
DTSTART;TZID=America/New_York:20221226T151500
DTEND;TZID=America/New_York:20221226T163000
DTSTAMP:20260422T184643
CREATED:20221128T200348Z
LAST-MODIFIED:20221206T203402Z
UID:10009720-1672067700-1672072200@www.tcsatl.org
SUMMARY:MAAC Boys Basketball (5th - 8th Grade)
DESCRIPTION:
URL:https://www.tcsatl.org/event/maac-boys-basketball-5th-8th-grade-13/
END:VEVENT
BEGIN:VEVENT
DTSTART;TZID=America/New_York:20221226T151500
DTEND;TZID=America/New_York:20221226T163000
DTSTAMP:20260422T184643
CREATED:20221128T203452Z
LAST-MODIFIED:20221206T210534Z
UID:10008941-1672067700-1672072200@www.tcsatl.org
SUMMARY:TCS Players
DESCRIPTION:
URL:https://www.tcsatl.org/event/tcs-players-136/
END:VEVENT
BEGIN:VEVENT
DTSTART;TZID=America/New_York:20221227T151500
DTEND;TZID=America/New_York:20221227T163000
DTSTAMP:20260422T184643
CREATED:20220815T164222Z
LAST-MODIFIED:20221206T210534Z
UID:10008816-1672154100-1672158600@www.tcsatl.org
SUMMARY:TCS Jr. Voices
DESCRIPTION:
URL:https://www.tcsatl.org/event/tcs-jr-voices-17/
END:VEVENT
BEGIN:VEVENT
DTSTART;TZID=America/New_York:20221227T151500
DTEND;TZID=America/New_York:20221227T163000
DTSTAMP:20260422T184643
CREATED:20221128T200349Z
LAST-MODIFIED:20221206T203402Z
UID:10009723-1672154100-1672158600@www.tcsatl.org
SUMMARY:Intramural Co-Ed Tennis (3rd-5th)
DESCRIPTION:
URL:https://www.tcsatl.org/event/intramural-co-ed-tennis-3rd-5th-27/
END:VEVENT
BEGIN:VEVENT
DTSTART;TZID=America/New_York:20221227T153000
DTEND;TZID=America/New_York:20221227T163000
DTSTAMP:20260422T184643
CREATED:20221128T200348Z
LAST-MODIFIED:20221206T203402Z
UID:10009722-1672155000-1672158600@www.tcsatl.org
SUMMARY:MAAC Girls Basketball (5th-8th Grade)
DESCRIPTION:
URL:https://www.tcsatl.org/event/maac-girls-basketball-5th-8th-grade-13/
END:VEVENT
BEGIN:VEVENT
DTSTART;TZID=America/New_York:20221228T074500
DTEND;TZID=America/New_York:20221228T090000
DTSTAMP:20260422T184643
CREATED:20221128T200349Z
LAST-MODIFIED:20221206T203402Z
UID:10009724-1672213500-1672218000@www.tcsatl.org
SUMMARY:MAAC Girls Basketball (5th-8th Grade)
DESCRIPTION:
URL:https://www.tcsatl.org/event/maac-girls-basketball-5th-8th-grade-14/
END:VEVENT
BEGIN:VEVENT
DTSTART;TZID=America/New_York:20221228T151500
DTEND;TZID=America/New_York:20221228T161500
DTSTAMP:20260422T184643
CREATED:20220815T164222Z
LAST-MODIFIED:20221206T210534Z
UID:10008817-1672240500-1672244100@www.tcsatl.org
SUMMARY:TCS Jr. Players
DESCRIPTION:
URL:https://www.tcsatl.org/event/tcs-jr-players-47/
END:VEVENT
BEGIN:VEVENT
DTSTART;TZID=America/New_York:20221228T151500
DTEND;TZID=America/New_York:20221228T163000
DTSTAMP:20260422T184643
CREATED:20220815T164222Z
LAST-MODIFIED:20221120T194945Z
UID:10008818-1672240500-1672245000@www.tcsatl.org
SUMMARY:TCS Players
DESCRIPTION:
URL:https://www.tcsatl.org/event/tcs-players-85/
END:VEVENT
BEGIN:VEVENT
DTSTART;TZID=America/New_York:20221228T151500
DTEND;TZID=America/New_York:20221228T163000
DTSTAMP:20260422T184643
CREATED:20221128T200349Z
LAST-MODIFIED:20221206T203402Z
UID:10009725-1672240500-1672245000@www.tcsatl.org
SUMMARY:Intramural Co-Ed Tennis (3rd-5th)
DESCRIPTION:
URL:https://www.tcsatl.org/event/intramural-co-ed-tennis-3rd-5th-28/
END:VEVENT
BEGIN:VEVENT
DTSTART;TZID=America/New_York:20221228T151500
DTEND;TZID=America/New_York:20221228T163000
DTSTAMP:20260422T184643
CREATED:20221128T203453Z
LAST-MODIFIED:20221206T210534Z
UID:10008942-1672240500-1672245000@www.tcsatl.org
SUMMARY:TCS Players
DESCRIPTION:
URL:https://www.tcsatl.org/event/tcs-players-137/
END:VEVENT
BEGIN:VEVENT
DTSTART;TZID=America/New_York:20221229T151500
DTEND;TZID=America/New_York:20221229T163000
DTSTAMP:20260422T184643
CREATED:20220815T164222Z
LAST-MODIFIED:20221206T210534Z
UID:10008819-1672326900-1672331400@www.tcsatl.org
SUMMARY:TCS Voices
DESCRIPTION:
URL:https://www.tcsatl.org/event/tcs-voices-47/
END:VEVENT
BEGIN:VEVENT
DTSTART;TZID=America/New_York:20221229T151500
DTEND;TZID=America/New_York:20221229T163000
DTSTAMP:20260422T184643
CREATED:20221128T200349Z
LAST-MODIFIED:20221206T203402Z
UID:10009727-1672326900-1672331400@www.tcsatl.org
SUMMARY:MAAC Boys Basketball (5th - 8th Grade)
DESCRIPTION:
URL:https://www.tcsatl.org/event/maac-boys-basketball-5th-8th-grade-14/
END:VEVENT
BEGIN:VEVENT
DTSTART;TZID=America/New_York:20221230T151500
DTEND;TZID=America/New_York:20221230T163000
DTSTAMP:20260422T184643
CREATED:20221128T200349Z
LAST-MODIFIED:20221206T203403Z
UID:10009729-1672413300-1672417800@www.tcsatl.org
SUMMARY:MAAC Boys Basketball (5th - 8th Grade)
DESCRIPTION:
URL:https://www.tcsatl.org/event/maac-boys-basketball-5th-8th-grade-15/
END:VEVENT
BEGIN:VEVENT
DTSTART;TZID=America/New_York:20221230T153000
DTEND;TZID=America/New_York:20221230T163000
DTSTAMP:20260422T184643
CREATED:20221128T200349Z
LAST-MODIFIED:20221206T203403Z
UID:10009728-1672414200-1672417800@www.tcsatl.org
SUMMARY:MAAC Girls Basketball (5th-8th Grade)
DESCRIPTION:
URL:https://www.tcsatl.org/event/maac-girls-basketball-5th-8th-grade-15/
END:VEVENT
BEGIN:VEVENT
DTSTART;VALUE=DATE:20230102
DTEND;VALUE=DATE:20230104
DTSTAMP:20260422T184643
CREATED:20220728T163345Z
LAST-MODIFIED:20230103T204841Z
UID:10008544-1672617600-1672790399@www.tcsatl.org
SUMMARY:School Closed for Students - Faculty/ Staff Day
DESCRIPTION:
URL:https://www.tcsatl.org/event/school-closed-for-students-faculty-staff-day/
END:VEVENT
BEGIN:VEVENT
DTSTART;TZID=America/New_York:20230102T151500
DTEND;TZID=America/New_York:20230102T163000
DTSTAMP:20260422T184643
CREATED:20220815T164223Z
LAST-MODIFIED:20221120T194945Z
UID:10008820-1672672500-1672677000@www.tcsatl.org
SUMMARY:TCS Players
DESCRIPTION:
URL:https://www.tcsatl.org/event/tcs-players-86/
END:VEVENT
BEGIN:VEVENT
DTSTART;TZID=America/New_York:20230102T151500
DTEND;TZID=America/New_York:20230102T163000
DTSTAMP:20260422T184643
CREATED:20221128T200350Z
LAST-MODIFIED:20221206T203403Z
UID:10009732-1672672500-1672677000@www.tcsatl.org
SUMMARY:MAAC Boys Basketball (5th - 8th Grade)
DESCRIPTION:
URL:https://www.tcsatl.org/event/maac-boys-basketball-5th-8th-grade-16/
END:VEVENT
BEGIN:VEVENT
DTSTART;TZID=America/New_York:20230102T151500
DTEND;TZID=America/New_York:20230102T163000
DTSTAMP:20260422T184643
CREATED:20221128T203453Z
LAST-MODIFIED:20221206T210534Z
UID:10008944-1672672500-1672677000@www.tcsatl.org
SUMMARY:TCS Players
DESCRIPTION:
URL:https://www.tcsatl.org/event/tcs-players-138/
END:VEVENT
BEGIN:VEVENT
DTSTART;TZID=America/New_York:20230103T151500
DTEND;TZID=America/New_York:20230103T163000
DTSTAMP:20260422T184643
CREATED:20220815T164223Z
LAST-MODIFIED:20221206T210534Z
UID:10008821-1672758900-1672763400@www.tcsatl.org
SUMMARY:TCS Jr. Voices
DESCRIPTION:
URL:https://www.tcsatl.org/event/tcs-jr-voices-18/
END:VEVENT
END:VCALENDAR