BEGIN:VCALENDAR
VERSION:2.0
PRODID:-//The Children&#039;s School - ECPv6.15.15//NONSGML v1.0//EN
CALSCALE:GREGORIAN
METHOD:PUBLISH
X-ORIGINAL-URL:https://www.tcsatl.org
X-WR-CALDESC:Events for The Children&#039;s School
REFRESH-INTERVAL;VALUE=DURATION:PT1H
X-Robots-Tag:noindex
X-PUBLISHED-TTL:PT1H
BEGIN:VTIMEZONE
TZID:America/New_York
BEGIN:DAYLIGHT
TZOFFSETFROM:-0500
TZOFFSETTO:-0400
TZNAME:EDT
DTSTART:20210314T070000
END:DAYLIGHT
BEGIN:STANDARD
TZOFFSETFROM:-0400
TZOFFSETTO:-0500
TZNAME:EST
DTSTART:20211107T060000
END:STANDARD
BEGIN:DAYLIGHT
TZOFFSETFROM:-0500
TZOFFSETTO:-0400
TZNAME:EDT
DTSTART:20220313T070000
END:DAYLIGHT
BEGIN:STANDARD
TZOFFSETFROM:-0400
TZOFFSETTO:-0500
TZNAME:EST
DTSTART:20221106T060000
END:STANDARD
BEGIN:DAYLIGHT
TZOFFSETFROM:-0500
TZOFFSETTO:-0400
TZNAME:EDT
DTSTART:20230312T070000
END:DAYLIGHT
BEGIN:STANDARD
TZOFFSETFROM:-0400
TZOFFSETTO:-0500
TZNAME:EST
DTSTART:20231105T060000
END:STANDARD
END:VTIMEZONE
BEGIN:VEVENT
DTSTART;VALUE=DATE:20221115
DTEND;VALUE=DATE:20221116
DTSTAMP:20260422T184719
CREATED:20220907T181433Z
LAST-MODIFIED:20221115T190500Z
UID:10009552-1668470400-1668556799@www.tcsatl.org
SUMMARY:B Day
DESCRIPTION:
URL:https://www.tcsatl.org/event/b-day-10/
END:VEVENT
BEGIN:VEVENT
DTSTART;TZID=America/New_York:20221115T151500
DTEND;TZID=America/New_York:20221115T161500
DTSTAMP:20260422T184719
CREATED:20220815T164212Z
LAST-MODIFIED:20221115T193407Z
UID:10008754-1668525300-1668528900@www.tcsatl.org
SUMMARY:Percussion Ensemble
DESCRIPTION:
URL:https://www.tcsatl.org/event/percussion-ensemble-15/
END:VEVENT
BEGIN:VEVENT
DTSTART;TZID=America/New_York:20221115T151500
DTEND;TZID=America/New_York:20221115T163000
DTSTAMP:20260422T184719
CREATED:20220815T164213Z
LAST-MODIFIED:20221115T193407Z
UID:10008756-1668525300-1668529800@www.tcsatl.org
SUMMARY:TCS Jr. Voices
DESCRIPTION:
URL:https://www.tcsatl.org/event/tcs-jr-voices-11/
END:VEVENT
BEGIN:VEVENT
DTSTART;TZID=America/New_York:20221115T154500
DTEND;TZID=America/New_York:20221115T180000
DTSTAMP:20260422T184719
CREATED:20221107T191253Z
LAST-MODIFIED:20221115T191956Z
UID:10009666-1668527100-1668535200@www.tcsatl.org
SUMMARY:MAAC Girls Basketball Game vs Heritage Prep - Heritage Prep - 1 BUS
DESCRIPTION:
URL:https://www.tcsatl.org/event/maac-girls-basketball-game-vs-heritage-prep-heritage-prep-1-bus/
LOCATION:Heritage Preparatory School\, 1700 Piedmont Ave NE\, Atlanta\, GA 30324\, USA\, 500 Piedmont Ave NE\, Atlanta\, GA\, United States
GEO:33.799884;-84.370708
X-APPLE-STRUCTURED-LOCATION;VALUE=URI;X-ADDRESS=Heritage Preparatory School 1700 Piedmont Ave NE Atlanta GA 30324 USA 500 Piedmont Ave NE Atlanta GA United States;X-APPLE-RADIUS=500;X-TITLE=500 Piedmont Ave NE:geo:-84.370708,33.799884
END:VEVENT
BEGIN:VEVENT
DTSTART;TZID=America/New_York:20221115T154500
DTEND;TZID=America/New_York:20221115T180000
DTSTAMP:20260422T184719
CREATED:20221107T191253Z
LAST-MODIFIED:20221107T191253Z
UID:10009667-1668527100-1668535200@www.tcsatl.org
SUMMARY:MAAC Girls Basketball Game vs Heritage Prep - Heritage Prep - 1 BUS
DESCRIPTION:
URL:https://www.tcsatl.org/event/maac-girls-basketball-game-vs-heritage-prep-heritage-prep-1-bus-2/
LOCATION:Heritage Preparatory School\, 1700 Piedmont Ave NE\, Atlanta\, GA 30324\, USA\, 500 Piedmont Ave NE\, Atlanta\, GA\, United States
GEO:33.799884;-84.370708
X-APPLE-STRUCTURED-LOCATION;VALUE=URI;X-ADDRESS=Heritage Preparatory School 1700 Piedmont Ave NE Atlanta GA 30324 USA 500 Piedmont Ave NE Atlanta GA United States;X-APPLE-RADIUS=500;X-TITLE=500 Piedmont Ave NE:geo:-84.370708,33.799884
END:VEVENT
BEGIN:VEVENT
DTSTART;TZID=America/New_York:20221115T161500
DTEND;TZID=America/New_York:20221115T171500
DTSTAMP:20260422T184719
CREATED:20220815T164213Z
LAST-MODIFIED:20221115T193407Z
UID:10008755-1668528900-1668532500@www.tcsatl.org
SUMMARY:Intro to Drums
DESCRIPTION:
URL:https://www.tcsatl.org/event/intro-to-drums-15/
END:VEVENT
BEGIN:VEVENT
DTSTART;VALUE=DATE:20221116
DTEND;VALUE=DATE:20221117
DTSTAMP:20260422T184719
CREATED:20220907T181433Z
LAST-MODIFIED:20221116T190441Z
UID:10009556-1668556800-1668643199@www.tcsatl.org
SUMMARY:C Day
DESCRIPTION:
URL:https://www.tcsatl.org/event/c-day-10/
END:VEVENT
BEGIN:VEVENT
DTSTART;TZID=America/New_York:20221116T151500
DTEND;TZID=America/New_York:20221116T161500
DTSTAMP:20260422T184719
CREATED:20220815T164213Z
LAST-MODIFIED:20221116T194845Z
UID:10008758-1668611700-1668615300@www.tcsatl.org
SUMMARY:TCS Jr. Players
DESCRIPTION:
URL:https://www.tcsatl.org/event/tcs-jr-players-41/
END:VEVENT
BEGIN:VEVENT
DTSTART;TZID=America/New_York:20221116T151500
DTEND;TZID=America/New_York:20221116T163000
DTSTAMP:20260422T184719
CREATED:20220815T164213Z
LAST-MODIFIED:20221116T194845Z
UID:10008757-1668611700-1668616200@www.tcsatl.org
SUMMARY:TCS Players
DESCRIPTION:
URL:https://www.tcsatl.org/event/tcs-players-73/
END:VEVENT
BEGIN:VEVENT
DTSTART;VALUE=DATE:20221117
DTEND;VALUE=DATE:20221118
DTSTAMP:20260422T184719
CREATED:20220907T181433Z
LAST-MODIFIED:20221117T190342Z
UID:10009555-1668643200-1668729599@www.tcsatl.org
SUMMARY:D Day
DESCRIPTION:
URL:https://www.tcsatl.org/event/d-day-9/
END:VEVENT
BEGIN:VEVENT
DTSTART;TZID=America/New_York:20221117T151500
DTEND;TZID=America/New_York:20221117T161500
DTSTAMP:20260422T184719
CREATED:20220815T164213Z
LAST-MODIFIED:20221117T194859Z
UID:10008760-1668698100-1668701700@www.tcsatl.org
SUMMARY:Gymnastics Level II
DESCRIPTION:
URL:https://www.tcsatl.org/event/gymnastics-level-ii-15/
END:VEVENT
BEGIN:VEVENT
DTSTART;TZID=America/New_York:20221117T151500
DTEND;TZID=America/New_York:20221117T163000
DTSTAMP:20260422T184719
CREATED:20220815T164213Z
LAST-MODIFIED:20221117T194858Z
UID:10008759-1668698100-1668702600@www.tcsatl.org
SUMMARY:TCS Voices
DESCRIPTION:
URL:https://www.tcsatl.org/event/tcs-voices-41/
END:VEVENT
BEGIN:VEVENT
DTSTART;TZID=America/New_York:20221117T151500
DTEND;TZID=America/New_York:20221117T164500
DTSTAMP:20260422T184719
CREATED:20220815T164213Z
LAST-MODIFIED:20221117T194858Z
UID:10008761-1668698100-1668703500@www.tcsatl.org
SUMMARY:Kids TV - Video & Film Production Class
DESCRIPTION:
URL:https://www.tcsatl.org/event/kids-tv-video-film-production-class-15/
END:VEVENT
BEGIN:VEVENT
DTSTART;TZID=America/New_York:20221117T161500
DTEND;TZID=America/New_York:20221117T171500
DTSTAMP:20260422T184719
CREATED:20220815T164214Z
LAST-MODIFIED:20221117T194859Z
UID:10008762-1668701700-1668705300@www.tcsatl.org
SUMMARY:Ballet/Tap Level II
DESCRIPTION:
URL:https://www.tcsatl.org/event/ballet-tap-level-ii-15/
END:VEVENT
BEGIN:VEVENT
DTSTART;VALUE=DATE:20221118
DTEND;VALUE=DATE:20221119
DTSTAMP:20260422T184719
CREATED:20220907T181433Z
LAST-MODIFIED:20221118T190625Z
UID:10009554-1668729600-1668815999@www.tcsatl.org
SUMMARY:E Day
DESCRIPTION:
URL:https://www.tcsatl.org/event/e-day-10/
END:VEVENT
BEGIN:VEVENT
DTSTART;TZID=America/New_York:20221118T100000
DTEND;TZID=America/New_York:20221118T111500
DTSTAMP:20260422T184719
CREATED:20221114T185758Z
LAST-MODIFIED:20221117T190342Z
UID:10009674-1668765600-1668770100@www.tcsatl.org
SUMMARY:All-School Concert
DESCRIPTION:
URL:https://www.tcsatl.org/event/all-school-concert/
END:VEVENT
BEGIN:VEVENT
DTSTART;TZID=America/New_York:20221118T120000
DTEND;TZID=America/New_York:20221118T153000
DTSTAMP:20260422T184719
CREATED:20220728T163344Z
LAST-MODIFIED:20221118T190625Z
UID:10008538-1668772800-1668785400@www.tcsatl.org
SUMMARY:EARLY DISMISSAL: Discovery and EPIC not in session
DESCRIPTION:
URL:https://www.tcsatl.org/event/early-dismissal-discovery-and-epic-not-in-session/
END:VEVENT
BEGIN:VEVENT
DTSTART;TZID=America/New_York:20221118T120000
DTEND;TZID=America/New_York:20221118T153000
DTSTAMP:20260422T184719
CREATED:20220728T163344Z
LAST-MODIFIED:20220728T163344Z
UID:10008539-1668772800-1668785400@www.tcsatl.org
SUMMARY:EARLY DISMISSAL: Discovery and EPIC not in session
DESCRIPTION:
URL:https://www.tcsatl.org/event/early-dismissal-discovery-and-epic-not-in-session-2/
END:VEVENT
BEGIN:VEVENT
DTSTART;TZID=America/New_York:20221118T151500
DTEND;TZID=America/New_York:20221118T161500
DTSTAMP:20260422T184719
CREATED:20220815T164214Z
LAST-MODIFIED:20221115T193408Z
UID:10008763-1668784500-1668788100@www.tcsatl.org
SUMMARY:Amazing Athletes
DESCRIPTION:
URL:https://www.tcsatl.org/event/amazing-athletes-38/
END:VEVENT
BEGIN:VEVENT
DTSTART;TZID=America/New_York:20221118T161500
DTEND;TZID=America/New_York:20221118T171500
DTSTAMP:20260422T184719
CREATED:20220815T164214Z
LAST-MODIFIED:20221115T193408Z
UID:10008764-1668788100-1668791700@www.tcsatl.org
SUMMARY:Intro to Ballet/Tap
DESCRIPTION:
URL:https://www.tcsatl.org/event/intro-to-ballet-tap-14/
END:VEVENT
BEGIN:VEVENT
DTSTART;VALUE=DATE:20221121
DTEND;VALUE=DATE:20221126
DTSTAMP:20260422T184719
CREATED:20220728T163345Z
LAST-MODIFIED:20221125T191855Z
UID:10008540-1668988800-1669420799@www.tcsatl.org
SUMMARY:Thanksgiving Break
DESCRIPTION:
URL:https://www.tcsatl.org/event/thanksgiving-break-3/
END:VEVENT
BEGIN:VEVENT
DTSTART;TZID=America/New_York:20221121T151500
DTEND;TZID=America/New_York:20221121T161500
DTSTAMP:20260422T184719
CREATED:20220815T164214Z
LAST-MODIFIED:20221121T200343Z
UID:10008765-1669043700-1669047300@www.tcsatl.org
SUMMARY:Bricks4Kidz
DESCRIPTION:
URL:https://www.tcsatl.org/event/bricks4kidz-16/
END:VEVENT
BEGIN:VEVENT
DTSTART;TZID=America/New_York:20221121T151500
DTEND;TZID=America/New_York:20221121T163000
DTSTAMP:20260422T184719
CREATED:20220815T164214Z
LAST-MODIFIED:20221120T194943Z
UID:10008766-1669043700-1669048200@www.tcsatl.org
SUMMARY:TCS Players
DESCRIPTION:
URL:https://www.tcsatl.org/event/tcs-players-74/
END:VEVENT
BEGIN:VEVENT
DTSTART;TZID=America/New_York:20221122T151500
DTEND;TZID=America/New_York:20221122T161500
DTSTAMP:20260422T184719
CREATED:20220815T164214Z
LAST-MODIFIED:20221122T200436Z
UID:10008768-1669130100-1669133700@www.tcsatl.org
SUMMARY:Percussion Ensemble
DESCRIPTION:
URL:https://www.tcsatl.org/event/percussion-ensemble-16/
END:VEVENT
BEGIN:VEVENT
DTSTART;TZID=America/New_York:20221122T151500
DTEND;TZID=America/New_York:20221122T163000
DTSTAMP:20260422T184719
CREATED:20220815T164214Z
LAST-MODIFIED:20221122T200436Z
UID:10008767-1669130100-1669134600@www.tcsatl.org
SUMMARY:TCS Jr. Voices
DESCRIPTION:
URL:https://www.tcsatl.org/event/tcs-jr-voices-12/
END:VEVENT
BEGIN:VEVENT
DTSTART;TZID=America/New_York:20221122T161500
DTEND;TZID=America/New_York:20221122T171500
DTSTAMP:20260422T184719
CREATED:20220815T164215Z
LAST-MODIFIED:20221122T200437Z
UID:10008769-1669133700-1669137300@www.tcsatl.org
SUMMARY:Intro to Drums
DESCRIPTION:
URL:https://www.tcsatl.org/event/intro-to-drums-16/
END:VEVENT
BEGIN:VEVENT
DTSTART;TZID=America/New_York:20221123T151500
DTEND;TZID=America/New_York:20221123T161500
DTSTAMP:20260422T184719
CREATED:20220815T164215Z
LAST-MODIFIED:20221123T200418Z
UID:10008770-1669216500-1669220100@www.tcsatl.org
SUMMARY:TCS Jr. Players
DESCRIPTION:
URL:https://www.tcsatl.org/event/tcs-jr-players-42/
END:VEVENT
BEGIN:VEVENT
DTSTART;TZID=America/New_York:20221123T151500
DTEND;TZID=America/New_York:20221123T163000
DTSTAMP:20260422T184719
CREATED:20220815T164215Z
LAST-MODIFIED:20221120T194943Z
UID:10008771-1669216500-1669221000@www.tcsatl.org
SUMMARY:TCS Players
DESCRIPTION:
URL:https://www.tcsatl.org/event/tcs-players-75/
END:VEVENT
BEGIN:VEVENT
DTSTART;TZID=America/New_York:20221124T151500
DTEND;TZID=America/New_York:20221124T161500
DTSTAMP:20260422T184719
CREATED:20220815T164215Z
LAST-MODIFIED:20221124T201843Z
UID:10008775-1669302900-1669306500@www.tcsatl.org
SUMMARY:Gymnastics Level II
DESCRIPTION:
URL:https://www.tcsatl.org/event/gymnastics-level-ii-16/
END:VEVENT
BEGIN:VEVENT
DTSTART;TZID=America/New_York:20221124T151500
DTEND;TZID=America/New_York:20221124T163000
DTSTAMP:20260422T184719
CREATED:20220815T164215Z
LAST-MODIFIED:20221124T201843Z
UID:10008772-1669302900-1669307400@www.tcsatl.org
SUMMARY:TCS Voices
DESCRIPTION:
URL:https://www.tcsatl.org/event/tcs-voices-42/
END:VEVENT
END:VCALENDAR