BEGIN:VCALENDAR
VERSION:2.0
PRODID:-//The Children&#039;s School - ECPv6.15.15//NONSGML v1.0//EN
CALSCALE:GREGORIAN
METHOD:PUBLISH
X-ORIGINAL-URL:https://www.tcsatl.org
X-WR-CALDESC:Events for The Children&#039;s School
REFRESH-INTERVAL;VALUE=DURATION:PT1H
X-Robots-Tag:noindex
X-PUBLISHED-TTL:PT1H
BEGIN:VTIMEZONE
TZID:America/New_York
BEGIN:DAYLIGHT
TZOFFSETFROM:-0500
TZOFFSETTO:-0400
TZNAME:EDT
DTSTART:20210314T070000
END:DAYLIGHT
BEGIN:STANDARD
TZOFFSETFROM:-0400
TZOFFSETTO:-0500
TZNAME:EST
DTSTART:20211107T060000
END:STANDARD
BEGIN:DAYLIGHT
TZOFFSETFROM:-0500
TZOFFSETTO:-0400
TZNAME:EDT
DTSTART:20220313T070000
END:DAYLIGHT
BEGIN:STANDARD
TZOFFSETFROM:-0400
TZOFFSETTO:-0500
TZNAME:EST
DTSTART:20221106T060000
END:STANDARD
BEGIN:DAYLIGHT
TZOFFSETFROM:-0500
TZOFFSETTO:-0400
TZNAME:EDT
DTSTART:20230312T070000
END:DAYLIGHT
BEGIN:STANDARD
TZOFFSETFROM:-0400
TZOFFSETTO:-0500
TZNAME:EST
DTSTART:20231105T060000
END:STANDARD
END:VTIMEZONE
BEGIN:VEVENT
DTSTART;VALUE=DATE:20220916
DTEND;VALUE=DATE:20220917
DTSTAMP:20260423T005905
CREATED:20220907T181429Z
LAST-MODIFIED:20220916T182806Z
UID:10009496-1663286400-1663372799@www.tcsatl.org
SUMMARY:C Day
DESCRIPTION:
URL:https://www.tcsatl.org/event/c-day-3/
END:VEVENT
BEGIN:VEVENT
DTSTART;VALUE=DATE:20220916
DTEND;VALUE=DATE:20220917
DTSTAMP:20260423T005905
CREATED:20220907T181429Z
LAST-MODIFIED:20220907T181429Z
UID:10009498-1663286400-1663372799@www.tcsatl.org
SUMMARY:C Day
DESCRIPTION:
URL:https://www.tcsatl.org/event/c-day-4/
END:VEVENT
BEGIN:VEVENT
DTSTART;TZID=America/New_York:20220916T151500
DTEND;TZID=America/New_York:20220916T161500
DTSTAMP:20260423T005905
CREATED:20220815T164154Z
LAST-MODIFIED:20220916T185921Z
UID:10008647-1663341300-1663344900@www.tcsatl.org
SUMMARY:Amazing Athletes
DESCRIPTION:
URL:https://www.tcsatl.org/event/amazing-athletes-29/
END:VEVENT
BEGIN:VEVENT
DTSTART;TZID=America/New_York:20220916T151500
DTEND;TZID=America/New_York:20220916T163000
DTSTAMP:20260423T005905
CREATED:20220815T171213Z
LAST-MODIFIED:20220916T184258Z
UID:10009302-1663341300-1663345800@www.tcsatl.org
SUMMARY:MAAC Boys & Girls Cross Country (6th-8th)
DESCRIPTION:
URL:https://www.tcsatl.org/event/maac-boys-girls-cross-country-6th-8th-15/
END:VEVENT
BEGIN:VEVENT
DTSTART;TZID=America/New_York:20220916T151500
DTEND;TZID=America/New_York:20220916T163000
DTSTAMP:20260423T005905
CREATED:20220815T171213Z
LAST-MODIFIED:20220916T184258Z
UID:10009299-1663341300-1663345800@www.tcsatl.org
SUMMARY:MAAC Girls Volleyball (6th - 8th)
DESCRIPTION:
URL:https://www.tcsatl.org/event/maac-girls-volleyball-6th-8th-15/
END:VEVENT
BEGIN:VEVENT
DTSTART;TZID=America/New_York:20220916T161500
DTEND;TZID=America/New_York:20220916T171500
DTSTAMP:20260423T005905
CREATED:20220815T164154Z
LAST-MODIFIED:20220916T185921Z
UID:10008646-1663344900-1663348500@www.tcsatl.org
SUMMARY:Intro to Ballet/Tap
DESCRIPTION:
URL:https://www.tcsatl.org/event/intro-to-ballet-tap-5/
END:VEVENT
BEGIN:VEVENT
DTSTART;VALUE=DATE:20220919
DTEND;VALUE=DATE:20220920
DTSTAMP:20260423T005905
CREATED:20220907T181429Z
LAST-MODIFIED:20220919T183243Z
UID:10009509-1663545600-1663631999@www.tcsatl.org
SUMMARY:D Day
DESCRIPTION:
URL:https://www.tcsatl.org/event/d-day-3/
END:VEVENT
BEGIN:VEVENT
DTSTART;TZID=America/New_York:20220919T151500
DTEND;TZID=America/New_York:20220919T161500
DTSTAMP:20260423T005905
CREATED:20220815T164154Z
LAST-MODIFIED:20220919T191536Z
UID:10008648-1663600500-1663604100@www.tcsatl.org
SUMMARY:Bricks4Kidz
DESCRIPTION:
URL:https://www.tcsatl.org/event/bricks4kidz-7/
END:VEVENT
BEGIN:VEVENT
DTSTART;TZID=America/New_York:20220919T151500
DTEND;TZID=America/New_York:20220919T163000
DTSTAMP:20260423T005905
CREATED:20220815T164155Z
LAST-MODIFIED:20220919T191536Z
UID:10008649-1663600500-1663605000@www.tcsatl.org
SUMMARY:TCS Players
DESCRIPTION:
URL:https://www.tcsatl.org/event/tcs-players-56/
END:VEVENT
BEGIN:VEVENT
DTSTART;TZID=America/New_York:20220919T151500
DTEND;TZID=America/New_York:20220919T163000
DTSTAMP:20260423T005905
CREATED:20220815T171214Z
LAST-MODIFIED:20220919T190130Z
UID:10009304-1663600500-1663605000@www.tcsatl.org
SUMMARY:Intramural Boys & Girls Cross Country (3rd-5th)
DESCRIPTION:
URL:https://www.tcsatl.org/event/intramural-boys-girls-cross-country-3rd-5th-11/
END:VEVENT
BEGIN:VEVENT
DTSTART;TZID=America/New_York:20220919T151500
DTEND;TZID=America/New_York:20220919T163000
DTSTAMP:20260423T005905
CREATED:20220815T171214Z
LAST-MODIFIED:20220919T190130Z
UID:10009306-1663600500-1663605000@www.tcsatl.org
SUMMARY:MAAC Girls Volleyball (6th - 8th)
DESCRIPTION:
URL:https://www.tcsatl.org/event/maac-girls-volleyball-6th-8th-16/
END:VEVENT
BEGIN:VEVENT
DTSTART;VALUE=DATE:20220920
DTEND;VALUE=DATE:20220921
DTSTAMP:20260423T005905
CREATED:20220907T181429Z
LAST-MODIFIED:20220907T181429Z
UID:10009511-1663632000-1663718399@www.tcsatl.org
SUMMARY:E Day
DESCRIPTION:
URL:https://www.tcsatl.org/event/e-day-4/
END:VEVENT
BEGIN:VEVENT
DTSTART;VALUE=DATE:20220920
DTEND;VALUE=DATE:20220921
DTSTAMP:20260423T005905
CREATED:20220907T181429Z
LAST-MODIFIED:20220920T184355Z
UID:10009497-1663632000-1663718399@www.tcsatl.org
SUMMARY:E Day
DESCRIPTION:
URL:https://www.tcsatl.org/event/e-day-3/
END:VEVENT
BEGIN:VEVENT
DTSTART;TZID=America/New_York:20220920T151500
DTEND;TZID=America/New_York:20220920T161500
DTSTAMP:20260423T005905
CREATED:20220815T164155Z
LAST-MODIFIED:20220920T192809Z
UID:10008652-1663686900-1663690500@www.tcsatl.org
SUMMARY:Percussion Ensemble
DESCRIPTION:
URL:https://www.tcsatl.org/event/percussion-ensemble-7/
END:VEVENT
BEGIN:VEVENT
DTSTART;TZID=America/New_York:20220920T151500
DTEND;TZID=America/New_York:20220920T163000
DTSTAMP:20260423T005905
CREATED:20220815T164155Z
LAST-MODIFIED:20220920T192809Z
UID:10008651-1663686900-1663691400@www.tcsatl.org
SUMMARY:TCS Jr. Voices
DESCRIPTION:
URL:https://www.tcsatl.org/event/tcs-jr-voices-3/
END:VEVENT
BEGIN:VEVENT
DTSTART;TZID=America/New_York:20220920T151500
DTEND;TZID=America/New_York:20220920T163000
DTSTAMP:20260423T005905
CREATED:20220815T171214Z
LAST-MODIFIED:20220920T185915Z
UID:10009312-1663686900-1663691400@www.tcsatl.org
SUMMARY:Intramural Co-Ed Tennis (3rd-5th)
DESCRIPTION:
URL:https://www.tcsatl.org/event/intramural-co-ed-tennis-3rd-5th-11/
END:VEVENT
BEGIN:VEVENT
DTSTART;TZID=America/New_York:20220920T151500
DTEND;TZID=America/New_York:20220920T163000
DTSTAMP:20260423T005905
CREATED:20220815T171214Z
LAST-MODIFIED:20220920T185915Z
UID:10009314-1663686900-1663691400@www.tcsatl.org
SUMMARY:Intramural Co-Ed Volleyball (3rd-5th)
DESCRIPTION:
URL:https://www.tcsatl.org/event/intramural-co-ed-volleyball-3rd-5th-11/
END:VEVENT
BEGIN:VEVENT
DTSTART;TZID=America/New_York:20220920T151500
DTEND;TZID=America/New_York:20220920T163000
DTSTAMP:20260423T005905
CREATED:20220815T171214Z
LAST-MODIFIED:20220920T185915Z
UID:10009315-1663686900-1663691400@www.tcsatl.org
SUMMARY:MAAC Boys & Girls Cross Country (6th-8th)
DESCRIPTION:
URL:https://www.tcsatl.org/event/maac-boys-girls-cross-country-6th-8th-16/
END:VEVENT
BEGIN:VEVENT
DTSTART;TZID=America/New_York:20220920T161500
DTEND;TZID=America/New_York:20220920T171500
DTSTAMP:20260423T005905
CREATED:20220815T164155Z
LAST-MODIFIED:20220920T192809Z
UID:10008650-1663690500-1663694100@www.tcsatl.org
SUMMARY:Intro to Drums
DESCRIPTION:
URL:https://www.tcsatl.org/event/intro-to-drums-7/
END:VEVENT
BEGIN:VEVENT
DTSTART;VALUE=DATE:20220921
DTEND;VALUE=DATE:20220922
DTSTAMP:20260423T005905
CREATED:20220907T181429Z
LAST-MODIFIED:20220921T185851Z
UID:10009523-1663718400-1663804799@www.tcsatl.org
SUMMARY:F Day
DESCRIPTION:
URL:https://www.tcsatl.org/event/f-day-3/
END:VEVENT
BEGIN:VEVENT
DTSTART;TZID=America/New_York:20220921T074500
DTEND;TZID=America/New_York:20220921T090000
DTSTAMP:20260423T005905
CREATED:20220815T171214Z
LAST-MODIFIED:20220920T185915Z
UID:10009316-1663746300-1663750800@www.tcsatl.org
SUMMARY:Intramural Co-Ed Volleyball (3rd - 5th)
DESCRIPTION:
URL:https://www.tcsatl.org/event/intramural-co-ed-volleyball-3rd-5th-12/
END:VEVENT
BEGIN:VEVENT
DTSTART;TZID=America/New_York:20220921T151500
DTEND;TZID=America/New_York:20220921T161500
DTSTAMP:20260423T005905
CREATED:20220815T164155Z
LAST-MODIFIED:20220921T192828Z
UID:10008654-1663773300-1663776900@www.tcsatl.org
SUMMARY:TCS Jr. Players
DESCRIPTION:
URL:https://www.tcsatl.org/event/tcs-jr-players-33/
END:VEVENT
BEGIN:VEVENT
DTSTART;TZID=America/New_York:20220921T151500
DTEND;TZID=America/New_York:20220921T163000
DTSTAMP:20260423T005905
CREATED:20220815T164155Z
LAST-MODIFIED:20220921T192828Z
UID:10008653-1663773300-1663777800@www.tcsatl.org
SUMMARY:TCS Players
DESCRIPTION:
URL:https://www.tcsatl.org/event/tcs-players-57/
END:VEVENT
BEGIN:VEVENT
DTSTART;TZID=America/New_York:20220921T151500
DTEND;TZID=America/New_York:20220921T163000
DTSTAMP:20260423T005905
CREATED:20220815T171215Z
LAST-MODIFIED:20220921T185932Z
UID:10009317-1663773300-1663777800@www.tcsatl.org
SUMMARY:Intramural Co-Ed Tennis (3rd-5th)
DESCRIPTION:
URL:https://www.tcsatl.org/event/intramural-co-ed-tennis-3rd-5th-12/
END:VEVENT
BEGIN:VEVENT
DTSTART;TZID=America/New_York:20220921T151500
DTEND;TZID=America/New_York:20220921T163000
DTSTAMP:20260423T005905
CREATED:20220815T171215Z
LAST-MODIFIED:20220921T185931Z
UID:10009319-1663773300-1663777800@www.tcsatl.org
SUMMARY:MAAC Boys & Girls Cross Country (6th-8th)
DESCRIPTION:
URL:https://www.tcsatl.org/event/maac-boys-girls-cross-country-6th-8th-17/
END:VEVENT
BEGIN:VEVENT
DTSTART;TZID=America/New_York:20220921T160000
DTEND;TZID=America/New_York:20220921T180000
DTSTAMP:20260423T005905
CREATED:20220809T171145Z
LAST-MODIFIED:20220809T171145Z
UID:10008572-1663776000-1663783200@www.tcsatl.org
SUMMARY:MAAC Girls & Boys Cross Country Meet - Brook Run - 1 BUS
DESCRIPTION:
URL:https://www.tcsatl.org/event/maac-girls-boys-cross-country-meet-brook-run-1-bus-2/
LOCATION:4770 N. Peachtree Rd. Dunwoody\, GA 30338
END:VEVENT
BEGIN:VEVENT
DTSTART;TZID=America/New_York:20220921T160000
DTEND;TZID=America/New_York:20220921T180000
DTSTAMP:20260423T005905
CREATED:20220809T171145Z
LAST-MODIFIED:20220921T185931Z
UID:10008571-1663776000-1663783200@www.tcsatl.org
SUMMARY:MAAC Girls & Boys Cross Country Meet - Brook Run - 1 BUS
DESCRIPTION:
URL:https://www.tcsatl.org/event/maac-girls-boys-cross-country-meet-brook-run-1-bus/
LOCATION:4770 N. Peachtree Rd. Dunwoody\, GA 30338
END:VEVENT
BEGIN:VEVENT
DTSTART;VALUE=DATE:20220922
DTEND;VALUE=DATE:20220923
DTSTAMP:20260423T005905
CREATED:20220907T181429Z
LAST-MODIFIED:20220922T185953Z
UID:10009522-1663804800-1663891199@www.tcsatl.org
SUMMARY:A Day
DESCRIPTION:
URL:https://www.tcsatl.org/event/a-day-3/
END:VEVENT
BEGIN:VEVENT
DTSTART;TZID=America/New_York:20220922T151500
DTEND;TZID=America/New_York:20220922T161500
DTSTAMP:20260423T005905
CREATED:20220815T164156Z
LAST-MODIFIED:20220922T192822Z
UID:10008657-1663859700-1663863300@www.tcsatl.org
SUMMARY:Gymnastics Level II
DESCRIPTION:
URL:https://www.tcsatl.org/event/gymnastics-level-ii-7/
END:VEVENT
BEGIN:VEVENT
DTSTART;TZID=America/New_York:20220922T151500
DTEND;TZID=America/New_York:20220922T163000
DTSTAMP:20260423T005905
CREATED:20220815T164155Z
LAST-MODIFIED:20220922T192822Z
UID:10008655-1663859700-1663864200@www.tcsatl.org
SUMMARY:TCS Voices
DESCRIPTION:
URL:https://www.tcsatl.org/event/tcs-voices-33/
END:VEVENT
END:VCALENDAR