BEGIN:VCALENDAR
VERSION:2.0
PRODID:-//The Children&#039;s School - ECPv6.15.15//NONSGML v1.0//EN
CALSCALE:GREGORIAN
METHOD:PUBLISH
X-WR-CALNAME:The Children&#039;s School
X-ORIGINAL-URL:https://www.tcsatl.org
X-WR-CALDESC:Events for The Children&#039;s School
REFRESH-INTERVAL;VALUE=DURATION:PT1H
X-Robots-Tag:noindex
X-PUBLISHED-TTL:PT1H
BEGIN:VTIMEZONE
TZID:America/New_York
BEGIN:DAYLIGHT
TZOFFSETFROM:-0500
TZOFFSETTO:-0400
TZNAME:EDT
DTSTART:20250309T070000
END:DAYLIGHT
BEGIN:STANDARD
TZOFFSETFROM:-0400
TZOFFSETTO:-0500
TZNAME:EST
DTSTART:20251102T060000
END:STANDARD
BEGIN:DAYLIGHT
TZOFFSETFROM:-0500
TZOFFSETTO:-0400
TZNAME:EDT
DTSTART:20260308T070000
END:DAYLIGHT
BEGIN:STANDARD
TZOFFSETFROM:-0400
TZOFFSETTO:-0500
TZNAME:EST
DTSTART:20261101T060000
END:STANDARD
BEGIN:DAYLIGHT
TZOFFSETFROM:-0500
TZOFFSETTO:-0400
TZNAME:EDT
DTSTART:20270314T070000
END:DAYLIGHT
BEGIN:STANDARD
TZOFFSETFROM:-0400
TZOFFSETTO:-0500
TZNAME:EST
DTSTART:20271107T060000
END:STANDARD
END:VTIMEZONE
BEGIN:VEVENT
DTSTART;VALUE=DATE:20260216
DTEND;VALUE=DATE:20260218
DTSTAMP:20260420T125740
CREATED:20250613T041550Z
LAST-MODIFIED:20260217T093547Z
UID:10011471-1771200000-1771372799@www.tcsatl.org
SUMMARY:Mid-Winter Break - TCS School Campus Closed
DESCRIPTION:
URL:https://www.tcsatl.org/event/mid-winter-break-tcs-school-campus-closed/
END:VEVENT
BEGIN:VEVENT
DTSTART;TZID=America/New_York:20260223T000000
DTEND;TZID=America/New_York:20260228T000000
DTSTAMP:20260420T125740
CREATED:20260109T234547Z
LAST-MODIFIED:20260227T122052Z
UID:10011655-1771804800-1772236800@www.tcsatl.org
SUMMARY:TCS Book Fair - Library
DESCRIPTION:
URL:https://www.tcsatl.org/event/tcs-book-fair-library/
END:VEVENT
BEGIN:VEVENT
DTSTART;VALUE=DATE:20260305
DTEND;VALUE=DATE:20260307
DTSTAMP:20260420T125740
CREATED:20250613T041550Z
LAST-MODIFIED:20260306T142520Z
UID:10011472-1772668800-1772841599@www.tcsatl.org
SUMMARY:TCS SCHOOL CLOSED FOR STUDENTS- Family Conferences
DESCRIPTION:
URL:https://www.tcsatl.org/event/tcs-school-closed-for-students-family-conferences/
END:VEVENT
BEGIN:VEVENT
DTSTART;VALUE=DATE:20260309
DTEND;VALUE=DATE:20260310
DTSTAMP:20260420T125740
CREATED:20250613T041550Z
LAST-MODIFIED:20260309T151540Z
UID:10011473-1773014400-1773100799@www.tcsatl.org
SUMMARY:TCS SCHOOL CLOSED FOR STUDENTS - Teacher/Staff Work Day -
DESCRIPTION:
URL:https://www.tcsatl.org/event/tcs-school-closed-for-students-teacher-staff-work-day/
END:VEVENT
BEGIN:VEVENT
DTSTART;VALUE=DATE:20260406
DTEND;VALUE=DATE:20260411
DTSTAMP:20260420T125740
CREATED:20250613T041550Z
LAST-MODIFIED:20260318T172010Z
UID:10011474-1775433600-1775865599@www.tcsatl.org
SUMMARY:TCS SCHOOL CLOSED - Spring Break
DESCRIPTION:
URL:https://www.tcsatl.org/event/tcs-school-closed-spring-break/
END:VEVENT
BEGIN:VEVENT
DTSTART;VALUE=DATE:20260413
DTEND;VALUE=DATE:20260414
DTSTAMP:20260420T125740
CREATED:20250613T041602Z
LAST-MODIFIED:20260318T172011Z
UID:10011475-1776038400-1776124799@www.tcsatl.org
SUMMARY:School Closed for Students - Report Writing Day
DESCRIPTION:
URL:https://www.tcsatl.org/event/school-closed-for-students-report-writing-day-6/
END:VEVENT
BEGIN:VEVENT
DTSTART;VALUE=DATE:20260522
DTEND;VALUE=DATE:20260523
DTSTAMP:20260420T125740
CREATED:20250613T041602Z
LAST-MODIFIED:20260420T015051Z
UID:10011476-1779408000-1779494399@www.tcsatl.org
SUMMARY:Last Day of School
DESCRIPTION:
URL:https://www.tcsatl.org/event/last-day-of-school-5/
END:VEVENT
BEGIN:VEVENT
DTSTART;TZID=America/New_York:20260522T120000
DTEND;TZID=America/New_York:20260522T160000
DTSTAMP:20260420T125740
CREATED:20250613T041602Z
LAST-MODIFIED:20260420T015051Z
UID:10011477-1779451200-1779465600@www.tcsatl.org
SUMMARY:EARLY DISMISSAL - No Epic\, Discovery\, Enrichment Classes
DESCRIPTION:
URL:https://www.tcsatl.org/event/early-dismissal-no-epic-discovery-enrichment-classes-2/
END:VEVENT
END:VCALENDAR