BEGIN:VCALENDAR
VERSION:2.0
PRODID:-//The Children&#039;s School - ECPv6.15.15//NONSGML v1.0//EN
CALSCALE:GREGORIAN
METHOD:PUBLISH
X-WR-CALNAME:The Children&#039;s School
X-ORIGINAL-URL:https://www.tcsatl.org
X-WR-CALDESC:Events for The Children&#039;s School
REFRESH-INTERVAL;VALUE=DURATION:PT1H
X-Robots-Tag:noindex
X-PUBLISHED-TTL:PT1H
BEGIN:VTIMEZONE
TZID:America/New_York
BEGIN:DAYLIGHT
TZOFFSETFROM:-0500
TZOFFSETTO:-0400
TZNAME:EDT
DTSTART:20220313T070000
END:DAYLIGHT
BEGIN:STANDARD
TZOFFSETFROM:-0400
TZOFFSETTO:-0500
TZNAME:EST
DTSTART:20221106T060000
END:STANDARD
BEGIN:DAYLIGHT
TZOFFSETFROM:-0500
TZOFFSETTO:-0400
TZNAME:EDT
DTSTART:20230312T070000
END:DAYLIGHT
BEGIN:STANDARD
TZOFFSETFROM:-0400
TZOFFSETTO:-0500
TZNAME:EST
DTSTART:20231105T060000
END:STANDARD
BEGIN:DAYLIGHT
TZOFFSETFROM:-0500
TZOFFSETTO:-0400
TZNAME:EDT
DTSTART:20240310T070000
END:DAYLIGHT
BEGIN:STANDARD
TZOFFSETFROM:-0400
TZOFFSETTO:-0500
TZNAME:EST
DTSTART:20241103T060000
END:STANDARD
END:VTIMEZONE
BEGIN:VEVENT
DTSTART;VALUE=DATE:20230809
DTEND;VALUE=DATE:20230810
DTSTAMP:20260421T163526
CREATED:20230201T214456Z
LAST-MODIFIED:20230516T040027Z
UID:10008987-1691539200-1691625599@www.tcsatl.org
SUMMARY:Class Visit Day
DESCRIPTION:
URL:https://www.tcsatl.org/event/class-visit-day/
END:VEVENT
BEGIN:VEVENT
DTSTART;VALUE=DATE:20230809
DTEND;VALUE=DATE:20230810
DTSTAMP:20260421T163526
CREATED:20230517T035958Z
LAST-MODIFIED:20230809T180033Z
UID:10009098-1691539200-1691625599@www.tcsatl.org
SUMMARY:TCS Classroom Visit Day
DESCRIPTION:Schedule9:30-10:15 a.m. Early Learning – grade 1 – Child’s last name = A-K10:30-11:15 a.m. Early Learning – grade 1 – Child’s last name = L-Z12:15-1:00 p.m. Grades 2-5 – Child’s last name = A-K1:15-2:00 p.m. Grades 2-5 – Child’s last name = L-Z1:15-2:00 p.m. All of Grade 711:00 a.m. – 2:00 p.m. – Grade 6 (see invitation for details)11:00 a.m. – 2:00 p.m. Grade 8 (see invitation for details) \nParkingParking is available throughout the neighborhood on 10th\, Argonne\, Taft and 9th. \nCheck Aug. 3 “Happenings” for more information: https://mailchi.mp/tcsatl.org/2023-24-happenings-01
URL:https://www.tcsatl.org/event/tcs-classroom-visit-day/
LOCATION:The Children’s School\, 345 10th St NE\, Atlanta\, GA 30309\, USA\, 2 Old 10th St NE\, Atlanta\, GA\, United States
GEO:33.781962;-84.386353
X-APPLE-STRUCTURED-LOCATION;VALUE=URI;X-ADDRESS=The Children’s School 345 10th St NE Atlanta GA 30309 USA 2 Old 10th St NE Atlanta GA United States;X-APPLE-RADIUS=500;X-TITLE=2 Old 10th St NE:geo:-84.386353,33.781962
END:VEVENT
BEGIN:VEVENT
DTSTART;VALUE=DATE:20230810
DTEND;VALUE=DATE:20230811
DTSTAMP:20260421T163526
CREATED:20230201T214456Z
LAST-MODIFIED:20230810T180128Z
UID:10008988-1691625600-1691711999@www.tcsatl.org
SUMMARY:First Day of School
DESCRIPTION:Carpool runs 8:00-8:30 a.m.
URL:https://www.tcsatl.org/event/first-day-of-school-9/
END:VEVENT
BEGIN:VEVENT
DTSTART;TZID=America/New_York:20230810T083000
DTEND;TZID=America/New_York:20230810T093000
DTSTAMP:20260421T163526
CREATED:20230806T175937Z
LAST-MODIFIED:20230809T180032Z
UID:10010166-1691656200-1691659800@www.tcsatl.org
SUMMARY:Cheers & Tears
DESCRIPTION:Cheers & Tears on the Basketball Court at 8:30 a.m. \nDrop off your child(ren) in carpool or walk them to class on Thurs.\, Aug. 10 and then head over to the TCS basketball court at 8:30 a.m. to celebrate the first day of school during Cheers & Tears!  \nMeet other parents\, chat with Head of School Roslyn Benjamin\, Director of Lower School Elena Jaime\, Director of Upper School Justin Ryder\, and more.
URL:https://www.tcsatl.org/event/cheers-tears-2/
END:VEVENT
BEGIN:VEVENT
DTSTART;TZID=America/New_York:20230810T083000
DTEND;TZID=America/New_York:20230810T093000
DTSTAMP:20260421T163526
CREATED:20230806T175937Z
LAST-MODIFIED:20230806T175937Z
UID:10010167-1691656200-1691659800@www.tcsatl.org
SUMMARY:Cheers & Tears
DESCRIPTION:Cheers & Tears on the Basketball Court at 8:30 a.m. \nDrop off your child(ren) in carpool or walk them to class on Thurs.\, Aug. 10 and then head over to the TCS basketball court at 8:30 a.m. to celebrate the first day of school during Cheers & Tears!  \nMeet other parents\, chat with Head of School Roslyn Benjamin\, Director of Lower School Elena Jaime\, Director of Upper School Justin Ryder\, and more.
URL:https://www.tcsatl.org/event/cheers-tears/
END:VEVENT
BEGIN:VEVENT
DTSTART;TZID=America/New_York:20230814T154500
DTEND;TZID=America/New_York:20230814T164500
DTSTAMP:20260421T163526
CREATED:20230810T053005Z
LAST-MODIFIED:20230814T054639Z
UID:10009378-1692027900-1692031500@www.tcsatl.org
SUMMARY:Intramural Girls & Boys Cross Country
DESCRIPTION:Carpool 4:45-5:00 PM
URL:https://www.tcsatl.org/event/intramural-girls-boys-cross-country/
END:VEVENT
BEGIN:VEVENT
DTSTART;TZID=America/New_York:20230814T154500
DTEND;TZID=America/New_York:20230814T170000
DTSTAMP:20260421T163526
CREATED:20230810T053005Z
LAST-MODIFIED:20230814T054639Z
UID:10009376-1692027900-1692032400@www.tcsatl.org
SUMMARY:MAAC Co-Ed Ultimate Frisbee (Grades 5-8)
DESCRIPTION:carpool 5:00 -5:15 PM
URL:https://www.tcsatl.org/event/maac-co-ed-ultimate-frisbee-grades-5-8/
END:VEVENT
BEGIN:VEVENT
DTSTART;TZID=America/New_York:20230814T154500
DTEND;TZID=America/New_York:20230814T170000
DTSTAMP:20260421T163526
CREATED:20230810T053005Z
LAST-MODIFIED:20230814T054639Z
UID:10009374-1692027900-1692032400@www.tcsatl.org
SUMMARY:MAAC Girls Volleyball
DESCRIPTION:Carpool 5:00-5:15 pm
URL:https://www.tcsatl.org/event/maac-girls-volleyball-86/
END:VEVENT
BEGIN:VEVENT
DTSTART;TZID=America/New_York:20230815T151500
DTEND;TZID=America/New_York:20230815T163000
DTSTAMP:20260421T163526
CREATED:20230810T053005Z
LAST-MODIFIED:20230814T054640Z
UID:10009379-1692112500-1692117000@www.tcsatl.org
SUMMARY:Intramural Co-Ed Tennis (Grades 3-5)
DESCRIPTION:Carpool 4:40-4:55 PM
URL:https://www.tcsatl.org/event/intramural-co-ed-tennis-grades-3-5/
END:VEVENT
BEGIN:VEVENT
DTSTART;TZID=America/New_York:20230815T154500
DTEND;TZID=America/New_York:20230815T164500
DTSTAMP:20260421T163526
CREATED:20230810T053005Z
LAST-MODIFIED:20230814T054640Z
UID:10009380-1692114300-1692117900@www.tcsatl.org
SUMMARY:Intramural Co-Ed Volleyball
DESCRIPTION:Carpool 4:45 – 5:00 PM
URL:https://www.tcsatl.org/event/intramural-co-ed-volleyball/
END:VEVENT
BEGIN:VEVENT
DTSTART;TZID=America/New_York:20230815T154500
DTEND;TZID=America/New_York:20230815T170000
DTSTAMP:20260421T163526
CREATED:20230810T053006Z
LAST-MODIFIED:20230815T204931Z
UID:10009382-1692114300-1692118800@www.tcsatl.org
SUMMARY:MAAC Girls & Boys Cross Country (Grades 6-8)
DESCRIPTION:Carpool 5:00- 5:15 PM
URL:https://www.tcsatl.org/event/maac-girls-boys-cross-country-grades-6-8/
END:VEVENT
BEGIN:VEVENT
DTSTART;TZID=America/New_York:20230816T151500
DTEND;TZID=America/New_York:20230816T163000
DTSTAMP:20260421T163526
CREATED:20230810T053006Z
LAST-MODIFIED:20230815T204931Z
UID:10010438-1692198900-1692203400@www.tcsatl.org
SUMMARY:Intramural Co-Ed Tennis (Grades 3-5)
DESCRIPTION:Carpool 4:40-4:55 PM
URL:https://www.tcsatl.org/event/intramural-co-ed-tennis-grades-3-5-2/
END:VEVENT
BEGIN:VEVENT
DTSTART;TZID=America/New_York:20230816T154500
DTEND;TZID=America/New_York:20230816T164500
DTSTAMP:20260421T163526
CREATED:20230810T053006Z
LAST-MODIFIED:20230815T204931Z
UID:10010437-1692200700-1692204300@www.tcsatl.org
SUMMARY:Intramural Co-Ed Volleyball
DESCRIPTION:Carpool 4:45 – 5:00 PM
URL:https://www.tcsatl.org/event/intramural-co-ed-volleyball-2/
END:VEVENT
BEGIN:VEVENT
DTSTART;TZID=America/New_York:20230816T154500
DTEND;TZID=America/New_York:20230816T170000
DTSTAMP:20260421T163526
CREATED:20230810T053006Z
LAST-MODIFIED:20230815T204931Z
UID:10010439-1692200700-1692205200@www.tcsatl.org
SUMMARY:MAAC Girls & Boys Cross Country (Grades 6-8)
DESCRIPTION:Carpool 5:00- 5:15 PM
URL:https://www.tcsatl.org/event/maac-girls-boys-cross-country-grades-6-8-2/
END:VEVENT
BEGIN:VEVENT
DTSTART;TZID=America/New_York:20230817T154500
DTEND;TZID=America/New_York:20230817T164500
DTSTAMP:20260421T163526
CREATED:20230810T053020Z
LAST-MODIFIED:20230816T210020Z
UID:10010443-1692287100-1692290700@www.tcsatl.org
SUMMARY:Intramural Girls & Boys Cross Country
DESCRIPTION:Carpool 4:45-5:00 PM
URL:https://www.tcsatl.org/event/intramural-girls-boys-cross-country-2/
END:VEVENT
BEGIN:VEVENT
DTSTART;TZID=America/New_York:20230817T154500
DTEND;TZID=America/New_York:20230817T164500
DTSTAMP:20260421T163526
CREATED:20230810T053020Z
LAST-MODIFIED:20230810T053020Z
UID:10010444-1692287100-1692290700@www.tcsatl.org
SUMMARY:Intramural Girls & Boys Cross Country
DESCRIPTION:Carpool 4:45-5:00 PM
URL:https://www.tcsatl.org/event/intramural-girls-boys-cross-country-3/
END:VEVENT
BEGIN:VEVENT
DTSTART;TZID=America/New_York:20230817T154500
DTEND;TZID=America/New_York:20230817T170000
DTSTAMP:20260421T163526
CREATED:20230810T053006Z
LAST-MODIFIED:20230817T210014Z
UID:10010440-1692287100-1692291600@www.tcsatl.org
SUMMARY:MAAC Girls Volleyball
DESCRIPTION:Carpool 5:00-5:15 pm
URL:https://www.tcsatl.org/event/maac-girls-volleyball-87/
END:VEVENT
BEGIN:VEVENT
DTSTART;TZID=America/New_York:20230817T154500
DTEND;TZID=America/New_York:20230817T170000
DTSTAMP:20260421T163526
CREATED:20230810T053020Z
LAST-MODIFIED:20230817T210014Z
UID:10010441-1692287100-1692291600@www.tcsatl.org
SUMMARY:MAAC Co-Ed Ultimate Frisbee (Grades 5-8)
DESCRIPTION:carpool 5:00 -5:15 PM
URL:https://www.tcsatl.org/event/maac-co-ed-ultimate-frisbee-grades-5-8-2/
END:VEVENT
BEGIN:VEVENT
DTSTART;TZID=America/New_York:20230817T154500
DTEND;TZID=America/New_York:20230817T170000
DTSTAMP:20260421T163526
CREATED:20230810T053020Z
LAST-MODIFIED:20230810T053020Z
UID:10010442-1692287100-1692291600@www.tcsatl.org
SUMMARY:MAAC Co-Ed Ultimate Frisbee (Grades 5-8)
DESCRIPTION:carpool 5:00 -5:15 PM
URL:https://www.tcsatl.org/event/maac-co-ed-ultimate-frisbee-grades-5-8-3/
END:VEVENT
BEGIN:VEVENT
DTSTART;TZID=America/New_York:20230818T154500
DTEND;TZID=America/New_York:20230818T170000
DTSTAMP:20260421T163526
CREATED:20230810T053020Z
LAST-MODIFIED:20230810T053020Z
UID:10010446-1692373500-1692378000@www.tcsatl.org
SUMMARY:MAAC Girls & Boys Cross Country (Grades 6-8)
DESCRIPTION:Carpool 5:00- 5:15 PM
URL:https://www.tcsatl.org/event/maac-girls-boys-cross-country-grades-6-8-4/
END:VEVENT
BEGIN:VEVENT
DTSTART;TZID=America/New_York:20230818T154500
DTEND;TZID=America/New_York:20230818T170000
DTSTAMP:20260421T163526
CREATED:20230810T053020Z
LAST-MODIFIED:20230818T210003Z
UID:10010447-1692373500-1692378000@www.tcsatl.org
SUMMARY:MAAC Co-Ed Ultimate Frisbee (Grades 5-8)
DESCRIPTION:carpool 5:00 -5:15 PM
URL:https://www.tcsatl.org/event/maac-co-ed-ultimate-frisbee-grades-5-8-4/
END:VEVENT
BEGIN:VEVENT
DTSTART;TZID=America/New_York:20230818T154500
DTEND;TZID=America/New_York:20230818T170000
DTSTAMP:20260421T163526
CREATED:20230810T053020Z
LAST-MODIFIED:20230810T053020Z
UID:10010448-1692373500-1692378000@www.tcsatl.org
SUMMARY:MAAC Co-Ed Ultimate Frisbee (Grades 5-8)
DESCRIPTION:carpool 5:00 -5:15 PM
URL:https://www.tcsatl.org/event/maac-co-ed-ultimate-frisbee-grades-5-8-5/
END:VEVENT
BEGIN:VEVENT
DTSTART;TZID=America/New_York:20230818T154500
DTEND;TZID=America/New_York:20230818T170000
DTSTAMP:20260421T163526
CREATED:20230810T053020Z
LAST-MODIFIED:20230818T210002Z
UID:10010449-1692373500-1692378000@www.tcsatl.org
SUMMARY:MAAC Girls Volleyball
DESCRIPTION:Carpool 5:00-5:15 pm
URL:https://www.tcsatl.org/event/maac-girls-volleyball-88/
END:VEVENT
BEGIN:VEVENT
DTSTART;TZID=America/New_York:20230818T154500
DTEND;TZID=America/New_York:20230818T170000
DTSTAMP:20260421T163526
CREATED:20230810T053020Z
LAST-MODIFIED:20230818T210003Z
UID:10010445-1692373500-1692378000@www.tcsatl.org
SUMMARY:MAAC Girls & Boys Cross Country (Grades 6-8)
DESCRIPTION:Carpool 5:00- 5:15 PM
URL:https://www.tcsatl.org/event/maac-girls-boys-cross-country-grades-6-8-3/
END:VEVENT
BEGIN:VEVENT
DTSTART;TZID=America/New_York:20230818T154500
DTEND;TZID=America/New_York:20230818T170000
DTSTAMP:20260421T163526
CREATED:20230810T053021Z
LAST-MODIFIED:20230810T053021Z
UID:10010450-1692373500-1692378000@www.tcsatl.org
SUMMARY:MAAC Girls Volleyball
DESCRIPTION:Carpool 5:00-5:15 pm
URL:https://www.tcsatl.org/event/maac-girls-volleyball-89/
END:VEVENT
BEGIN:VEVENT
DTSTART;TZID=America/New_York:20230821T151500
DTEND;TZID=America/New_York:20230821T161500
DTSTAMP:20260421T163526
CREATED:20230809T164551Z
LAST-MODIFIED:20230820T234458Z
UID:10010168-1692630900-1692634500@www.tcsatl.org
SUMMARY:Bricks4Kidz
DESCRIPTION:
URL:https://www.tcsatl.org/event/bricks4kidz-20/
END:VEVENT
BEGIN:VEVENT
DTSTART;TZID=America/New_York:20230821T154500
DTEND;TZID=America/New_York:20230821T164500
DTSTAMP:20260421T163526
CREATED:20230809T164552Z
LAST-MODIFIED:20230820T234458Z
UID:10010169-1692632700-1692636300@www.tcsatl.org
SUMMARY:Soundscape Music Ensemble
DESCRIPTION:Carpool 4:45 – 5:00 PM
URL:https://www.tcsatl.org/event/soundscape-music-ensemble/
END:VEVENT
BEGIN:VEVENT
DTSTART;TZID=America/New_York:20230821T154500
DTEND;TZID=America/New_York:20230821T164500
DTSTAMP:20260421T163526
CREATED:20230810T053021Z
LAST-MODIFIED:20230820T212945Z
UID:10010454-1692632700-1692636300@www.tcsatl.org
SUMMARY:Intramural Girls & Boys Cross Country
DESCRIPTION:Carpool 4:45-5:00 PM
URL:https://www.tcsatl.org/event/intramural-girls-boys-cross-country-4/
END:VEVENT
BEGIN:VEVENT
DTSTART;TZID=America/New_York:20230821T154500
DTEND;TZID=America/New_York:20230821T164500
DTSTAMP:20260421T163526
CREATED:20230810T053021Z
LAST-MODIFIED:20230810T053021Z
UID:10010455-1692632700-1692636300@www.tcsatl.org
SUMMARY:Intramural Girls & Boys Cross Country
DESCRIPTION:Carpool 4:45-5:00 PM
URL:https://www.tcsatl.org/event/intramural-girls-boys-cross-country-5/
END:VEVENT
BEGIN:VEVENT
DTSTART;TZID=America/New_York:20230821T154500
DTEND;TZID=America/New_York:20230821T170000
DTSTAMP:20260421T163526
CREATED:20230810T053021Z
LAST-MODIFIED:20230820T212945Z
UID:10010451-1692632700-1692637200@www.tcsatl.org
SUMMARY:MAAC Girls Volleyball
DESCRIPTION:Carpool 5:00-5:15 pm
URL:https://www.tcsatl.org/event/maac-girls-volleyball-90/
END:VEVENT
END:VCALENDAR