BEGIN:VCALENDAR
VERSION:2.0
PRODID:-//The Children&#039;s School - ECPv6.15.15//NONSGML v1.0//EN
CALSCALE:GREGORIAN
METHOD:PUBLISH
X-WR-CALNAME:The Children&#039;s School
X-ORIGINAL-URL:https://www.tcsatl.org
X-WR-CALDESC:Events for The Children&#039;s School
REFRESH-INTERVAL;VALUE=DURATION:PT1H
X-Robots-Tag:noindex
X-PUBLISHED-TTL:PT1H
BEGIN:VTIMEZONE
TZID:America/New_York
BEGIN:DAYLIGHT
TZOFFSETFROM:-0500
TZOFFSETTO:-0400
TZNAME:EDT
DTSTART:20210314T070000
END:DAYLIGHT
BEGIN:STANDARD
TZOFFSETFROM:-0400
TZOFFSETTO:-0500
TZNAME:EST
DTSTART:20211107T060000
END:STANDARD
BEGIN:DAYLIGHT
TZOFFSETFROM:-0500
TZOFFSETTO:-0400
TZNAME:EDT
DTSTART:20220313T070000
END:DAYLIGHT
BEGIN:STANDARD
TZOFFSETFROM:-0400
TZOFFSETTO:-0500
TZNAME:EST
DTSTART:20221106T060000
END:STANDARD
BEGIN:DAYLIGHT
TZOFFSETFROM:-0500
TZOFFSETTO:-0400
TZNAME:EDT
DTSTART:20230312T070000
END:DAYLIGHT
BEGIN:STANDARD
TZOFFSETFROM:-0400
TZOFFSETTO:-0500
TZNAME:EST
DTSTART:20231105T060000
END:STANDARD
END:VTIMEZONE
BEGIN:VEVENT
DTSTART;VALUE=DATE:20221019
DTEND;VALUE=DATE:20221020
DTSTAMP:20260423T023119
CREATED:20220907T181431Z
LAST-MODIFIED:20221019T214339Z
UID:10009535-1666137600-1666223999@www.tcsatl.org
SUMMARY:B Day
DESCRIPTION:
URL:https://www.tcsatl.org/event/b-day-7/
END:VEVENT
BEGIN:VEVENT
DTSTART;TZID=America/New_York:20221019T120000
DTEND;TZID=America/New_York:20221019T130000
DTSTAMP:20260423T023119
CREATED:20220901T181247Z
LAST-MODIFIED:20221018T214546Z
UID:10009459-1666180800-1666184400@www.tcsatl.org
SUMMARY:PA Meeting - via ZOOM
DESCRIPTION:Book Club with Roz
URL:https://www.tcsatl.org/event/pa-meeting-via-zoom-2/
END:VEVENT
BEGIN:VEVENT
DTSTART;TZID=America/New_York:20221019T151500
DTEND;TZID=America/New_York:20221019T161500
DTSTAMP:20260423T023119
CREATED:20220815T164203Z
LAST-MODIFIED:20221018T204305Z
UID:10008705-1666192500-1666196100@www.tcsatl.org
SUMMARY:TCS Jr. Players
DESCRIPTION:
URL:https://www.tcsatl.org/event/tcs-jr-players-37/
END:VEVENT
BEGIN:VEVENT
DTSTART;TZID=America/New_York:20221019T151500
DTEND;TZID=America/New_York:20221019T163000
DTSTAMP:20260423T023119
CREATED:20220815T164203Z
LAST-MODIFIED:20221018T204305Z
UID:10008706-1666192500-1666197000@www.tcsatl.org
SUMMARY:TCS Players
DESCRIPTION:
URL:https://www.tcsatl.org/event/tcs-players-65/
END:VEVENT
BEGIN:VEVENT
DTSTART;TZID=America/New_York:20221019T160000
DTEND;TZID=America/New_York:20221019T180000
DTSTAMP:20260423T023119
CREATED:20220809T171146Z
LAST-MODIFIED:20221019T195805Z
UID:10008580-1666195200-1666202400@www.tcsatl.org
SUMMARY:MAAC Girls Volleyball Championship - Location TBD
DESCRIPTION:
URL:https://www.tcsatl.org/event/maac-girls-volleyball-championship-location-tbd/
END:VEVENT
BEGIN:VEVENT
DTSTART;VALUE=DATE:20221020
DTEND;VALUE=DATE:20221021
DTSTAMP:20260423T023119
CREATED:20220907T181431Z
LAST-MODIFIED:20221020T214349Z
UID:10009534-1666224000-1666310399@www.tcsatl.org
SUMMARY:C Day
DESCRIPTION:
URL:https://www.tcsatl.org/event/c-day-7/
END:VEVENT
BEGIN:VEVENT
DTSTART;TZID=America/New_York:20221020T151500
DTEND;TZID=America/New_York:20221020T161500
DTSTAMP:20260423T023119
CREATED:20220815T164203Z
LAST-MODIFIED:20221019T204252Z
UID:10008708-1666278900-1666282500@www.tcsatl.org
SUMMARY:Gymnastics Level II
DESCRIPTION:
URL:https://www.tcsatl.org/event/gymnastics-level-ii-11/
END:VEVENT
BEGIN:VEVENT
DTSTART;TZID=America/New_York:20221020T151500
DTEND;TZID=America/New_York:20221020T163000
DTSTAMP:20260423T023119
CREATED:20220815T164204Z
LAST-MODIFIED:20221019T204252Z
UID:10008709-1666278900-1666283400@www.tcsatl.org
SUMMARY:TCS Voices
DESCRIPTION:
URL:https://www.tcsatl.org/event/tcs-voices-37/
END:VEVENT
BEGIN:VEVENT
DTSTART;TZID=America/New_York:20221020T151500
DTEND;TZID=America/New_York:20221020T164500
DTSTAMP:20260423T023119
CREATED:20220815T164204Z
LAST-MODIFIED:20221020T204326Z
UID:10008710-1666278900-1666284300@www.tcsatl.org
SUMMARY:Kids TV - Video & Film Production Class
DESCRIPTION:
URL:https://www.tcsatl.org/event/kids-tv-video-film-production-class-11/
END:VEVENT
BEGIN:VEVENT
DTSTART;TZID=America/New_York:20221020T160000
DTEND;TZID=America/New_York:20221020T180000
DTSTAMP:20260423T023119
CREATED:20220809T171147Z
LAST-MODIFIED:20221020T195745Z
UID:10008583-1666281600-1666288800@www.tcsatl.org
SUMMARY:MAAC Girls Volleyball Championship - Location TBD
DESCRIPTION:
URL:https://www.tcsatl.org/event/maac-girls-volleyball-championship-location-tbd-2/
END:VEVENT
BEGIN:VEVENT
DTSTART;TZID=America/New_York:20221020T161500
DTEND;TZID=America/New_York:20221020T171500
DTSTAMP:20260423T023119
CREATED:20220815T164203Z
LAST-MODIFIED:20221020T204326Z
UID:10008707-1666282500-1666286100@www.tcsatl.org
SUMMARY:Ballet/Tap Level II
DESCRIPTION:
URL:https://www.tcsatl.org/event/ballet-tap-level-ii-11/
END:VEVENT
BEGIN:VEVENT
DTSTART;VALUE=DATE:20221021
DTEND;VALUE=DATE:20221022
DTSTAMP:20260423T023119
CREATED:20220907T181431Z
LAST-MODIFIED:20221021T214510Z
UID:10009533-1666310400-1666396799@www.tcsatl.org
SUMMARY:D Day
DESCRIPTION:
URL:https://www.tcsatl.org/event/d-day-6/
END:VEVENT
BEGIN:VEVENT
DTSTART;TZID=America/New_York:20221021T151500
DTEND;TZID=America/New_York:20221021T161500
DTSTAMP:20260423T023119
CREATED:20220815T164204Z
LAST-MODIFIED:20221020T204326Z
UID:10008711-1666365300-1666368900@www.tcsatl.org
SUMMARY:Amazing Athletes
DESCRIPTION:
URL:https://www.tcsatl.org/event/amazing-athletes-34/
END:VEVENT
BEGIN:VEVENT
DTSTART;TZID=America/New_York:20221021T160000
DTEND;TZID=America/New_York:20221021T180000
DTSTAMP:20260423T023119
CREATED:20220809T171147Z
LAST-MODIFIED:20221021T195749Z
UID:10008584-1666368000-1666375200@www.tcsatl.org
SUMMARY:MAAC Girls & Boys Cross Country Championship - Garrard Landing - 1 BUS
DESCRIPTION:
URL:https://www.tcsatl.org/event/maac-girls-boys-cross-country-championship-garrard-landing-1-bus/
LOCATION:8000 Holcomb Bridge Rd.\, Alpharetta\, GA 30022
END:VEVENT
BEGIN:VEVENT
DTSTART;TZID=America/New_York:20221021T160000
DTEND;TZID=America/New_York:20221021T180000
DTSTAMP:20260423T023119
CREATED:20220809T171147Z
LAST-MODIFIED:20221021T195749Z
UID:10008586-1666368000-1666375200@www.tcsatl.org
SUMMARY:MAAC Girls Volleyball Championship - Location TBD
DESCRIPTION:
URL:https://www.tcsatl.org/event/maac-girls-volleyball-championship-location-tbd-3/
END:VEVENT
BEGIN:VEVENT
DTSTART;TZID=America/New_York:20221021T161500
DTEND;TZID=America/New_York:20221021T171500
DTSTAMP:20260423T023119
CREATED:20220815T164204Z
LAST-MODIFIED:20221021T205814Z
UID:10008712-1666368900-1666372500@www.tcsatl.org
SUMMARY:Intro to Ballet/Tap
DESCRIPTION:
URL:https://www.tcsatl.org/event/intro-to-ballet-tap-10/
END:VEVENT
BEGIN:VEVENT
DTSTART;VALUE=DATE:20221024
DTEND;VALUE=DATE:20221025
DTSTAMP:20260423T023119
CREATED:20220907T181431Z
LAST-MODIFIED:20221024T214634Z
UID:10009538-1666569600-1666655999@www.tcsatl.org
SUMMARY:E Day
DESCRIPTION:
URL:https://www.tcsatl.org/event/e-day-7/
END:VEVENT
BEGIN:VEVENT
DTSTART;TZID=America/New_York:20221024T151500
DTEND;TZID=America/New_York:20221024T161500
DTSTAMP:20260423T023119
CREATED:20220815T164204Z
LAST-MODIFIED:20221023T211311Z
UID:10008713-1666624500-1666628100@www.tcsatl.org
SUMMARY:Bricks4Kidz
DESCRIPTION:
URL:https://www.tcsatl.org/event/bricks4kidz-12/
END:VEVENT
BEGIN:VEVENT
DTSTART;TZID=America/New_York:20221024T151500
DTEND;TZID=America/New_York:20221024T163000
DTSTAMP:20260423T023119
CREATED:20220815T164204Z
LAST-MODIFIED:20221023T211311Z
UID:10008714-1666624500-1666629000@www.tcsatl.org
SUMMARY:TCS Players
DESCRIPTION:
URL:https://www.tcsatl.org/event/tcs-players-66/
END:VEVENT
BEGIN:VEVENT
DTSTART;VALUE=DATE:20221025
DTEND;VALUE=DATE:20221026
DTSTAMP:20260423T023119
CREATED:20220907T181432Z
LAST-MODIFIED:20221025T215914Z
UID:10009540-1666656000-1666742399@www.tcsatl.org
SUMMARY:F Day
DESCRIPTION:
URL:https://www.tcsatl.org/event/f-day-6/
END:VEVENT
BEGIN:VEVENT
DTSTART;TZID=America/New_York:20221025T151500
DTEND;TZID=America/New_York:20221025T161500
DTSTAMP:20260423T023119
CREATED:20220815T164205Z
LAST-MODIFIED:20221024T211336Z
UID:10008715-1666710900-1666714500@www.tcsatl.org
SUMMARY:Percussion Ensemble
DESCRIPTION:
URL:https://www.tcsatl.org/event/percussion-ensemble-12/
END:VEVENT
BEGIN:VEVENT
DTSTART;TZID=America/New_York:20221025T151500
DTEND;TZID=America/New_York:20221025T163000
DTSTAMP:20260423T023119
CREATED:20220815T164205Z
LAST-MODIFIED:20221024T211336Z
UID:10008717-1666710900-1666715400@www.tcsatl.org
SUMMARY:TCS Jr. Voices
DESCRIPTION:
URL:https://www.tcsatl.org/event/tcs-jr-voices-8/
END:VEVENT
BEGIN:VEVENT
DTSTART;TZID=America/New_York:20221025T161500
DTEND;TZID=America/New_York:20221025T171500
DTSTAMP:20260423T023119
CREATED:20220815T164205Z
LAST-MODIFIED:20221024T211336Z
UID:10008716-1666714500-1666718100@www.tcsatl.org
SUMMARY:Intro to Drums
DESCRIPTION:
URL:https://www.tcsatl.org/event/intro-to-drums-12/
END:VEVENT
BEGIN:VEVENT
DTSTART;VALUE=DATE:20221026
DTEND;VALUE=DATE:20221027
DTSTAMP:20260423T023119
CREATED:20220907T181432Z
LAST-MODIFIED:20221026T220027Z
UID:10009539-1666742400-1666828799@www.tcsatl.org
SUMMARY:A Day
DESCRIPTION:
URL:https://www.tcsatl.org/event/a-day-6/
END:VEVENT
BEGIN:VEVENT
DTSTART;TZID=America/New_York:20221026T151500
DTEND;TZID=America/New_York:20221026T161500
DTSTAMP:20260423T023119
CREATED:20220815T164205Z
LAST-MODIFIED:20221025T211754Z
UID:10008718-1666797300-1666800900@www.tcsatl.org
SUMMARY:TCS Jr. Players
DESCRIPTION:
URL:https://www.tcsatl.org/event/tcs-jr-players-38/
END:VEVENT
BEGIN:VEVENT
DTSTART;TZID=America/New_York:20221026T151500
DTEND;TZID=America/New_York:20221026T163000
DTSTAMP:20260423T023119
CREATED:20220815T164205Z
LAST-MODIFIED:20221025T211754Z
UID:10008719-1666797300-1666801800@www.tcsatl.org
SUMMARY:TCS Players
DESCRIPTION:
URL:https://www.tcsatl.org/event/tcs-players-67/
END:VEVENT
BEGIN:VEVENT
DTSTART;VALUE=DATE:20221027
DTEND;VALUE=DATE:20221028
DTSTAMP:20260423T023119
CREATED:20220907T181432Z
LAST-MODIFIED:20221027T221317Z
UID:10009542-1666828800-1666915199@www.tcsatl.org
SUMMARY:B Day
DESCRIPTION:
URL:https://www.tcsatl.org/event/b-day-8/
END:VEVENT
BEGIN:VEVENT
DTSTART;TZID=America/New_York:20221027T151500
DTEND;TZID=America/New_York:20221027T161500
DTSTAMP:20260423T023119
CREATED:20220815T164206Z
LAST-MODIFIED:20221026T212831Z
UID:10008723-1666883700-1666887300@www.tcsatl.org
SUMMARY:Gymnastics Level II
DESCRIPTION:
URL:https://www.tcsatl.org/event/gymnastics-level-ii-12/
END:VEVENT
BEGIN:VEVENT
DTSTART;TZID=America/New_York:20221027T151500
DTEND;TZID=America/New_York:20221027T163000
DTSTAMP:20260423T023119
CREATED:20220815T164205Z
LAST-MODIFIED:20221026T212831Z
UID:10008721-1666883700-1666888200@www.tcsatl.org
SUMMARY:TCS Voices
DESCRIPTION:
URL:https://www.tcsatl.org/event/tcs-voices-38/
END:VEVENT
BEGIN:VEVENT
DTSTART;TZID=America/New_York:20221027T151500
DTEND;TZID=America/New_York:20221027T164500
DTSTAMP:20260423T023119
CREATED:20220815T164205Z
LAST-MODIFIED:20221026T212831Z
UID:10008720-1666883700-1666889100@www.tcsatl.org
SUMMARY:Kids TV - Video & Film Production Class
DESCRIPTION:
URL:https://www.tcsatl.org/event/kids-tv-video-film-production-class-12/
END:VEVENT
END:VCALENDAR