BEGIN:VCALENDAR
VERSION:2.0
PRODID:-//The Children&#039;s School - ECPv6.15.15//NONSGML v1.0//EN
CALSCALE:GREGORIAN
METHOD:PUBLISH
X-WR-CALNAME:The Children&#039;s School
X-ORIGINAL-URL:https://www.tcsatl.org
X-WR-CALDESC:Events for The Children&#039;s School
REFRESH-INTERVAL;VALUE=DURATION:PT1H
X-Robots-Tag:noindex
X-PUBLISHED-TTL:PT1H
BEGIN:VTIMEZONE
TZID:America/New_York
BEGIN:DAYLIGHT
TZOFFSETFROM:-0500
TZOFFSETTO:-0400
TZNAME:EDT
DTSTART:20210314T070000
END:DAYLIGHT
BEGIN:STANDARD
TZOFFSETFROM:-0400
TZOFFSETTO:-0500
TZNAME:EST
DTSTART:20211107T060000
END:STANDARD
BEGIN:DAYLIGHT
TZOFFSETFROM:-0500
TZOFFSETTO:-0400
TZNAME:EDT
DTSTART:20220313T070000
END:DAYLIGHT
BEGIN:STANDARD
TZOFFSETFROM:-0400
TZOFFSETTO:-0500
TZNAME:EST
DTSTART:20221106T060000
END:STANDARD
BEGIN:DAYLIGHT
TZOFFSETFROM:-0500
TZOFFSETTO:-0400
TZNAME:EDT
DTSTART:20230312T070000
END:DAYLIGHT
BEGIN:STANDARD
TZOFFSETFROM:-0400
TZOFFSETTO:-0500
TZNAME:EST
DTSTART:20231105T060000
END:STANDARD
END:VTIMEZONE
BEGIN:VEVENT
DTSTART;VALUE=DATE:20220909
DTEND;VALUE=DATE:20220910
DTSTAMP:20260423T022558
CREATED:20220907T181428Z
LAST-MODIFIED:20220909T182800Z
UID:10009476-1662681600-1662767999@www.tcsatl.org
SUMMARY:D Day
DESCRIPTION:
URL:https://www.tcsatl.org/event/d-day/
END:VEVENT
BEGIN:VEVENT
DTSTART;VALUE=DATE:20220909
DTEND;VALUE=DATE:20220910
DTSTAMP:20260423T022558
CREATED:20220907T181428Z
LAST-MODIFIED:20220907T181428Z
UID:10009477-1662681600-1662767999@www.tcsatl.org
SUMMARY:D Day
DESCRIPTION:
URL:https://www.tcsatl.org/event/d-day-2/
END:VEVENT
BEGIN:VEVENT
DTSTART;TZID=America/New_York:20220909T084500
DTEND;TZID=America/New_York:20220909T093000
DTSTAMP:20260423T022558
CREATED:20220901T181246Z
LAST-MODIFIED:20220908T182807Z
UID:10009458-1662713100-1662715800@www.tcsatl.org
SUMMARY:PA Outdoors Group Walk
DESCRIPTION:
URL:https://www.tcsatl.org/event/pa-outdoors-group-walk/
LOCATION:Piedmont Park – Charles Allen and 10th St.
END:VEVENT
BEGIN:VEVENT
DTSTART;TZID=America/New_York:20220909T151500
DTEND;TZID=America/New_York:20220909T161500
DTSTAMP:20260423T022558
CREATED:20220815T164152Z
LAST-MODIFIED:20220909T185844Z
UID:10008633-1662736500-1662740100@www.tcsatl.org
SUMMARY:Amazing Athletes
DESCRIPTION:
URL:https://www.tcsatl.org/event/amazing-athletes-28/
END:VEVENT
BEGIN:VEVENT
DTSTART;TZID=America/New_York:20220909T151500
DTEND;TZID=America/New_York:20220909T163000
DTSTAMP:20260423T022558
CREATED:20220815T171211Z
LAST-MODIFIED:20220909T175807Z
UID:10009252-1662736500-1662741000@www.tcsatl.org
SUMMARY:MAAC Girls Volleyball (6th - 8th)
DESCRIPTION:
URL:https://www.tcsatl.org/event/maac-girls-volleyball-6th-8th-12/
END:VEVENT
BEGIN:VEVENT
DTSTART;TZID=America/New_York:20220909T151500
DTEND;TZID=America/New_York:20220909T163000
DTSTAMP:20260423T022558
CREATED:20220815T171211Z
LAST-MODIFIED:20220909T175808Z
UID:10009264-1662736500-1662741000@www.tcsatl.org
SUMMARY:MAAC Boys & Girls Cross Country (6th-8th)
DESCRIPTION:
URL:https://www.tcsatl.org/event/maac-boys-girls-cross-country-6th-8th-12/
END:VEVENT
BEGIN:VEVENT
DTSTART;TZID=America/New_York:20220909T161500
DTEND;TZID=America/New_York:20220909T171500
DTSTAMP:20260423T022558
CREATED:20220815T164153Z
LAST-MODIFIED:20220909T185844Z
UID:10008634-1662740100-1662743700@www.tcsatl.org
SUMMARY:Intro to Ballet/Tap
DESCRIPTION:
URL:https://www.tcsatl.org/event/intro-to-ballet-tap-4/
END:VEVENT
BEGIN:VEVENT
DTSTART;VALUE=DATE:20220912
DTEND;VALUE=DATE:20220913
DTSTAMP:20260423T022558
CREATED:20220907T181428Z
LAST-MODIFIED:20220907T181428Z
UID:10009478-1662940800-1663027199@www.tcsatl.org
SUMMARY:E Day
DESCRIPTION:
URL:https://www.tcsatl.org/event/e-day/
END:VEVENT
BEGIN:VEVENT
DTSTART;VALUE=DATE:20220912
DTEND;VALUE=DATE:20220913
DTSTAMP:20260423T022558
CREATED:20220907T181428Z
LAST-MODIFIED:20220912T182804Z
UID:10009480-1662940800-1663027199@www.tcsatl.org
SUMMARY:E Day
DESCRIPTION:
URL:https://www.tcsatl.org/event/e-day-2/
END:VEVENT
BEGIN:VEVENT
DTSTART;TZID=America/New_York:20220912T151500
DTEND;TZID=America/New_York:20220912T161500
DTSTAMP:20260423T022558
CREATED:20220815T164153Z
LAST-MODIFIED:20220912T185812Z
UID:10008635-1662995700-1662999300@www.tcsatl.org
SUMMARY:Bricks4Kidz
DESCRIPTION:
URL:https://www.tcsatl.org/event/bricks4kidz-6/
END:VEVENT
BEGIN:VEVENT
DTSTART;TZID=America/New_York:20220912T151500
DTEND;TZID=America/New_York:20220912T163000
DTSTAMP:20260423T022558
CREATED:20220815T164153Z
LAST-MODIFIED:20220912T185812Z
UID:10008636-1662995700-1663000200@www.tcsatl.org
SUMMARY:TCS Players
DESCRIPTION:
URL:https://www.tcsatl.org/event/tcs-players-54/
END:VEVENT
BEGIN:VEVENT
DTSTART;TZID=America/New_York:20220912T151500
DTEND;TZID=America/New_York:20220912T163000
DTSTAMP:20260423T022558
CREATED:20220815T171211Z
LAST-MODIFIED:20220912T181533Z
UID:10009276-1662995700-1663000200@www.tcsatl.org
SUMMARY:MAAC Girls Volleyball (6th - 8th)
DESCRIPTION:
URL:https://www.tcsatl.org/event/maac-girls-volleyball-6th-8th-13/
END:VEVENT
BEGIN:VEVENT
DTSTART;TZID=America/New_York:20220912T151500
DTEND;TZID=America/New_York:20220912T163000
DTSTAMP:20260423T022558
CREATED:20220815T171212Z
LAST-MODIFIED:20220912T181533Z
UID:10009277-1662995700-1663000200@www.tcsatl.org
SUMMARY:Intramural Boys & Girls Cross Country (3rd-5th)
DESCRIPTION:
URL:https://www.tcsatl.org/event/intramural-boys-girls-cross-country-3rd-5th-9/
END:VEVENT
BEGIN:VEVENT
DTSTART;TZID=America/New_York:20220912T160000
DTEND;TZID=America/New_York:20220912T180000
DTSTAMP:20260423T022558
CREATED:20220809T171144Z
LAST-MODIFIED:20220912T181533Z
UID:10008561-1662998400-1663005600@www.tcsatl.org
SUMMARY:MAAC Girls & Boys Cross Country Meet - Chastain Park- 1 BUS
DESCRIPTION:
URL:https://www.tcsatl.org/event/maac-girls-boys-cross-country-meet-chastain-park-1-bus/
LOCATION:140 Chastain Park Ave. NW Atlanta\, GA 30342
END:VEVENT
BEGIN:VEVENT
DTSTART;TZID=America/New_York:20220912T160000
DTEND;TZID=America/New_York:20220912T180000
DTSTAMP:20260423T022558
CREATED:20220809T171144Z
LAST-MODIFIED:20220809T171144Z
UID:10008562-1662998400-1663005600@www.tcsatl.org
SUMMARY:MAAC Girls & Boys Cross Country Meet - Chastain Park- 1 BUS
DESCRIPTION:
URL:https://www.tcsatl.org/event/maac-girls-boys-cross-country-meet-chastain-park-1-bus-2/
LOCATION:140 Chastain Park Ave. NW Atlanta\, GA 30342
END:VEVENT
BEGIN:VEVENT
DTSTART;VALUE=DATE:20220913
DTEND;VALUE=DATE:20220914
DTSTAMP:20260423T022558
CREATED:20220907T181428Z
LAST-MODIFIED:20220913T183151Z
UID:10009485-1663027200-1663113599@www.tcsatl.org
SUMMARY:F Day
DESCRIPTION:
URL:https://www.tcsatl.org/event/f-day-2/
END:VEVENT
BEGIN:VEVENT
DTSTART;VALUE=DATE:20220913
DTEND;VALUE=DATE:20220914
DTSTAMP:20260423T022558
CREATED:20220907T181428Z
LAST-MODIFIED:20220907T181428Z
UID:10009483-1663027200-1663113599@www.tcsatl.org
SUMMARY:F Day
DESCRIPTION:
URL:https://www.tcsatl.org/event/f-day/
END:VEVENT
BEGIN:VEVENT
DTSTART;TZID=America/New_York:20220913T151500
DTEND;TZID=America/New_York:20220913T161500
DTSTAMP:20260423T022558
CREATED:20220815T164153Z
LAST-MODIFIED:20220913T185802Z
UID:10008637-1663082100-1663085700@www.tcsatl.org
SUMMARY:Percussion Ensemble
DESCRIPTION:
URL:https://www.tcsatl.org/event/percussion-ensemble-6/
END:VEVENT
BEGIN:VEVENT
DTSTART;TZID=America/New_York:20220913T151500
DTEND;TZID=America/New_York:20220913T163000
DTSTAMP:20260423T022558
CREATED:20220815T164153Z
LAST-MODIFIED:20220913T185803Z
UID:10008639-1663082100-1663086600@www.tcsatl.org
SUMMARY:TCS Jr. Voices
DESCRIPTION:
URL:https://www.tcsatl.org/event/tcs-jr-voices-2/
END:VEVENT
BEGIN:VEVENT
DTSTART;TZID=America/New_York:20220913T151500
DTEND;TZID=America/New_York:20220913T163000
DTSTAMP:20260423T022558
CREATED:20220815T171212Z
LAST-MODIFIED:20220913T183140Z
UID:10009284-1663082100-1663086600@www.tcsatl.org
SUMMARY:Intramural Co-Ed Tennis (3rd-5th)
DESCRIPTION:
URL:https://www.tcsatl.org/event/intramural-co-ed-tennis-3rd-5th-9/
END:VEVENT
BEGIN:VEVENT
DTSTART;TZID=America/New_York:20220913T151500
DTEND;TZID=America/New_York:20220913T163000
DTSTAMP:20260423T022558
CREATED:20220815T171212Z
LAST-MODIFIED:20220913T183140Z
UID:10009278-1663082100-1663086600@www.tcsatl.org
SUMMARY:MAAC Boys & Girls Cross Country (6th-8th)
DESCRIPTION:
URL:https://www.tcsatl.org/event/maac-boys-girls-cross-country-6th-8th-13/
END:VEVENT
BEGIN:VEVENT
DTSTART;TZID=America/New_York:20220913T151500
DTEND;TZID=America/New_York:20220913T163000
DTSTAMP:20260423T022558
CREATED:20220815T171212Z
LAST-MODIFIED:20220913T183140Z
UID:10009280-1663082100-1663086600@www.tcsatl.org
SUMMARY:Intramural Co-Ed Volleyball (3rd-5th)
DESCRIPTION:
URL:https://www.tcsatl.org/event/intramural-co-ed-volleyball-3rd-5th-9/
END:VEVENT
BEGIN:VEVENT
DTSTART;TZID=America/New_York:20220913T161500
DTEND;TZID=America/New_York:20220913T171500
DTSTAMP:20260423T022558
CREATED:20220815T164153Z
LAST-MODIFIED:20220913T185802Z
UID:10008638-1663085700-1663089300@www.tcsatl.org
SUMMARY:Intro to Drums
DESCRIPTION:
URL:https://www.tcsatl.org/event/intro-to-drums-6/
END:VEVENT
BEGIN:VEVENT
DTSTART;VALUE=DATE:20220914
DTEND;VALUE=DATE:20220915
DTSTAMP:20260423T022558
CREATED:20220907T181428Z
LAST-MODIFIED:20220914T182836Z
UID:10009488-1663113600-1663199999@www.tcsatl.org
SUMMARY:A Day
DESCRIPTION:
URL:https://www.tcsatl.org/event/a-day/
END:VEVENT
BEGIN:VEVENT
DTSTART;VALUE=DATE:20220914
DTEND;VALUE=DATE:20220915
DTSTAMP:20260423T022558
CREATED:20220907T181428Z
LAST-MODIFIED:20220907T181428Z
UID:10009490-1663113600-1663199999@www.tcsatl.org
SUMMARY:A Day
DESCRIPTION:
URL:https://www.tcsatl.org/event/a-day-2/
END:VEVENT
BEGIN:VEVENT
DTSTART;TZID=America/New_York:20220914T074500
DTEND;TZID=America/New_York:20220914T090000
DTSTAMP:20260423T022558
CREATED:20220815T171212Z
LAST-MODIFIED:20220913T183140Z
UID:10009286-1663141500-1663146000@www.tcsatl.org
SUMMARY:Intramural Co-Ed Volleyball (3rd - 5th)
DESCRIPTION:
URL:https://www.tcsatl.org/event/intramural-co-ed-volleyball-3rd-5th-10/
END:VEVENT
BEGIN:VEVENT
DTSTART;TZID=America/New_York:20220914T151500
DTEND;TZID=America/New_York:20220914T161500
DTSTAMP:20260423T022558
CREATED:20220815T164153Z
LAST-MODIFIED:20220914T185802Z
UID:10008641-1663168500-1663172100@www.tcsatl.org
SUMMARY:TCS Jr. Players
DESCRIPTION:
URL:https://www.tcsatl.org/event/tcs-jr-players-32/
END:VEVENT
BEGIN:VEVENT
DTSTART;TZID=America/New_York:20220914T151500
DTEND;TZID=America/New_York:20220914T163000
DTSTAMP:20260423T022558
CREATED:20220815T164153Z
LAST-MODIFIED:20220914T185802Z
UID:10008640-1663168500-1663173000@www.tcsatl.org
SUMMARY:TCS Players
DESCRIPTION:
URL:https://www.tcsatl.org/event/tcs-players-55/
END:VEVENT
BEGIN:VEVENT
DTSTART;TZID=America/New_York:20220914T151500
DTEND;TZID=America/New_York:20220914T163000
DTSTAMP:20260423T022558
CREATED:20220815T171212Z
LAST-MODIFIED:20220914T184314Z
UID:10009291-1663168500-1663173000@www.tcsatl.org
SUMMARY:MAAC Boys & Girls Cross Country (6th-8th)
DESCRIPTION:
URL:https://www.tcsatl.org/event/maac-boys-girls-cross-country-6th-8th-14/
END:VEVENT
BEGIN:VEVENT
DTSTART;TZID=America/New_York:20220914T151500
DTEND;TZID=America/New_York:20220914T163000
DTSTAMP:20260423T022558
CREATED:20220815T171212Z
LAST-MODIFIED:20220914T184314Z
UID:10009288-1663168500-1663173000@www.tcsatl.org
SUMMARY:Intramural Co-Ed Tennis (3rd-5th)
DESCRIPTION:
URL:https://www.tcsatl.org/event/intramural-co-ed-tennis-3rd-5th-10/
END:VEVENT
END:VCALENDAR