BEGIN:VCALENDAR
VERSION:2.0
PRODID:-//The Children&#039;s School - ECPv6.15.15//NONSGML v1.0//EN
CALSCALE:GREGORIAN
METHOD:PUBLISH
X-WR-CALNAME:The Children&#039;s School
X-ORIGINAL-URL:https://www.tcsatl.org
X-WR-CALDESC:Events for The Children&#039;s School
REFRESH-INTERVAL;VALUE=DURATION:PT1H
X-Robots-Tag:noindex
X-PUBLISHED-TTL:PT1H
BEGIN:VTIMEZONE
TZID:America/New_York
BEGIN:DAYLIGHT
TZOFFSETFROM:-0500
TZOFFSETTO:-0400
TZNAME:EDT
DTSTART:20230312T070000
END:DAYLIGHT
BEGIN:STANDARD
TZOFFSETFROM:-0400
TZOFFSETTO:-0500
TZNAME:EST
DTSTART:20231105T060000
END:STANDARD
BEGIN:DAYLIGHT
TZOFFSETFROM:-0500
TZOFFSETTO:-0400
TZNAME:EDT
DTSTART:20240310T070000
END:DAYLIGHT
BEGIN:STANDARD
TZOFFSETFROM:-0400
TZOFFSETTO:-0500
TZNAME:EST
DTSTART:20241103T060000
END:STANDARD
BEGIN:DAYLIGHT
TZOFFSETFROM:-0500
TZOFFSETTO:-0400
TZNAME:EDT
DTSTART:20250309T070000
END:DAYLIGHT
BEGIN:STANDARD
TZOFFSETFROM:-0400
TZOFFSETTO:-0500
TZNAME:EST
DTSTART:20251102T060000
END:STANDARD
END:VTIMEZONE
BEGIN:VEVENT
DTSTART;TZID=America/New_York:20241007T164500
DTEND;TZID=America/New_York:20241007T184500
DTSTAMP:20260421T220747
CREATED:20240916T232948Z
LAST-MODIFIED:20241007T185947Z
UID:10011360-1728319500-1728326700@www.tcsatl.org
SUMMARY:AWAY MEET - MAAC Girls and Boys Cross Country - Brook Run
DESCRIPTION:
URL:https://www.tcsatl.org/event/away-meet-maac-girls-and-boys-cross-country-brook-run-2/
LOCATION:4770 N Peachtree Rd\, Atlanta\, GA\, United States
GEO:33.946213;-84.334647
END:VEVENT
BEGIN:VEVENT
DTSTART;TZID=America/New_York:20241007T160000
DTEND;TZID=America/New_York:20241007T180000
DTSTAMP:20260421T220748
CREATED:20240806T181445Z
LAST-MODIFIED:20241007T185946Z
UID:10010604-1728316800-1728324000@www.tcsatl.org
SUMMARY:HOME GAME - MAAC Girls Volleyball Match vs Atlanta Jewish Academy - GYM
DESCRIPTION:
URL:https://www.tcsatl.org/event/home-game-maac-girls-volleyball-match-vs-atlanta-jewish-academy-gym/
END:VEVENT
BEGIN:VEVENT
DTSTART;TZID=America/New_York:20241007T154500
DTEND;TZID=America/New_York:20241007T170000
DTSTAMP:20260421T220748
CREATED:20240812T184507Z
LAST-MODIFIED:20241007T185946Z
UID:10010714-1728315900-1728320400@www.tcsatl.org
SUMMARY:MAAC Co-Ed Ultimate Frisbee
DESCRIPTION:Carpool 5:00-5:15 PM
URL:https://www.tcsatl.org/event/maac-co-ed-ultimate-frisbee-22/
END:VEVENT
BEGIN:VEVENT
DTSTART;TZID=America/New_York:20241007T154500
DTEND;TZID=America/New_York:20241007T170000
DTSTAMP:20260421T220748
CREATED:20240812T184506Z
LAST-MODIFIED:20241007T185946Z
UID:10010712-1728315900-1728320400@www.tcsatl.org
SUMMARY:MAAC Girls Volleyball
DESCRIPTION:Carpool 5:00- 5:15 PM
URL:https://www.tcsatl.org/event/maac-girls-volleyball-139/
END:VEVENT
BEGIN:VEVENT
DTSTART;TZID=America/New_York:20241007T154500
DTEND;TZID=America/New_York:20241007T164500
DTSTAMP:20260421T220748
CREATED:20240812T184507Z
LAST-MODIFIED:20241007T185945Z
UID:10010713-1728315900-1728319500@www.tcsatl.org
SUMMARY:Intramural Girls & Boys Cross Country
DESCRIPTION:Carpool 4:45-5:00 PM
URL:https://www.tcsatl.org/event/intramural-girls-boys-cross-country-37/
END:VEVENT
BEGIN:VEVENT
DTSTART;VALUE=DATE:20241007
DTEND;VALUE=DATE:20241008
DTSTAMP:20260421T220748
CREATED:20240829T171448Z
LAST-MODIFIED:20241007T155942Z
UID:10011205-1728259200-1728345599@www.tcsatl.org
SUMMARY:A Day
DESCRIPTION:
URL:https://www.tcsatl.org/event/a-day-32/
END:VEVENT
BEGIN:VEVENT
DTSTART;TZID=America/New_York:20241004T161500
DTEND;TZID=America/New_York:20241004T181500
DTSTAMP:20260421T220748
CREATED:20240806T181444Z
LAST-MODIFIED:20241004T181444Z
UID:10010602-1728058500-1728065700@www.tcsatl.org
SUMMARY:AWAY GAME- MAAC Co-Ed Ultimate Frisbee vs Arbor Montessori School
DESCRIPTION:
URL:https://www.tcsatl.org/event/away-game-maac-co-ed-ultimate-frisbee-vs-arbor-montessori-school/
LOCATION:Shallowford Presbyterian Church\, 2375 Shallowford Rd NE\, Atlanta\, GA\, United States
GEO:33.856984;-84.282732
X-APPLE-STRUCTURED-LOCATION;VALUE=URI;X-ADDRESS=Shallowford Presbyterian Church 2375 Shallowford Rd NE Atlanta GA United States;X-APPLE-RADIUS=500;X-TITLE=2375 Shallowford Rd NE:geo:-84.282732,33.856984
END:VEVENT
BEGIN:VEVENT
DTSTART;TZID=America/New_York:20241004T160000
DTEND;TZID=America/New_York:20241004T170000
DTSTAMP:20260421T220748
CREATED:20240806T181445Z
LAST-MODIFIED:20241004T181445Z
UID:10010603-1728057600-1728061200@www.tcsatl.org
SUMMARY:HOME GAME - MAAC Girls Volleyball Match vs Friends School of ATL - GYM
DESCRIPTION:
URL:https://www.tcsatl.org/event/home-game-maac-girls-volleyball-match-vs-friends-school-of-atl-gym/
END:VEVENT
BEGIN:VEVENT
DTSTART;TZID=America/New_York:20241004T154500
DTEND;TZID=America/New_York:20241004T170000
DTSTAMP:20260421T220748
CREATED:20240812T184506Z
LAST-MODIFIED:20241004T181445Z
UID:10010711-1728056700-1728061200@www.tcsatl.org
SUMMARY:MAAC Girls Volleyball
DESCRIPTION:Carpool 5:00- 5:15 PM
URL:https://www.tcsatl.org/event/maac-girls-volleyball-138/
END:VEVENT
BEGIN:VEVENT
DTSTART;TZID=America/New_York:20241004T154500
DTEND;TZID=America/New_York:20241004T170000
DTSTAMP:20260421T220748
CREATED:20240812T184505Z
LAST-MODIFIED:20241004T181446Z
UID:10010709-1728056700-1728061200@www.tcsatl.org
SUMMARY:MAAC Girls and Boys Cross Country
DESCRIPTION:Carpool 5:00-5:15 PM
URL:https://www.tcsatl.org/event/maac-girls-and-boys-cross-country-21/
END:VEVENT
BEGIN:VEVENT
DTSTART;TZID=America/New_York:20241004T154500
DTEND;TZID=America/New_York:20241004T170000
DTSTAMP:20260421T220748
CREATED:20240812T184505Z
LAST-MODIFIED:20241004T181445Z
UID:10010710-1728056700-1728061200@www.tcsatl.org
SUMMARY:MAAC Co-Ed Ultimate Frisbee
DESCRIPTION:Carpool 5:00-5:15 PM
URL:https://www.tcsatl.org/event/maac-co-ed-ultimate-frisbee-21/
END:VEVENT
BEGIN:VEVENT
DTSTART;VALUE=DATE:20241004
DTEND;VALUE=DATE:20241005
DTSTAMP:20260421T220748
CREATED:20240829T171447Z
LAST-MODIFIED:20241004T151443Z
UID:10011203-1728000000-1728086399@www.tcsatl.org
SUMMARY:F Day
DESCRIPTION:
URL:https://www.tcsatl.org/event/f-day-31/
END:VEVENT
BEGIN:VEVENT
DTSTART;TZID=America/New_York:20241003T154500
DTEND;TZID=America/New_York:20241003T170000
DTSTAMP:20260421T220748
CREATED:20240812T184504Z
LAST-MODIFIED:20241003T175947Z
UID:10010706-1727970300-1727974800@www.tcsatl.org
SUMMARY:MAAC Co-Ed Ultimate Frisbee
DESCRIPTION:Carpool 5:00-5:15 PM
URL:https://www.tcsatl.org/event/maac-co-ed-ultimate-frisbee-20/
END:VEVENT
BEGIN:VEVENT
DTSTART;TZID=America/New_York:20241003T154500
DTEND;TZID=America/New_York:20241003T170000
DTSTAMP:20260421T220748
CREATED:20240812T184504Z
LAST-MODIFIED:20241003T175947Z
UID:10010707-1727970300-1727974800@www.tcsatl.org
SUMMARY:MAAC Girls Volleyball
DESCRIPTION:Carpool 5:00- 5:15 PM
URL:https://www.tcsatl.org/event/maac-girls-volleyball-137/
END:VEVENT
BEGIN:VEVENT
DTSTART;TZID=America/New_York:20241003T154500
DTEND;TZID=America/New_York:20241003T164500
DTSTAMP:20260421T220748
CREATED:20240812T184505Z
LAST-MODIFIED:20241003T175946Z
UID:10010708-1727970300-1727973900@www.tcsatl.org
SUMMARY:Intramural Girls & Boys Cross Country
DESCRIPTION:Carpool 4:45-5:00 PM
URL:https://www.tcsatl.org/event/intramural-girls-boys-cross-country-36/
END:VEVENT
BEGIN:VEVENT
DTSTART;VALUE=DATE:20241003
DTEND;VALUE=DATE:20241004
DTSTAMP:20260421T220748
CREATED:20240613T163258Z
LAST-MODIFIED:20241003T151441Z
UID:10010573-1727913600-1727999999@www.tcsatl.org
SUMMARY:SCHOOL CLOSED - Rosh Hashanah - TCS
DESCRIPTION:
URL:https://www.tcsatl.org/event/school-closed-rosh-hashanah-tcs/
END:VEVENT
BEGIN:VEVENT
DTSTART;TZID=America/New_York:20241002T154500
DTEND;TZID=America/New_York:20241002T170000
DTSTAMP:20260421T220748
CREATED:20240812T184504Z
LAST-MODIFIED:20241002T174501Z
UID:10010705-1727883900-1727888400@www.tcsatl.org
SUMMARY:MAAC Girls and Boys Cross Country
DESCRIPTION:Carpool 5:00-5:15 PM
URL:https://www.tcsatl.org/event/maac-girls-and-boys-cross-country-20/
END:VEVENT
BEGIN:VEVENT
DTSTART;TZID=America/New_York:20241002T151500
DTEND;TZID=America/New_York:20241002T163000
DTSTAMP:20260421T220748
CREATED:20240812T184504Z
LAST-MODIFIED:20241002T174501Z
UID:10010704-1727882100-1727886600@www.tcsatl.org
SUMMARY:Intramural Co-Ed Tennis
DESCRIPTION:Carpool 4:40-4:55 PM
URL:https://www.tcsatl.org/event/intramural-co-ed-tennis-14/
END:VEVENT
BEGIN:VEVENT
DTSTART;TZID=America/New_York:20241002T074500
DTEND;TZID=America/New_York:20241002T090000
DTSTAMP:20260421T220748
CREATED:20240812T184503Z
LAST-MODIFIED:20241001T174445Z
UID:10010703-1727855100-1727859600@www.tcsatl.org
SUMMARY:Intramural Co-Ed Volleyball
DESCRIPTION:
URL:https://www.tcsatl.org/event/intramural-co-ed-volleyball-35/
END:VEVENT
BEGIN:VEVENT
DTSTART;VALUE=DATE:20241002
DTEND;VALUE=DATE:20241003
DTSTAMP:20260421T220748
CREATED:20240829T171447Z
LAST-MODIFIED:20241002T151442Z
UID:10011201-1727827200-1727913599@www.tcsatl.org
SUMMARY:E Day
DESCRIPTION:
URL:https://www.tcsatl.org/event/e-day-33/
END:VEVENT
BEGIN:VEVENT
DTSTART;TZID=America/New_York:20241001T164500
DTEND;TZID=America/New_York:20241001T184500
DTSTAMP:20260421T220748
CREATED:20240916T232947Z
LAST-MODIFIED:20241001T174445Z
UID:10011359-1727801100-1727808300@www.tcsatl.org
SUMMARY:AWAY MEET - MAAC Girls and Boys Cross Country - Chastain Park
DESCRIPTION:
URL:https://www.tcsatl.org/event/away-meet-maac-girls-and-boys-cross-country-chastain-park/
LOCATION:4001 Powers Ferry Rd NW\, Atlanta\, GA\, United States
GEO:33.881052;-84.379476
END:VEVENT
BEGIN:VEVENT
DTSTART;TZID=America/New_York:20241001T154500
DTEND;TZID=America/New_York:20241001T170000
DTSTAMP:20260421T220748
CREATED:20240812T184503Z
LAST-MODIFIED:20241001T174443Z
UID:10010701-1727797500-1727802000@www.tcsatl.org
SUMMARY:MAAC Girls and Boys Cross Country
DESCRIPTION:Carpool 5:00-5:15 PM
URL:https://www.tcsatl.org/event/maac-girls-and-boys-cross-country-19/
END:VEVENT
BEGIN:VEVENT
DTSTART;TZID=America/New_York:20241001T154500
DTEND;TZID=America/New_York:20241001T164500
DTSTAMP:20260421T220748
CREATED:20240812T184503Z
LAST-MODIFIED:20241001T174444Z
UID:10010702-1727797500-1727801100@www.tcsatl.org
SUMMARY:Intramural Co-Ed Volleyball
DESCRIPTION:Carpool 4:45-5:00 PM
URL:https://www.tcsatl.org/event/intramural-co-ed-volleyball-34/
END:VEVENT
BEGIN:VEVENT
DTSTART;TZID=America/New_York:20241001T151500
DTEND;TZID=America/New_York:20241001T163000
DTSTAMP:20260421T220748
CREATED:20240812T184501Z
LAST-MODIFIED:20241001T174443Z
UID:10010700-1727795700-1727800200@www.tcsatl.org
SUMMARY:Intramural Co-Ed Tennis
DESCRIPTION:Carpool 4:40-4:55 PM
URL:https://www.tcsatl.org/event/intramural-co-ed-tennis-13/
END:VEVENT
BEGIN:VEVENT
DTSTART;TZID=America/New_York:20241001T120000
DTEND;TZID=America/New_York:20241001T130000
DTSTAMP:20260421T220748
CREATED:20240903T174444Z
LAST-MODIFIED:20241001T151444Z
UID:10011334-1727784000-1727787600@www.tcsatl.org
SUMMARY:Roz's Book Club: Raising Kids - via ZOOM
DESCRIPTION:Join Head of School Roslyn Benjamin and Sheri Glucoft Wong and Olaf Jorgenson\, both of the authors of “Raising Kids: Your Essential Guide to Every Day Parenting\,” on Tues.\, Oct. 1\, 12:00 – 1:00 p.m.\, to discuss the book via Zoom. \nClick here for the Zoom link. \n \nConfirmed \n \n1.  \nSubmitted By: Roz B.  \nSubmitted On: 09/012024 \nDates: 10/01/2024 \nStart Time: 12:00 PM \nEnd Time: 01:00 PM \nRecurring Dates:  \n \nEvent: Roz’s Book Club: Raising Kids \nEstimated Attendance: 20 \n \nLocation: Zoom \nRain Location:  \nRain Date:  \n \nRehearsal Dates:  \n         \n                     \nR: Christie P. \nA: Roz B.   \nC: Exec Team\, Program Team\, Advancement Team.  \n I: All faculty and staff \n \nROS:  \n \nA/V Needs \n     \n    Event Setup:  \n    Breakdown:  \n \n     \n    Notes:   \n \nMaintenance Needs \n \nEvent Diagram:  \n    Event Setup: \n    Breakdown:   \n     \n     \n    NOTES:
URL:https://www.tcsatl.org/event/rozs-book-club-raising-kids-via-zoom/
END:VEVENT
BEGIN:VEVENT
DTSTART;VALUE=DATE:20241001
DTEND;VALUE=DATE:20241002
DTSTAMP:20260421T220748
CREATED:20240829T171447Z
LAST-MODIFIED:20241001T151444Z
UID:10011202-1727740800-1727827199@www.tcsatl.org
SUMMARY:D Day
DESCRIPTION:
URL:https://www.tcsatl.org/event/d-day-31/
END:VEVENT
BEGIN:VEVENT
DTSTART;TZID=America/New_York:20240930T161500
DTEND;TZID=America/New_York:20240930T181500
DTSTAMP:20260421T220748
CREATED:20240916T232946Z
LAST-MODIFIED:20240930T172755Z
UID:10011358-1727712900-1727720100@www.tcsatl.org
SUMMARY:HOME GAME - MAAC Girls Volleyball vs Atlanta Jewish Academy - TCS
DESCRIPTION:
URL:https://www.tcsatl.org/event/home-game-maac-girls-volleyball-vs-atlanta-jewish-academy-tcs/
END:VEVENT
BEGIN:VEVENT
DTSTART;TZID=America/New_York:20240930T154500
DTEND;TZID=America/New_York:20240930T170000
DTSTAMP:20260421T220748
CREATED:20240812T184501Z
LAST-MODIFIED:20240930T172754Z
UID:10010698-1727711100-1727715600@www.tcsatl.org
SUMMARY:MAAC Co-Ed Ultimate Frisbee
DESCRIPTION:Carpool 5:00-5:15 PM
URL:https://www.tcsatl.org/event/maac-co-ed-ultimate-frisbee-19/
END:VEVENT
BEGIN:VEVENT
DTSTART;TZID=America/New_York:20240930T154500
DTEND;TZID=America/New_York:20240930T170000
DTSTAMP:20260421T220748
CREATED:20240812T184501Z
LAST-MODIFIED:20240930T172754Z
UID:10010699-1727711100-1727715600@www.tcsatl.org
SUMMARY:MAAC Girls Volleyball
DESCRIPTION:Carpool 5:00- 5:15 PM
URL:https://www.tcsatl.org/event/maac-girls-volleyball-136/
END:VEVENT
BEGIN:VEVENT
DTSTART;TZID=America/New_York:20240930T154500
DTEND;TZID=America/New_York:20240930T164500
DTSTAMP:20260421T220748
CREATED:20240812T184501Z
LAST-MODIFIED:20240930T172754Z
UID:10010697-1727711100-1727714700@www.tcsatl.org
SUMMARY:Intramural Girls & Boys Cross Country
DESCRIPTION:Carpool 4:45-5:00 PM
URL:https://www.tcsatl.org/event/intramural-girls-boys-cross-country-35/
END:VEVENT
END:VCALENDAR